xen-devel.lists.xenproject.org archive mirror
 help / color / mirror / Atom feed
* [xen-unstable-coverity test] 129406: all pass - PUSHED
@ 2018-11-04 10:04 osstest service owner
  0 siblings, 0 replies; only message in thread
From: osstest service owner @ 2018-11-04 10:04 UTC (permalink / raw)
  To: xen-devel, osstest-admin

flight 129406 xen-unstable-coverity real [real]
http://logs.test-lab.xenproject.org/osstest/logs/129406/

Perfect :-)
All tests in this flight passed as required
version targeted for testing:
 xen                  2cf113891a38cc05434bc9876ffc107a990887be
baseline version:
 xen                  8e751ac59cfd1143d095c45927ba1bec0d441ee4

Last test of basis   129228  2018-10-31 09:18:51 Z    4 days
Testing same since   129406  2018-11-04 09:18:44 Z    0 days    1 attempts

------------------------------------------------------------
People who touched revisions under test:
  Alexandru Isaila <aisaila@bitdefender.com>
  Andrew Cooper <andrew.cooper3@citrix.com>
  Brian Woods <brian.woods@amd.com>
  Christian Lindig <christian.lindig@citrix.com>
  George Dunlap <george.dunlap@citrix.com>
  Ian Jackson <ian.jackson@eu.citrix.com>
  Jan Beulich <jbeulich@suse.com>
  Kevin Tian <kevin.tian@intel.com>
  Marek Marczykowski-Górecki <marmarek@invisiblethingslab.com>
  Paul Durrant <paul.durrant@citrix.com>
  Razvan Cojocaru <rcojocaru@bitdefender.com>
  Roger Pau Monné <roger.pau@citrix.com>
  Wei Liu <wei.liu2@citrix.com>

jobs:
 coverity-amd64                                               pass    


------------------------------------------------------------
sg-report-flight on osstest.test-lab.xenproject.org
logs: /home/logs/logs
images: /home/logs/images

Logs, config files, etc. are available at
    http://logs.test-lab.xenproject.org/osstest/logs

Explanation of these reports, and of osstest in general, is at
    http://xenbits.xen.org/gitweb/?p=osstest.git;a=blob;f=README.email;hb=master
    http://xenbits.xen.org/gitweb/?p=osstest.git;a=blob;f=README;hb=master

Test harness code can be found at
    http://xenbits.xen.org/gitweb?p=osstest.git;a=summary


Pushing revision :

To xenbits.xen.org:/home/xen/git/xen.git
   8e751ac59c..2cf113891a  2cf113891a38cc05434bc9876ffc107a990887be -> coverity-tested/smoke

_______________________________________________
Xen-devel mailing list
Xen-devel@lists.xenproject.org
https://lists.xenproject.org/mailman/listinfo/xen-devel

^ permalink raw reply	[flat|nested] only message in thread

only message in thread, other threads:[~2018-11-04 10:04 UTC | newest]

Thread overview: (only message) (download: mbox.gz follow: Atom feed
-- links below jump to the message on this page --
2018-11-04 10:04 [xen-unstable-coverity test] 129406: all pass - PUSHED osstest service owner

This is a public inbox, see mirroring instructions
for how to clone and mirror all data and code used for this inbox;
as well as URLs for NNTP newsgroup(s).