From mboxrd@z Thu Jan 1 00:00:00 1970 From: xen.org Subject: [xen-unstable test] 13563: trouble: preparing/queued Date: Mon, 6 Aug 2012 12:38:40 +0100 Message-ID: Mime-Version: 1.0 Content-Type: text/plain; charset="us-ascii" Content-Transfer-Encoding: 7bit Return-path: List-Unsubscribe: , List-Post: List-Help: List-Subscribe: , Sender: xen-devel-bounces@lists.xen.org Errors-To: xen-devel-bounces@lists.xen.org To: xen-devel@lists.xensource.com Cc: ian.jackson@eu.citrix.com List-Id: xen-devel@lists.xenproject.org flight 13563 xen-unstable running [real] http://www.chiark.greenend.org.uk/~xensrcts/logs/13563/ Failures and problems with tests :-( Tests which did not succeed and are blocking, including tests which could not be run: test-amd64-amd64-xl-pcipt-intel queued test-amd64-amd64-pv queued test-amd64-i386-pv queued test-amd64-i386-rhel6hvm-amd queued test-amd64-amd64-xl queued test-amd64-i386-qemuu-rhel6hvm-amd queued test-i386-i386-xl queued test-amd64-i386-xl-multivcpu queued test-amd64-i386-xl-credit2 queued test-amd64-amd64-xl-sedf-pin queued test-amd64-i386-xl queued test-amd64-i386-qemuu-rhel6hvm-intel queued test-i386-i386-pair queued test-amd64-amd64-xl-qemuu-winxpsp3 queued test-amd64-i386-pair queued test-i386-i386-xl-qemuu-winxpsp3 queued test-amd64-i386-xend-winxpsp3 queued test-amd64-amd64-xl-qemuu-win7-amd64 queued test-amd64-i386-rhel6hvm-intel queued test-amd64-amd64-win queued test-i386-i386-pv queued test-amd64-amd64-xl-sedf queued test-amd64-i386-win-vcpus1 queued test-amd64-amd64-xl-winxpsp3 queued test-amd64-i386-xl-win7-amd64 queued test-i386-i386-xl-winxpsp3 queued test-amd64-amd64-xl-win7-amd64 queued build-i386-pvops 1 hosts-allocate running [st=running!] build-i386-oldkern 1 hosts-allocate running [st=running!] build-amd64-oldkern 1 hosts-allocate running [st=running!] build-amd64 1 hosts-allocate running [st=running!] test-amd64-i386-xl-winxpsp3-vcpus1 queued test-amd64-i386-win queued build-amd64-pvops 1 hosts-allocate running [st=running!] build-i386 1 hosts-allocate running [st=running!] test-amd64-amd64-pair queued test-i386-i386-win queued test-i386-i386-xl-win queued test-amd64-i386-xl-win-vcpus1 queued test-amd64-amd64-xl-win queued version targeted for testing: xen 353bc0801b11 baseline version: xen 3d17148e465c ------------------------------------------------------------ People who touched revisions under test: Christoph Egger Dario Faggioli David Vrabel Fabio Fantoni Ian Campbell Ian Campbell Ian Jackson Jan Beulich Keir Fraser Olaf Hering Roger Pau Monne Santosh Jodh Tim Deegan ------------------------------------------------------------ jobs: build-amd64 preparing build-i386 preparing build-amd64-oldkern preparing build-i386-oldkern preparing build-amd64-pvops preparing build-i386-pvops preparing test-amd64-amd64-xl queued test-amd64-i386-xl queued test-i386-i386-xl queued test-amd64-i386-rhel6hvm-amd queued test-amd64-i386-qemuu-rhel6hvm-amd queued test-amd64-amd64-xl-qemuu-win7-amd64 queued test-amd64-amd64-xl-win7-amd64 queued test-amd64-i386-xl-win7-amd64 queued test-amd64-i386-xl-credit2 queued test-amd64-amd64-xl-pcipt-intel queued test-amd64-i386-rhel6hvm-intel queued test-amd64-i386-qemuu-rhel6hvm-intel queued test-amd64-i386-xl-multivcpu queued test-amd64-amd64-pair queued test-amd64-i386-pair queued test-i386-i386-pair queued test-amd64-amd64-xl-sedf-pin queued test-amd64-amd64-pv queued test-amd64-i386-pv queued test-i386-i386-pv queued test-amd64-amd64-xl-sedf queued test-amd64-i386-win-vcpus1 queued test-amd64-i386-xl-win-vcpus1 queued test-amd64-i386-xl-winxpsp3-vcpus1 queued test-amd64-amd64-win queued test-amd64-i386-win queued test-i386-i386-win queued test-amd64-amd64-xl-win queued test-i386-i386-xl-win queued test-amd64-amd64-xl-qemuu-winxpsp3 queued test-i386-i386-xl-qemuu-winxpsp3 queued test-amd64-i386-xend-winxpsp3 queued test-amd64-amd64-xl-winxpsp3 queued test-i386-i386-xl-winxpsp3 queued ------------------------------------------------------------ sg-report-flight on woking.cam.xci-test.com logs: /home/xc_osstest/logs images: /home/xc_osstest/images Logs, config files, etc. are available at http://www.chiark.greenend.org.uk/~xensrcts/logs Test harness code can be found at http://xenbits.xensource.com/gitweb?p=osstest.git;a=summary Not pushing. (No revision log; it would be 835 lines long.)