From mboxrd@z Thu Jan 1 00:00:00 1970 From: xen.org Subject: [xen-4.1-testing test] 14629: trouble: blocked/broken Date: Sat, 8 Dec 2012 20:01:07 +0000 Message-ID: Mime-Version: 1.0 Content-Type: text/plain; charset="us-ascii" Content-Transfer-Encoding: 7bit Return-path: List-Unsubscribe: , List-Post: List-Help: List-Subscribe: , Sender: xen-devel-bounces@lists.xen.org Errors-To: xen-devel-bounces@lists.xen.org To: xen-devel@lists.xensource.com Cc: ian.jackson@eu.citrix.com List-Id: xen-devel@lists.xenproject.org flight 14629 xen-4.1-testing real [real] http://www.chiark.greenend.org.uk/~xensrcts/logs/14629/ Failures and problems with tests :-( Tests which did not succeed and are blocking, including tests which could not be run: build-amd64 2 host-install(2) broken REGR. vs. 14566 build-i386-pvops 2 host-install(2) broken REGR. vs. 14566 build-amd64-pvops 2 host-install(2) broken REGR. vs. 14566 build-i386-oldkern 2 host-install(2) broken REGR. vs. 14566 build-amd64-oldkern 2 host-install(2) broken REGR. vs. 14566 build-i386 2 host-install(2) broken REGR. vs. 14566 Tests which did not succeed, but are not blocking: test-amd64-amd64-xl-pcipt-intel 1 xen-build-check(1) blocked n/a test-amd64-i386-pv 1 xen-build-check(1) blocked n/a test-amd64-i386-qemut-rhel6hvm-amd 1 xen-build-check(1) blocked n/a test-amd64-i386-qemuu-rhel6hvm-amd 1 xen-build-check(1) blocked n/a test-amd64-amd64-pv 1 xen-build-check(1) blocked n/a test-amd64-i386-qemuu-rhel6hvm-intel 1 xen-build-check(1) blocked n/a test-amd64-i386-rhel6hvm-intel 1 xen-build-check(1) blocked n/a test-amd64-amd64-xl 1 xen-build-check(1) blocked n/a test-i386-i386-xl 1 xen-build-check(1) blocked n/a test-amd64-i386-pair 1 xen-build-check(1) blocked n/a test-amd64-i386-xl 1 xen-build-check(1) blocked n/a test-i386-i386-pv 1 xen-build-check(1) blocked n/a test-amd64-amd64-xl-sedf 1 xen-build-check(1) blocked n/a test-amd64-i386-xl-credit2 1 xen-build-check(1) blocked n/a test-i386-i386-pair 1 xen-build-check(1) blocked n/a test-amd64-i386-xl-multivcpu 1 xen-build-check(1) blocked n/a test-amd64-i386-rhel6hvm-amd 1 xen-build-check(1) blocked n/a test-amd64-amd64-pair 1 xen-build-check(1) blocked n/a test-amd64-amd64-win 1 xen-build-check(1) blocked n/a test-i386-i386-xl-qemut-win 1 xen-build-check(1) blocked n/a test-amd64-i386-xl-qemut-win7-amd64 1 xen-build-check(1) blocked n/a test-i386-i386-xl-win 1 xen-build-check(1) blocked n/a test-amd64-i386-xend-qemut-winxpsp3 1 xen-build-check(1) blocked n/a test-i386-i386-win 1 xen-build-check(1) blocked n/a test-amd64-i386-xl-qemut-win-vcpus1 1 xen-build-check(1) blocked n/a test-amd64-amd64-xl-qemuu-win7-amd64 1 xen-build-check(1) blocked n/a test-amd64-amd64-xl-win7-amd64 1 xen-build-check(1) blocked n/a test-amd64-amd64-xl-qemut-win7-amd64 1 xen-build-check(1) blocked n/a test-amd64-i386-qemut-win-vcpus1 1 xen-build-check(1) blocked n/a test-amd64-amd64-xl-winxpsp3 1 xen-build-check(1) blocked n/a test-amd64-i386-xl-win-vcpus1 1 xen-build-check(1) blocked n/a test-amd64-i386-xl-win7-amd64 1 xen-build-check(1) blocked n/a test-amd64-i386-win-vcpus1 1 xen-build-check(1) blocked n/a test-amd64-amd64-xl-sedf-pin 1 xen-build-check(1) blocked n/a test-amd64-i386-qemut-rhel6hvm-intel 1 xen-build-check(1) blocked n/a test-amd64-i386-xl-winxpsp3-vcpus1 1 xen-build-check(1) blocked n/a test-amd64-i386-win 1 xen-build-check(1) blocked n/a test-amd64-i386-xend-winxpsp3 1 xen-build-check(1) blocked n/a test-amd64-amd64-xl-win 1 xen-build-check(1) blocked n/a test-amd64-amd64-xl-qemut-win 1 xen-build-check(1) blocked n/a test-amd64-amd64-qemut-win 1 xen-build-check(1) blocked n/a test-amd64-i386-xl-qemut-winxpsp3-vcpus1 1 xen-build-check(1) blocked n/a test-i386-i386-qemut-win 1 xen-build-check(1) blocked n/a test-amd64-i386-qemut-win 1 xen-build-check(1) blocked n/a test-i386-i386-xl-winxpsp3 1 xen-build-check(1) blocked n/a test-amd64-amd64-xl-qemut-winxpsp3 1 xen-build-check(1) blocked n/a test-amd64-amd64-xl-qemuu-winxpsp3 1 xen-build-check(1) blocked n/a test-i386-i386-xl-qemut-winxpsp3 1 xen-build-check(1) blocked n/a test-i386-i386-xl-qemuu-winxpsp3 1 xen-build-check(1) blocked n/a version targeted for testing: xen 309ff3ad9dcc baseline version: xen a8a9e1c126ea ------------------------------------------------------------ People who touched revisions under test: Ian Campbell Ian Jackson Ian Jackson Jan Beulich Keir Fraser Kouya Shimura Tim Deegan ------------------------------------------------------------ jobs: build-amd64 broken build-i386 broken build-amd64-oldkern broken build-i386-oldkern broken build-amd64-pvops broken build-i386-pvops broken test-amd64-amd64-xl blocked test-amd64-i386-xl blocked test-i386-i386-xl blocked test-amd64-i386-rhel6hvm-amd blocked test-amd64-i386-qemut-rhel6hvm-amd blocked test-amd64-i386-qemuu-rhel6hvm-amd blocked test-amd64-amd64-xl-qemut-win7-amd64 blocked test-amd64-i386-xl-qemut-win7-amd64 blocked test-amd64-amd64-xl-qemuu-win7-amd64 blocked test-amd64-amd64-xl-win7-amd64 blocked test-amd64-i386-xl-win7-amd64 blocked test-amd64-i386-xl-credit2 blocked test-amd64-amd64-xl-pcipt-intel blocked test-amd64-i386-rhel6hvm-intel blocked test-amd64-i386-qemut-rhel6hvm-intel blocked test-amd64-i386-qemuu-rhel6hvm-intel blocked test-amd64-i386-xl-multivcpu blocked test-amd64-amd64-pair blocked test-amd64-i386-pair blocked test-i386-i386-pair blocked test-amd64-amd64-xl-sedf-pin blocked test-amd64-amd64-pv blocked test-amd64-i386-pv blocked test-i386-i386-pv blocked test-amd64-amd64-xl-sedf blocked test-amd64-i386-win-vcpus1 blocked test-amd64-i386-qemut-win-vcpus1 blocked test-amd64-i386-xl-qemut-win-vcpus1 blocked test-amd64-i386-xl-win-vcpus1 blocked test-amd64-i386-xl-qemut-winxpsp3-vcpus1 blocked test-amd64-i386-xl-winxpsp3-vcpus1 blocked test-amd64-amd64-win blocked test-amd64-i386-win blocked test-i386-i386-win blocked test-amd64-amd64-qemut-win blocked test-amd64-i386-qemut-win blocked test-i386-i386-qemut-win blocked test-amd64-amd64-xl-qemut-win blocked test-i386-i386-xl-qemut-win blocked test-amd64-amd64-xl-win blocked test-i386-i386-xl-win blocked test-amd64-i386-xend-qemut-winxpsp3 blocked test-amd64-amd64-xl-qemut-winxpsp3 blocked test-i386-i386-xl-qemut-winxpsp3 blocked test-amd64-amd64-xl-qemuu-winxpsp3 blocked test-i386-i386-xl-qemuu-winxpsp3 blocked test-amd64-i386-xend-winxpsp3 blocked test-amd64-amd64-xl-winxpsp3 blocked test-i386-i386-xl-winxpsp3 blocked ------------------------------------------------------------ sg-report-flight on woking.cam.xci-test.com logs: /home/xc_osstest/logs images: /home/xc_osstest/images Logs, config files, etc. are available at http://www.chiark.greenend.org.uk/~xensrcts/logs Test harness code can be found at http://xenbits.xensource.com/gitweb?p=osstest.git;a=summary Not pushing. ------------------------------------------------------------ changeset: 23423:309ff3ad9dcc tag: tip user: Kouya Shimura date: Thu Dec 06 11:13:00 2012 +0100 x86/hap: Fix memory leak of domain->arch.hvm_domain.dirty_vram Signed-off-by: Kouya Shimura Signed-off-by: Tim Deegan xen-unstable changeset: 26203:b5cb6cccc32c xen-unstable date: Thu Nov 29 11:01:00 UTC 2012 changeset: 23422:6c7febc0bbeb user: Ian Campbell date: Thu Dec 06 11:03:05 2012 +0100 MAINTAINERS: Reference stable maintenance policy I also couldn't resist fixing a typo and adding a reference to http://wiki.xen.org/wiki/Submitting_Xen_Patches for the normal case as well. Signed-off-by: Ian Campbell Acked-by: Keir Fraser Committed-by: Jan Beulich xen-unstable changeset: 26238:53805e238cca xen-unstable date: Thu Dec 6 09:56:53 UTC 2012 changeset: 23421:a8a9e1c126ea user: Jan Beulich date: Tue Dec 04 18:50:03 2012 +0000 memop: limit guest specified extent order Allowing unbounded order values here causes almost unbounded loops and/or partially incomplete requests, particularly in PoD code. The added range checks in populate_physmap(), decrease_reservation(), and the "in" one in memory_exchange() architecturally all could use PADDR_BITS - PAGE_SHIFT, and are being artificially constrained to MAX_ORDER. This is XSA-31 / CVE-2012-5515. Signed-off-by: Jan Beulich Acked-by: Tim Deegan Acked-by: Ian Jackson Committed-by: Ian Jackson (qemu changes not included)