xen-devel.lists.xenproject.org archive mirror
 help / color / mirror / Atom feed
From: xen.org <ian.jackson@eu.citrix.com>
To: xen-devel@lists.xensource.com
Cc: ian.jackson@eu.citrix.com
Subject: [xen-unstable test] 18698: trouble: blocked/broken/pass
Date: Mon, 19 Aug 2013 12:15:12 +0100	[thread overview]
Message-ID: <osstest-18698-mainreport@xen.org> (raw)

flight 18698 xen-unstable real [real]
http://www.chiark.greenend.org.uk/~xensrcts/logs/18698/

Failures and problems with tests :-(

Tests which did not succeed and are blocking,
including tests which could not be run:
 build-amd64-oldkern           2 host-install(2)         broken REGR. vs. 18681
 build-i386-oldkern            2 host-install(2)         broken REGR. vs. 18681
 build-amd64-pvops             2 host-install(2)         broken REGR. vs. 18681
 build-amd64                   2 host-install(2)         broken REGR. vs. 18681

Tests which did not succeed, but are not blocking:
 test-amd64-amd64-xl-pcipt-intel  1 xen-build-check(1)           blocked  n/a
 test-amd64-amd64-xl           1 xen-build-check(1)           blocked  n/a
 test-amd64-i386-xl-credit2    1 xen-build-check(1)           blocked  n/a
 test-amd64-i386-xl-multivcpu  1 xen-build-check(1)           blocked  n/a
 test-amd64-amd64-pv           1 xen-build-check(1)           blocked  n/a
 test-amd64-amd64-xl-sedf      1 xen-build-check(1)           blocked  n/a
 test-amd64-amd64-xl-sedf-pin  1 xen-build-check(1)           blocked  n/a
 test-amd64-i386-qemuu-rhel6hvm-amd  1 xen-build-check(1)           blocked n/a
 test-amd64-i386-rhel6hvm-amd  1 xen-build-check(1)           blocked  n/a
 test-amd64-i386-qemut-rhel6hvm-amd  1 xen-build-check(1)           blocked n/a
 test-amd64-amd64-pair         1 xen-build-check(1)           blocked  n/a
 test-amd64-i386-xend-winxpsp3  1 xen-build-check(1)           blocked  n/a
 test-amd64-amd64-xl-qemut-win7-amd64  1 xen-build-check(1)         blocked n/a
 test-amd64-amd64-xl-qemuu-winxpsp3  1 xen-build-check(1)           blocked n/a
 test-amd64-amd64-xl-qemuu-win7-amd64  1 xen-build-check(1)         blocked n/a
 test-amd64-amd64-xl-win7-amd64  1 xen-build-check(1)           blocked  n/a
 test-amd64-i386-xl            1 xen-build-check(1)           blocked  n/a
 test-amd64-i386-qemuu-rhel6hvm-intel  1 xen-build-check(1)         blocked n/a
 test-amd64-i386-xl-win7-amd64  1 xen-build-check(1)           blocked  n/a
 test-amd64-i386-qemut-rhel6hvm-intel  1 xen-build-check(1)         blocked n/a
 test-amd64-i386-rhel6hvm-intel  1 xen-build-check(1)           blocked  n/a
 test-amd64-amd64-xl-qemut-winxpsp3  1 xen-build-check(1)           blocked n/a
 test-amd64-i386-xl-qemut-win7-amd64  1 xen-build-check(1)          blocked n/a
 test-amd64-i386-xl-winxpsp3-vcpus1  1 xen-build-check(1)           blocked n/a
 test-amd64-i386-xend-qemut-winxpsp3  1 xen-build-check(1)          blocked n/a
 test-amd64-i386-xl-qemut-winxpsp3-vcpus1  1 xen-build-check(1)     blocked n/a
 test-amd64-i386-pv            1 xen-build-check(1)           blocked  n/a
 test-amd64-amd64-xl-winxpsp3  1 xen-build-check(1)           blocked  n/a
 test-amd64-i386-pair          1 xen-build-check(1)           blocked  n/a

version targeted for testing:
 xen                  ab7f9a793c78dfea81c037b34b0dd2db7070d8f8
baseline version:
 xen                  0c006b41a283a0a569c863d44abde5aa5750ae01

------------------------------------------------------------
People who touched revisions under test:
  Ben Guthro <benjamin.guthro@citrix.com>
  Jan Beulich <jbeulich@suse.com>
  Keir Fraser <keir@xen.org>
  Tim Deegan <tim@xen.org>
  Xiantao Zhang <xiantao.zhang@intel.com>
------------------------------------------------------------

jobs:
 build-amd64                                                  broken  
 build-armhf                                                  pass    
 build-i386                                                   pass    
 build-amd64-oldkern                                          broken  
 build-i386-oldkern                                           broken  
 build-amd64-pvops                                            broken  
 build-i386-pvops                                             pass    
 test-amd64-amd64-xl                                          blocked 
 test-amd64-i386-xl                                           blocked 
 test-amd64-i386-rhel6hvm-amd                                 blocked 
 test-amd64-i386-qemut-rhel6hvm-amd                           blocked 
 test-amd64-i386-qemuu-rhel6hvm-amd                           blocked 
 test-amd64-amd64-xl-qemut-win7-amd64                         blocked 
 test-amd64-i386-xl-qemut-win7-amd64                          blocked 
 test-amd64-amd64-xl-qemuu-win7-amd64                         blocked 
 test-amd64-amd64-xl-win7-amd64                               blocked 
 test-amd64-i386-xl-win7-amd64                                blocked 
 test-amd64-i386-xl-credit2                                   blocked 
 test-amd64-amd64-xl-pcipt-intel                              blocked 
 test-amd64-i386-rhel6hvm-intel                               blocked 
 test-amd64-i386-qemut-rhel6hvm-intel                         blocked 
 test-amd64-i386-qemuu-rhel6hvm-intel                         blocked 
 test-amd64-i386-xl-multivcpu                                 blocked 
 test-amd64-amd64-pair                                        blocked 
 test-amd64-i386-pair                                         blocked 
 test-amd64-amd64-xl-sedf-pin                                 blocked 
 test-amd64-amd64-pv                                          blocked 
 test-amd64-i386-pv                                           blocked 
 test-amd64-amd64-xl-sedf                                     blocked 
 test-amd64-i386-xl-qemut-winxpsp3-vcpus1                     blocked 
 test-amd64-i386-xl-winxpsp3-vcpus1                           blocked 
 test-amd64-i386-xend-qemut-winxpsp3                          blocked 
 test-amd64-amd64-xl-qemut-winxpsp3                           blocked 
 test-amd64-amd64-xl-qemuu-winxpsp3                           blocked 
 test-amd64-i386-xend-winxpsp3                                blocked 
 test-amd64-amd64-xl-winxpsp3                                 blocked 


------------------------------------------------------------
sg-report-flight on woking.cam.xci-test.com
logs: /home/xc_osstest/logs
images: /home/xc_osstest/images

Logs, config files, etc. are available at
    http://www.chiark.greenend.org.uk/~xensrcts/logs

Test harness code can be found at
    http://xenbits.xensource.com/gitweb?p=osstest.git;a=summary


Not pushing.

------------------------------------------------------------
commit ab7f9a793c78dfea81c037b34b0dd2db7070d8f8
Author: Tim Deegan <tim@xen.org>
Date:   Thu Aug 15 13:17:10 2013 +0200

    x86/time: fix check for negative time in __update_vcpu_system_time()
    
    Clang points out that u64 stime variable is always >= 0.
    
    Signed-off-by: Tim Deegan <tim@xen.org>

commit f67af6d5803b6a015e30cb490a94f9547cb0437c
Author: Jan Beulich <jbeulich@suse.com>
Date:   Wed Aug 14 11:20:26 2013 +0200

    x86/MTRR: fix range check in mtrr_add_page()
    
    Extracted from Yinghai Lu's Linux commit d5c78673 ("x86: Fix /proc/mtrr
    with base/size more than 44bits").
    
    Signed-off-by: Jan Beulich <jbeulich@suse.com>
    Reviewed-by: Andrew Cooper <andrew.cooper3@citrix.com>
    Acked-by: Keir Fraser <keir@xen.org>

commit 78742c233c664cac6cac8405c154f82239ab6995
Author: Jan Beulich <jbeulich@suse.com>
Date:   Wed Aug 14 11:19:45 2013 +0200

    x86: use "R" constraint for fxsaveq/fxrstorq enforcement
    
    I became aware of this constraint's (referring to all legacy registers
    in one go) existence by (accidentally) noticing Linux commit 82024135
    ("x86-64, fpu: Simplify constraints for fxsave/fxtstor").
    
    Signed-off-by: Jan Beulich <jbeulich@suse.com>
    Reviewed-by: Andrew Cooper <andrew.cooper3@citrix.com>
    Acked-by: Keir Fraser <keir@xen.org>

commit e8e8b030ecf916fea19639f0b6a446c1c9dbe174
Author: Jan Beulich <jbeulich@suse.com>
Date:   Wed Aug 14 11:18:24 2013 +0200

    VT-d: protect against bogus information coming from BIOS
    
    Add checks similar to those done by Linux: The DRHD address must not
    be all zeros or all ones (Linux only checks for zero), and capabilities
    as well as extended capabilities must not be all ones.
    
    Signed-off-by: Jan Beulich <jbeulich@suse.com>
    Reviewed-by: Ben Guthro <benjamin.guthro@citrix.com>
    Reviewed-by: Andrew Cooper <andrew.cooper3@citrix.com>
    Tested-by: Ben Guthro <benjamin.guthro@citrix.com>
    Acked by: Yang Zhang <yang.z.zhang@intel.com>
    Acked-by: Xiantao Zhang <xiantao.zhang@intel.com>
(qemu changes not included)

                 reply	other threads:[~2013-08-19 11:15 UTC|newest]

Thread overview: [no followups] expand[flat|nested]  mbox.gz  Atom feed

Reply instructions:

You may reply publicly to this message via plain-text email
using any one of the following methods:

* Save the following mbox file, import it into your mail client,
  and reply-to-all from there: mbox

  Avoid top-posting and favor interleaved quoting:
  https://en.wikipedia.org/wiki/Posting_style#Interleaved_style

* Reply using the --to, --cc, and --in-reply-to
  switches of git-send-email(1):

  git send-email \
    --in-reply-to=osstest-18698-mainreport@xen.org \
    --to=ian.jackson@eu.citrix.com \
    --cc=xen-devel@lists.xensource.com \
    /path/to/YOUR_REPLY

  https://kernel.org/pub/software/scm/git/docs/git-send-email.html

* If your mail client supports setting the In-Reply-To header
  via mailto: links, try the mailto: link
Be sure your reply has a Subject: header at the top and a blank line before the message body.
This is a public inbox, see mirroring instructions
for how to clone and mirror all data and code used for this inbox;
as well as URLs for NNTP newsgroup(s).