From mboxrd@z Thu Jan 1 00:00:00 1970 From: xen.org Subject: [xen-4.2-testing test] 25108: trouble: pass/preparing/queued/running Date: Mon, 17 Feb 2014 11:30:05 +0000 Message-ID: Mime-Version: 1.0 Content-Type: text/plain; charset="us-ascii" Content-Transfer-Encoding: 7bit Return-path: List-Unsubscribe: , List-Post: List-Help: List-Subscribe: , Sender: xen-devel-bounces@lists.xen.org Errors-To: xen-devel-bounces@lists.xen.org To: xen-devel@lists.xensource.com Cc: ian.jackson@eu.citrix.com List-Id: xen-devel@lists.xenproject.org flight 25108 xen-4.2-testing running [real] http://www.chiark.greenend.org.uk/~xensrcts/logs/25108/ Failures and problems with tests :-( Tests which did not succeed and are blocking, including tests which could not be run: test-amd64-amd64-xl-pcipt-intel 2 hosts-allocate running [st=running!] test-amd64-i386-pv queued test-amd64-i386-qemuu-rhel6hvm-intel queued test-amd64-i386-rhel6hvm-amd queued test-amd64-i386-qemut-rhel6hvm-amd queued test-amd64-i386-qemuu-rhel6hvm-amd queued test-amd64-amd64-pv 3 host-install(3) running [st=running!] test-amd64-i386-xl-multivcpu queued test-i386-i386-pv queued test-i386-i386-xl queued test-amd64-i386-xl queued test-amd64-i386-qemut-rhel6hvm-intel queued test-amd64-amd64-xl-sedf 2 hosts-allocate running [st=running!] test-amd64-amd64-xl-sedf-pin 2 hosts-allocate running [st=running!] test-amd64-amd64-xl 2 hosts-allocate running [st=running!] test-amd64-i386-qemuu-freebsd10-i386 queued test-amd64-i386-xend-qemut-winxpsp3 queued test-i386-i386-pair queued test-amd64-i386-xl-qemut-winxpsp3-vcpus1 queued test-amd64-i386-pair queued test-i386-i386-xl-qemut-winxpsp3 queued test-amd64-amd64-xl-qemut-win7-amd64 2 hosts-allocate running [st=running!] test-amd64-amd64-xl-winxpsp3 2 hosts-allocate running [st=running!] test-amd64-i386-xl-qemuu-winxpsp3-vcpus1 queued test-amd64-i386-xl-qemut-win7-amd64 queued test-amd64-amd64-xl-qemuu-win7-amd64 2 hosts-allocate running [st=running!] test-amd64-amd64-xl-win7-amd64 2 hosts-allocate running [st=running!] test-amd64-i386-xl-credit2 queued test-amd64-amd64-pair 2 hosts-allocate running [st=running!] build-amd64-oldkern 1 hosts-allocate running [st=running!] test-amd64-i386-xl-win7-amd64 queued test-amd64-i386-xl-qemuu-win7-amd64 queued build-i386 1 hosts-allocate running [st=running!] build-i386-pvops 1 hosts-allocate running [st=running!] test-amd64-i386-rhel6hvm-intel queued test-amd64-i386-qemuu-freebsd10-amd64 queued test-amd64-i386-xend-winxpsp3 queued build-i386-oldkern 1 hosts-allocate running [st=running!] test-amd64-amd64-xl-qemuu-winxpsp3 2 hosts-allocate running [st=running!] test-i386-i386-xl-qemuu-winxpsp3 queued test-i386-i386-xl-winxpsp3 queued test-amd64-amd64-xl-qemut-winxpsp3 2 hosts-allocate running [st=running!] test-amd64-i386-xl-winxpsp3-vcpus1 queued version targeted for testing: xen 6d83fd0a975731653efb0c470a4eeed6a44b99cd baseline version: xen 640b31535ab8fe07911d0b90ae4adbe6078026c9 ------------------------------------------------------------ People who touched revisions under test: ------------------------------------------------------------ jobs: build-amd64 pass build-i386 preparing build-amd64-oldkern preparing build-i386-oldkern preparing build-amd64-pvops pass build-i386-pvops preparing test-amd64-amd64-xl preparing test-amd64-i386-xl queued test-i386-i386-xl queued test-amd64-i386-rhel6hvm-amd queued test-amd64-i386-qemut-rhel6hvm-amd queued test-amd64-i386-qemuu-rhel6hvm-amd queued test-amd64-i386-qemuu-freebsd10-amd64 queued test-amd64-amd64-xl-qemut-win7-amd64 preparing test-amd64-i386-xl-qemut-win7-amd64 queued test-amd64-amd64-xl-qemuu-win7-amd64 preparing test-amd64-i386-xl-qemuu-win7-amd64 queued test-amd64-amd64-xl-win7-amd64 preparing test-amd64-i386-xl-win7-amd64 queued test-amd64-i386-xl-credit2 queued test-amd64-i386-qemuu-freebsd10-i386 queued test-amd64-amd64-xl-pcipt-intel preparing test-amd64-i386-rhel6hvm-intel queued test-amd64-i386-qemut-rhel6hvm-intel queued test-amd64-i386-qemuu-rhel6hvm-intel queued test-amd64-i386-xl-multivcpu queued test-amd64-amd64-pair preparing test-amd64-i386-pair queued test-i386-i386-pair queued test-amd64-amd64-xl-sedf-pin preparing test-amd64-amd64-pv running test-amd64-i386-pv queued test-i386-i386-pv queued test-amd64-amd64-xl-sedf preparing test-amd64-i386-xl-qemut-winxpsp3-vcpus1 queued test-amd64-i386-xl-qemuu-winxpsp3-vcpus1 queued test-amd64-i386-xl-winxpsp3-vcpus1 queued test-amd64-i386-xend-qemut-winxpsp3 queued test-amd64-amd64-xl-qemut-winxpsp3 preparing test-i386-i386-xl-qemut-winxpsp3 queued test-amd64-amd64-xl-qemuu-winxpsp3 preparing test-i386-i386-xl-qemuu-winxpsp3 queued test-amd64-i386-xend-winxpsp3 queued test-amd64-amd64-xl-winxpsp3 preparing test-i386-i386-xl-winxpsp3 queued ------------------------------------------------------------ sg-report-flight on woking.cam.xci-test.com logs: /home/xc_osstest/logs images: /home/xc_osstest/images Logs, config files, etc. are available at http://www.chiark.greenend.org.uk/~xensrcts/logs Test harness code can be found at http://xenbits.xensource.com/gitweb?p=osstest.git;a=summary Not pushing. ------------------------------------------------------------ commit 6d83fd0a975731653efb0c470a4eeed6a44b99cd Author: Jan Beulich Date: Fri Feb 14 16:24:39 2014 +0100 update Xen version to 4.2.4 (qemu changes not included)