* [xen-unstable test] 26055: trouble: preparing/queued
@ 2014-04-28 11:30 xen.org
0 siblings, 0 replies; only message in thread
From: xen.org @ 2014-04-28 11:30 UTC (permalink / raw)
To: xen-devel; +Cc: ian.jackson
flight 26055 xen-unstable running [real]
http://www.chiark.greenend.org.uk/~xensrcts/logs/26055/
Failures and problems with tests :-(
Tests which did not succeed and are blocking,
including tests which could not be run:
build-armhf 1 hosts-allocate running [st=running!]
test-amd64-amd64-xl-pcipt-intel <none executed> queued
test-armhf-armhf-xl <none executed> queued
test-amd64-i386-qemuu-rhel6hvm-amd <none executed> queued
test-amd64-i386-rhel6hvm-amd <none executed> queued
test-amd64-i386-qemut-rhel6hvm-amd <none executed> queued
test-amd64-amd64-xl-sedf-pin <none executed> queued
test-amd64-i386-xl-credit2 <none executed> queued
test-amd64-i386-xl <none executed> queued
test-amd64-i386-qemut-rhel6hvm-intel <none executed> queued
test-amd64-i386-qemuu-rhel6hvm-intel <none executed> queued
test-amd64-amd64-xl <none executed> queued
test-amd64-i386-xl-multivcpu <none executed> queued
test-amd64-amd64-xl-sedf <none executed> queued
test-amd64-i386-xl-qemuu-ovmf-amd64 <none executed> queued
test-amd64-i386-freebsd10-i386 <none executed> queued
test-amd64-i386-freebsd10-amd64 <none executed> queued
test-amd64-i386-xl-qemut-winxpsp3 <none executed> queued
test-amd64-i386-xl-qemuu-winxpsp3 <none executed> queued
test-amd64-i386-xl-qemut-winxpsp3-vcpus1 <none executed> queued
test-amd64-i386-xl-qemuu-winxpsp3-vcpus1 <none executed> queued
test-amd64-i386-rhel6hvm-intel <none executed> queued
test-amd64-amd64-pair <none executed> queued
test-amd64-i386-pair <none executed> queued
test-amd64-amd64-xl-win7-amd64 <none executed> queued
test-amd64-amd64-xl-qemuu-win7-amd64 <none executed> queued
test-amd64-i386-xl-win7-amd64 <none executed> queued
build-armhf-pvops 1 hosts-allocate running [st=running!]
test-amd64-amd64-xl-qemut-winxpsp3 <none executed> queued
test-amd64-amd64-xl-qemuu-ovmf-amd64 <none executed> queued
test-amd64-i386-xl-qemut-win7-amd64 <none executed> queued
build-i386-pvops 1 hosts-allocate running [st=running!]
build-i386-oldkern 1 hosts-allocate running [st=running!]
build-i386 1 hosts-allocate running [st=running!]
test-amd64-amd64-xl-winxpsp3 <none executed> queued
test-amd64-i386-xl-winxpsp3-vcpus1 <none executed> queued
build-amd64-pvops 1 hosts-allocate running [st=running!]
build-amd64-oldkern 1 hosts-allocate running [st=running!]
test-amd64-i386-xl-winxpsp3 <none executed> queued
build-amd64 2 host-install(2) running [st=running!]
test-amd64-amd64-xl-qemut-win7-amd64 <none executed> queued
test-amd64-amd64-xl-qemuu-winxpsp3 <none executed> queued
test-amd64-i386-xl-qemuu-win7-amd64 <none executed> queued
version targeted for testing:
xen 1a2a390a560e8319a6be98c7ab6cfaebd230f67e
baseline version:
xen 8cfc8e520679e029bed51ccc2540a136fc0fbd9b
------------------------------------------------------------
People who touched revisions under test:
Andrew Cooper <andrew.cooper3@citrix.com>
Aravind Gopalakrishnan<aravind.gopalakrishnan@amd.com>
Aravindh Puthiyaparambil <aravindp@cisco.com>
Daniel De Graaf <dgdegra@tycho.nsa.gov>
Don Dugger <donald.d.dugger@intel.com>
George Dunlap <george.dunlap@eu.citrix.com>
Ian Campbell <ian.campbell@citrix.com>
Ian Jackson <ian.jackson@eu.citrix.com>
Jan Beulich <jbeulich@suse.com>
Jason Andryuk <andryuk@aero.org>
Julien Grall <julien.grall@linaro.org>
Kevin Tian <kevin.tian@intel.com>
Olaf Hering <olaf@aepfle.de>
Samuel Thibault <samuel.thibault@ens-lyon.org>
Tim Deegan <tim@xen.org>
Xiantao Zhang <xiantao.zhang@intel.com>
------------------------------------------------------------
jobs:
build-amd64 preparing
build-armhf preparing
build-i386 preparing
build-amd64-oldkern preparing
build-i386-oldkern preparing
build-amd64-pvops preparing
build-armhf-pvops preparing
build-i386-pvops preparing
test-amd64-amd64-xl queued
test-armhf-armhf-xl queued
test-amd64-i386-xl queued
test-amd64-i386-rhel6hvm-amd queued
test-amd64-i386-qemut-rhel6hvm-amd queued
test-amd64-i386-qemuu-rhel6hvm-amd queued
test-amd64-i386-freebsd10-amd64 queued
test-amd64-amd64-xl-qemuu-ovmf-amd64 queued
test-amd64-i386-xl-qemuu-ovmf-amd64 queued
test-amd64-amd64-xl-qemut-win7-amd64 queued
test-amd64-i386-xl-qemut-win7-amd64 queued
test-amd64-amd64-xl-qemuu-win7-amd64 queued
test-amd64-i386-xl-qemuu-win7-amd64 queued
test-amd64-amd64-xl-win7-amd64 queued
test-amd64-i386-xl-win7-amd64 queued
test-amd64-i386-xl-credit2 queued
test-amd64-i386-freebsd10-i386 queued
test-amd64-amd64-xl-pcipt-intel queued
test-amd64-i386-rhel6hvm-intel queued
test-amd64-i386-qemut-rhel6hvm-intel queued
test-amd64-i386-qemuu-rhel6hvm-intel queued
test-amd64-i386-xl-multivcpu queued
test-amd64-amd64-pair queued
test-amd64-i386-pair queued
test-amd64-amd64-xl-sedf-pin queued
test-amd64-amd64-xl-sedf queued
test-amd64-i386-xl-qemut-winxpsp3-vcpus1 queued
test-amd64-i386-xl-qemuu-winxpsp3-vcpus1 queued
test-amd64-i386-xl-winxpsp3-vcpus1 queued
test-amd64-amd64-xl-qemut-winxpsp3 queued
test-amd64-i386-xl-qemut-winxpsp3 queued
test-amd64-amd64-xl-qemuu-winxpsp3 queued
test-amd64-i386-xl-qemuu-winxpsp3 queued
test-amd64-amd64-xl-winxpsp3 queued
test-amd64-i386-xl-winxpsp3 queued
------------------------------------------------------------
sg-report-flight on osstest.cam.xci-test.com
logs: /home/xc_osstest/logs
images: /home/xc_osstest/images
Logs, config files, etc. are available at
http://www.chiark.greenend.org.uk/~xensrcts/logs
Test harness code can be found at
http://xenbits.xensource.com/gitweb?p=osstest.git;a=summary
Not pushing.
(No revision log; it would be 882 lines long.)
^ permalink raw reply [flat|nested] only message in thread
only message in thread, other threads:[~2014-04-28 11:30 UTC | newest]
Thread overview: (only message) (download: mbox.gz follow: Atom feed
-- links below jump to the message on this page --
2014-04-28 11:30 [xen-unstable test] 26055: trouble: preparing/queued xen.org
This is a public inbox, see mirroring instructions
for how to clone and mirror all data and code used for this inbox;
as well as URLs for NNTP newsgroup(s).