* [linux-linus test] 26058: trouble: preparing/queued
@ 2014-04-28 11:28 xen.org
0 siblings, 0 replies; only message in thread
From: xen.org @ 2014-04-28 11:28 UTC (permalink / raw)
To: xen-devel; +Cc: ian.jackson
flight 26058 linux-linus running [real]
http://www.chiark.greenend.org.uk/~xensrcts/logs/26058/
Failures and problems with tests :-(
Tests which did not succeed and are blocking,
including tests which could not be run:
build-armhf 1 hosts-allocate running [st=running!]
test-amd64-amd64-xl-pcipt-intel <none executed> queued
test-amd64-i386-qemuu-rhel6hvm-intel <none executed> queued
test-amd64-i386-rhel6hvm-intel <none executed> queued
test-amd64-i386-qemuu-rhel6hvm-amd <none executed> queued
test-amd64-i386-qemut-rhel6hvm-amd <none executed> queued
test-amd64-i386-rhel6hvm-amd <none executed> queued
test-amd64-i386-xl <none executed> queued
test-amd64-amd64-xl-sedf <none executed> queued
test-amd64-i386-xl-multivcpu <none executed> queued
test-amd64-i386-xl-credit2 <none executed> queued
test-amd64-i386-qemut-rhel6hvm-intel <none executed> queued
test-amd64-i386-freebsd10-i386 <none executed> queued
test-amd64-amd64-xl <none executed> queued
test-amd64-amd64-xl-sedf-pin <none executed> queued
test-amd64-i386-freebsd10-amd64 <none executed> queued
test-amd64-i386-xl-qemuu-ovmf-amd64 <none executed> queued
test-amd64-i386-xl-qemuu-winxpsp3-vcpus1 <none executed> queued
test-amd64-amd64-xl-winxpsp3 <none executed> queued
test-amd64-i386-xl-qemuu-winxpsp3 <none executed> queued
test-amd64-amd64-pair <none executed> queued
test-amd64-amd64-xl-qemut-win7-amd64 <none executed> queued
test-amd64-i386-xl-qemut-win7-amd64 <none executed> queued
test-amd64-i386-xl-win7-amd64 <none executed> queued
test-amd64-i386-xl-qemuu-win7-amd64 <none executed> queued
build-armhf-pvops 1 hosts-allocate running [st=running!]
test-armhf-armhf-xl <none executed> queued
test-amd64-amd64-xl-qemuu-ovmf-amd64 <none executed> queued
test-amd64-i386-xl-qemut-winxpsp3-vcpus1 <none executed> queued
test-amd64-amd64-xl-win7-amd64 <none executed> queued
test-amd64-amd64-xl-qemut-winxpsp3 <none executed> queued
build-i386 1 hosts-allocate running [st=running!]
build-i386-pvops 1 hosts-allocate running [st=running!]
build-amd64 1 hosts-allocate running [st=running!]
build-amd64-pvops 1 hosts-allocate running [st=running!]
test-amd64-i386-xl-winxpsp3-vcpus1 <none executed> queued
test-amd64-i386-pair <none executed> queued
test-amd64-i386-xl-qemut-winxpsp3 <none executed> queued
test-amd64-i386-xl-winxpsp3 <none executed> queued
test-amd64-amd64-xl-qemuu-win7-amd64 <none executed> queued
test-amd64-amd64-xl-qemuu-winxpsp3 <none executed> queued
version targeted for testing:
linux d1db0eea852497762cab43b905b879dfcd3b8987
baseline version:
linux c16fa4f2ad19908a47c63d8fa436a1178438c7e7
------------------------------------------------------------
7531 people touched revisions under test,
not listing them all
------------------------------------------------------------
jobs:
build-amd64 preparing
build-armhf preparing
build-i386 preparing
build-amd64-pvops preparing
build-armhf-pvops preparing
build-i386-pvops preparing
test-amd64-amd64-xl queued
test-armhf-armhf-xl queued
test-amd64-i386-xl queued
test-amd64-i386-rhel6hvm-amd queued
test-amd64-i386-qemut-rhel6hvm-amd queued
test-amd64-i386-qemuu-rhel6hvm-amd queued
test-amd64-i386-freebsd10-amd64 queued
test-amd64-amd64-xl-qemuu-ovmf-amd64 queued
test-amd64-i386-xl-qemuu-ovmf-amd64 queued
test-amd64-amd64-xl-qemut-win7-amd64 queued
test-amd64-i386-xl-qemut-win7-amd64 queued
test-amd64-amd64-xl-qemuu-win7-amd64 queued
test-amd64-i386-xl-qemuu-win7-amd64 queued
test-amd64-amd64-xl-win7-amd64 queued
test-amd64-i386-xl-win7-amd64 queued
test-amd64-i386-xl-credit2 queued
test-amd64-i386-freebsd10-i386 queued
test-amd64-amd64-xl-pcipt-intel queued
test-amd64-i386-rhel6hvm-intel queued
test-amd64-i386-qemut-rhel6hvm-intel queued
test-amd64-i386-qemuu-rhel6hvm-intel queued
test-amd64-i386-xl-multivcpu queued
test-amd64-amd64-pair queued
test-amd64-i386-pair queued
test-amd64-amd64-xl-sedf-pin queued
test-amd64-amd64-xl-sedf queued
test-amd64-i386-xl-qemut-winxpsp3-vcpus1 queued
test-amd64-i386-xl-qemuu-winxpsp3-vcpus1 queued
test-amd64-i386-xl-winxpsp3-vcpus1 queued
test-amd64-amd64-xl-qemut-winxpsp3 queued
test-amd64-i386-xl-qemut-winxpsp3 queued
test-amd64-amd64-xl-qemuu-winxpsp3 queued
test-amd64-i386-xl-qemuu-winxpsp3 queued
test-amd64-amd64-xl-winxpsp3 queued
test-amd64-i386-xl-winxpsp3 queued
------------------------------------------------------------
sg-report-flight on osstest.cam.xci-test.com
logs: /home/xc_osstest/logs
images: /home/xc_osstest/images
Logs, config files, etc. are available at
http://www.chiark.greenend.org.uk/~xensrcts/logs
Test harness code can be found at
http://xenbits.xensource.com/gitweb?p=osstest.git;a=summary
Not pushing.
(No revision log; it would be 2647719 lines long.)
^ permalink raw reply [flat|nested] only message in thread
only message in thread, other threads:[~2014-04-28 11:28 UTC | newest]
Thread overview: (only message) (download: mbox.gz follow: Atom feed
-- links below jump to the message on this page --
2014-04-28 11:28 [linux-linus test] 26058: trouble: preparing/queued xen.org
This is a public inbox, see mirroring instructions
for how to clone and mirror all data and code used for this inbox;
as well as URLs for NNTP newsgroup(s).