From mboxrd@z Thu Jan 1 00:00:00 1970 From: xen.org Subject: [linux-linus test] 26058: trouble: preparing/queued Date: Mon, 28 Apr 2014 12:28:35 +0100 Message-ID: Mime-Version: 1.0 Content-Type: text/plain; charset="us-ascii" Content-Transfer-Encoding: 7bit Return-path: List-Unsubscribe: , List-Post: List-Help: List-Subscribe: , Sender: xen-devel-bounces@lists.xen.org Errors-To: xen-devel-bounces@lists.xen.org To: xen-devel@lists.xensource.com Cc: ian.jackson@eu.citrix.com List-Id: xen-devel@lists.xenproject.org flight 26058 linux-linus running [real] http://www.chiark.greenend.org.uk/~xensrcts/logs/26058/ Failures and problems with tests :-( Tests which did not succeed and are blocking, including tests which could not be run: build-armhf 1 hosts-allocate running [st=running!] test-amd64-amd64-xl-pcipt-intel queued test-amd64-i386-qemuu-rhel6hvm-intel queued test-amd64-i386-rhel6hvm-intel queued test-amd64-i386-qemuu-rhel6hvm-amd queued test-amd64-i386-qemut-rhel6hvm-amd queued test-amd64-i386-rhel6hvm-amd queued test-amd64-i386-xl queued test-amd64-amd64-xl-sedf queued test-amd64-i386-xl-multivcpu queued test-amd64-i386-xl-credit2 queued test-amd64-i386-qemut-rhel6hvm-intel queued test-amd64-i386-freebsd10-i386 queued test-amd64-amd64-xl queued test-amd64-amd64-xl-sedf-pin queued test-amd64-i386-freebsd10-amd64 queued test-amd64-i386-xl-qemuu-ovmf-amd64 queued test-amd64-i386-xl-qemuu-winxpsp3-vcpus1 queued test-amd64-amd64-xl-winxpsp3 queued test-amd64-i386-xl-qemuu-winxpsp3 queued test-amd64-amd64-pair queued test-amd64-amd64-xl-qemut-win7-amd64 queued test-amd64-i386-xl-qemut-win7-amd64 queued test-amd64-i386-xl-win7-amd64 queued test-amd64-i386-xl-qemuu-win7-amd64 queued build-armhf-pvops 1 hosts-allocate running [st=running!] test-armhf-armhf-xl queued test-amd64-amd64-xl-qemuu-ovmf-amd64 queued test-amd64-i386-xl-qemut-winxpsp3-vcpus1 queued test-amd64-amd64-xl-win7-amd64 queued test-amd64-amd64-xl-qemut-winxpsp3 queued build-i386 1 hosts-allocate running [st=running!] build-i386-pvops 1 hosts-allocate running [st=running!] build-amd64 1 hosts-allocate running [st=running!] build-amd64-pvops 1 hosts-allocate running [st=running!] test-amd64-i386-xl-winxpsp3-vcpus1 queued test-amd64-i386-pair queued test-amd64-i386-xl-qemut-winxpsp3 queued test-amd64-i386-xl-winxpsp3 queued test-amd64-amd64-xl-qemuu-win7-amd64 queued test-amd64-amd64-xl-qemuu-winxpsp3 queued version targeted for testing: linux d1db0eea852497762cab43b905b879dfcd3b8987 baseline version: linux c16fa4f2ad19908a47c63d8fa436a1178438c7e7 ------------------------------------------------------------ 7531 people touched revisions under test, not listing them all ------------------------------------------------------------ jobs: build-amd64 preparing build-armhf preparing build-i386 preparing build-amd64-pvops preparing build-armhf-pvops preparing build-i386-pvops preparing test-amd64-amd64-xl queued test-armhf-armhf-xl queued test-amd64-i386-xl queued test-amd64-i386-rhel6hvm-amd queued test-amd64-i386-qemut-rhel6hvm-amd queued test-amd64-i386-qemuu-rhel6hvm-amd queued test-amd64-i386-freebsd10-amd64 queued test-amd64-amd64-xl-qemuu-ovmf-amd64 queued test-amd64-i386-xl-qemuu-ovmf-amd64 queued test-amd64-amd64-xl-qemut-win7-amd64 queued test-amd64-i386-xl-qemut-win7-amd64 queued test-amd64-amd64-xl-qemuu-win7-amd64 queued test-amd64-i386-xl-qemuu-win7-amd64 queued test-amd64-amd64-xl-win7-amd64 queued test-amd64-i386-xl-win7-amd64 queued test-amd64-i386-xl-credit2 queued test-amd64-i386-freebsd10-i386 queued test-amd64-amd64-xl-pcipt-intel queued test-amd64-i386-rhel6hvm-intel queued test-amd64-i386-qemut-rhel6hvm-intel queued test-amd64-i386-qemuu-rhel6hvm-intel queued test-amd64-i386-xl-multivcpu queued test-amd64-amd64-pair queued test-amd64-i386-pair queued test-amd64-amd64-xl-sedf-pin queued test-amd64-amd64-xl-sedf queued test-amd64-i386-xl-qemut-winxpsp3-vcpus1 queued test-amd64-i386-xl-qemuu-winxpsp3-vcpus1 queued test-amd64-i386-xl-winxpsp3-vcpus1 queued test-amd64-amd64-xl-qemut-winxpsp3 queued test-amd64-i386-xl-qemut-winxpsp3 queued test-amd64-amd64-xl-qemuu-winxpsp3 queued test-amd64-i386-xl-qemuu-winxpsp3 queued test-amd64-amd64-xl-winxpsp3 queued test-amd64-i386-xl-winxpsp3 queued ------------------------------------------------------------ sg-report-flight on osstest.cam.xci-test.com logs: /home/xc_osstest/logs images: /home/xc_osstest/images Logs, config files, etc. are available at http://www.chiark.greenend.org.uk/~xensrcts/logs Test harness code can be found at http://xenbits.xensource.com/gitweb?p=osstest.git;a=summary Not pushing. (No revision log; it would be 2647719 lines long.)