From mboxrd@z Thu Jan 1 00:00:00 1970 From: xen.org Subject: [linux-3.10 test] 26061: trouble: preparing/queued Date: Mon, 28 Apr 2014 12:52:42 +0100 Message-ID: Mime-Version: 1.0 Content-Type: multipart/mixed; boundary="===============0903117793166192553==" Return-path: List-Unsubscribe: , List-Post: List-Help: List-Subscribe: , Sender: xen-devel-bounces@lists.xen.org Errors-To: xen-devel-bounces@lists.xen.org To: xen-devel@lists.xensource.com Cc: ian.jackson@eu.citrix.com List-Id: xen-devel@lists.xenproject.org --===============0903117793166192553== Content-Type: text/plain flight 26061 linux-3.10 running [real] http://www.chiark.greenend.org.uk/~xensrcts/logs/26061/ Failures and problems with tests :-( Tests which did not succeed and are blocking, including tests which could not be run: build-armhf 1 hosts-allocate running [st=running!] test-amd64-i386-qemut-rhel6hvm-amd queued test-amd64-amd64-xl-pcipt-intel queued test-amd64-i386-rhel6hvm-amd queued test-amd64-i386-qemuu-rhel6hvm-amd queued test-amd64-amd64-xl-sedf-pin queued test-amd64-i386-rhel6hvm-intel queued test-amd64-i386-qemut-rhel6hvm-intel queued test-amd64-i386-xl queued test-amd64-i386-qemuu-rhel6hvm-intel queued test-amd64-i386-xl-credit2 queued test-amd64-amd64-xl queued test-amd64-i386-xl-multivcpu queued test-amd64-i386-freebsd10-i386 queued test-amd64-i386-freebsd10-amd64 queued test-amd64-i386-xl-qemut-winxpsp3 queued test-amd64-amd64-xl-qemut-winxpsp3 queued test-amd64-i386-xl-winxpsp3 queued test-armhf-armhf-xl queued build-armhf-pvops 1 hosts-allocate running [st=running!] test-amd64-i386-xl-qemuu-ovmf-amd64 queued test-amd64-amd64-xl-sedf queued test-amd64-i386-xl-qemuu-win7-amd64 queued test-amd64-amd64-pair queued test-amd64-amd64-xl-qemut-win7-amd64 queued test-amd64-amd64-xl-qemuu-win7-amd64 queued test-amd64-i386-xl-qemut-winxpsp3-vcpus1 queued build-i386-pvops 1 hosts-allocate running [st=running!] build-i386 1 hosts-allocate running [st=running!] build-amd64-pvops 1 hosts-allocate running [st=running!] build-amd64 1 hosts-allocate running [st=running!] test-amd64-amd64-xl-qemuu-ovmf-amd64 queued test-amd64-i386-xl-winxpsp3-vcpus1 queued test-amd64-i386-xl-qemuu-winxpsp3-vcpus1 queued test-amd64-i386-pair queued test-amd64-i386-xl-qemuu-winxpsp3 queued test-amd64-i386-xl-win7-amd64 queued test-amd64-amd64-xl-win7-amd64 queued test-amd64-i386-xl-qemut-win7-amd64 queued test-amd64-amd64-xl-qemuu-winxpsp3 queued test-amd64-amd64-xl-winxpsp3 queued version targeted for testing: linux bdec4322971737d2d70087b6cbfd9d39e781e114 baseline version: linux 8f0c10ea2ec6e1086fbb73ff8bcbbf1ed8584b11 ------------------------------------------------------------ People who touched revisions under test: "Theodore Ts'o" Ajesh Kunhipurayil Vijayan Alexander Aring Allen Pais Andrew Morton Anton Nayshtut Ard Biesheuvel Bob Picco Brian Norris Bruce Ashfield Claudio Takahasi Cong Wang Corey Minyard Dan Carpenter Daniel Borkmann Daniel Fu Dave Kleikamp David Herrmann David L Stevens David S. Miller Derek Basehore Eric Dumazet Eric Paris Eric Whitney Fabio Estevam Finn Thain Florian Westphal Geert Uytterhoeven Grant Grundler Greg Kroah-Hartman H. Peter Anvin Hannes Frederic Sowa Hannes Reinecke Heiko Carstens Heiner Kallweit Herbert Xu Hidetoshi Seto Ian Abbott Jan Engelhardt Jan Kara Jayachandran C Jesper Dangaard Brouer Jiri Slaby Johan Hedberg Josef Bacik Kamlakant Patel Kjetil Oftedal Lars Persson Li RongQing Li Zefan Linus Lüssing Linus Torvalds Matthew Leach Michael S. Tsirkin Michal Marek Michal Schmidt Mikulas Patocka Mischa Jonker Neil Horman Nicolas Dichtel Nikolay Aleksandrov Oleg Nesterov Oliver Neukum Pablo Neira Ayuso Paul Durrant Paul Gortmaker Paul Moore Peter Boström Rafael J. Wysocki Sabrina Dubroca Sander Eikelenboom Sasha Levin Stephen Boyd Thomas Gleixner Thomas Graf Vineet Gupta Viresh Kumar Vlad Yasevich Vlad Yasevich Werner Fink Xiaoguang Chen Xin Long YOSHIFUJI Hideaki ------------------------------------------------------------ jobs: build-amd64 preparing build-armhf preparing build-i386 preparing build-amd64-pvops preparing build-armhf-pvops preparing build-i386-pvops preparing test-amd64-amd64-xl queued test-armhf-armhf-xl queued test-amd64-i386-xl queued test-amd64-i386-rhel6hvm-amd queued test-amd64-i386-qemut-rhel6hvm-amd queued test-amd64-i386-qemuu-rhel6hvm-amd queued test-amd64-i386-freebsd10-amd64 queued test-amd64-amd64-xl-qemuu-ovmf-amd64 queued test-amd64-i386-xl-qemuu-ovmf-amd64 queued test-amd64-amd64-xl-qemut-win7-amd64 queued test-amd64-i386-xl-qemut-win7-amd64 queued test-amd64-amd64-xl-qemuu-win7-amd64 queued test-amd64-i386-xl-qemuu-win7-amd64 queued test-amd64-amd64-xl-win7-amd64 queued test-amd64-i386-xl-win7-amd64 queued test-amd64-i386-xl-credit2 queued test-amd64-i386-freebsd10-i386 queued test-amd64-amd64-xl-pcipt-intel queued test-amd64-i386-rhel6hvm-intel queued test-amd64-i386-qemut-rhel6hvm-intel queued test-amd64-i386-qemuu-rhel6hvm-intel queued test-amd64-i386-xl-multivcpu queued test-amd64-amd64-pair queued test-amd64-i386-pair queued test-amd64-amd64-xl-sedf-pin queued test-amd64-amd64-xl-sedf queued test-amd64-i386-xl-qemut-winxpsp3-vcpus1 queued test-amd64-i386-xl-qemuu-winxpsp3-vcpus1 queued test-amd64-i386-xl-winxpsp3-vcpus1 queued test-amd64-amd64-xl-qemut-winxpsp3 queued test-amd64-i386-xl-qemut-winxpsp3 queued test-amd64-amd64-xl-qemuu-winxpsp3 queued test-amd64-i386-xl-qemuu-winxpsp3 queued test-amd64-amd64-xl-winxpsp3 queued test-amd64-i386-xl-winxpsp3 queued ------------------------------------------------------------ sg-report-flight on osstest.cam.xci-test.com logs: /home/xc_osstest/logs images: /home/xc_osstest/images Logs, config files, etc. are available at http://www.chiark.greenend.org.uk/~xensrcts/logs Test harness code can be found at http://xenbits.xensource.com/gitweb?p=osstest.git;a=summary Not pushing. (No revision log; it would be 2066 lines long.) --===============0903117793166192553== Content-Type: text/plain; charset="us-ascii" MIME-Version: 1.0 Content-Transfer-Encoding: 7bit Content-Disposition: inline _______________________________________________ Xen-devel mailing list Xen-devel@lists.xen.org http://lists.xen.org/xen-devel --===============0903117793166192553==--