From mboxrd@z Thu Jan 1 00:00:00 1970 From: xen.org Subject: [linux-3.4 test] 26062: trouble: preparing/queued Date: Mon, 28 Apr 2014 12:51:40 +0100 Message-ID: Mime-Version: 1.0 Content-Type: multipart/mixed; boundary="===============8287363721087228970==" Return-path: List-Unsubscribe: , List-Post: List-Help: List-Subscribe: , Sender: xen-devel-bounces@lists.xen.org Errors-To: xen-devel-bounces@lists.xen.org To: xen-devel@lists.xensource.com Cc: ian.jackson@eu.citrix.com List-Id: xen-devel@lists.xenproject.org --===============8287363721087228970== Content-Type: text/plain flight 26062 linux-3.4 running [real] http://www.chiark.greenend.org.uk/~xensrcts/logs/26062/ Failures and problems with tests :-( Tests which did not succeed and are blocking, including tests which could not be run: test-amd64-amd64-xl-pcipt-intel queued test-amd64-i386-qemut-rhel6hvm-intel queued test-amd64-i386-rhel6hvm-intel queued test-amd64-i386-qemuu-rhel6hvm-intel queued test-amd64-i386-qemut-rhel6hvm-amd queued test-amd64-i386-qemuu-rhel6hvm-amd queued test-amd64-i386-xl queued test-amd64-i386-rhel6hvm-amd queued test-amd64-amd64-xl queued test-amd64-i386-xl-multivcpu queued test-amd64-i386-xl-credit2 queued test-amd64-i386-xl-qemuu-ovmf-amd64 queued test-amd64-amd64-xl-sedf queued test-amd64-amd64-xl-sedf-pin queued test-amd64-i386-freebsd10-i386 queued test-amd64-i386-freebsd10-amd64 queued test-amd64-i386-xl-qemuu-winxpsp3-vcpus1 queued test-amd64-amd64-xl-winxpsp3 queued test-amd64-i386-pair queued test-amd64-i386-xl-qemuu-winxpsp3 queued test-amd64-amd64-pair queued test-amd64-i386-xl-qemut-win7-amd64 queued test-amd64-i386-xl-qemut-winxpsp3 queued test-amd64-i386-xl-winxpsp3-vcpus1 queued test-amd64-i386-xl-qemuu-win7-amd64 queued test-amd64-amd64-xl-win7-amd64 queued test-amd64-amd64-xl-qemuu-win7-amd64 queued test-amd64-i386-xl-qemut-winxpsp3-vcpus1 queued test-amd64-amd64-xl-qemut-win7-amd64 queued test-amd64-amd64-xl-qemuu-ovmf-amd64 queued build-amd64 1 hosts-allocate running [st=running!] build-i386 1 hosts-allocate running [st=running!] build-amd64-pvops 1 hosts-allocate running [st=running!] build-i386-pvops 1 hosts-allocate running [st=running!] test-amd64-i386-xl-winxpsp3 queued test-amd64-amd64-xl-qemuu-winxpsp3 queued test-amd64-i386-xl-win7-amd64 queued test-amd64-amd64-xl-qemut-winxpsp3 queued version targeted for testing: linux 5c5994f5a166379c5b8e719f17d466e9276ee581 baseline version: linux 9660cc51f80ab16b415b311f5f0ee8cdea496a7c ------------------------------------------------------------ People who touched revisions under test: Ajesh Kunhipurayil Vijayan Allen Pais Andrew Morton Bob Picco Brian Norris Claudio Takahasi Corey Minyard Dan Carpenter Daniel Borkmann Dave Kleikamp David S. Miller Eric Dumazet Fabio Estevam Greg Kroah-Hartman Hannes Frederic Sowa Heiner Kallweit Jayachandran C Jiri Slaby Johan Hedberg Kamlakant Patel Kjetil Oftedal Li Zefan Linus Lüssing Linus Torvalds Matthew Leach Michael S. Tsirkin Michal Schmidt Neil Horman Oleg Nesterov Pablo Neira Ayuso Paul Durrant Paul Gortmaker Peter Boström Sabrina Dubroca Sander Eikelenboom Sasha Levin Vlad Yasevich Xin Long YOSHIFUJI Hideaki ------------------------------------------------------------ jobs: build-amd64 preparing build-i386 preparing build-amd64-pvops preparing build-i386-pvops preparing test-amd64-amd64-xl queued test-amd64-i386-xl queued test-amd64-i386-rhel6hvm-amd queued test-amd64-i386-qemut-rhel6hvm-amd queued test-amd64-i386-qemuu-rhel6hvm-amd queued test-amd64-i386-freebsd10-amd64 queued test-amd64-amd64-xl-qemuu-ovmf-amd64 queued test-amd64-i386-xl-qemuu-ovmf-amd64 queued test-amd64-amd64-xl-qemut-win7-amd64 queued test-amd64-i386-xl-qemut-win7-amd64 queued test-amd64-amd64-xl-qemuu-win7-amd64 queued test-amd64-i386-xl-qemuu-win7-amd64 queued test-amd64-amd64-xl-win7-amd64 queued test-amd64-i386-xl-win7-amd64 queued test-amd64-i386-xl-credit2 queued test-amd64-i386-freebsd10-i386 queued test-amd64-amd64-xl-pcipt-intel queued test-amd64-i386-rhel6hvm-intel queued test-amd64-i386-qemut-rhel6hvm-intel queued test-amd64-i386-qemuu-rhel6hvm-intel queued test-amd64-i386-xl-multivcpu queued test-amd64-amd64-pair queued test-amd64-i386-pair queued test-amd64-amd64-xl-sedf-pin queued test-amd64-amd64-xl-sedf queued test-amd64-i386-xl-qemut-winxpsp3-vcpus1 queued test-amd64-i386-xl-qemuu-winxpsp3-vcpus1 queued test-amd64-i386-xl-winxpsp3-vcpus1 queued test-amd64-amd64-xl-qemut-winxpsp3 queued test-amd64-i386-xl-qemut-winxpsp3 queued test-amd64-amd64-xl-qemuu-winxpsp3 queued test-amd64-i386-xl-qemuu-winxpsp3 queued test-amd64-amd64-xl-winxpsp3 queued test-amd64-i386-xl-winxpsp3 queued ------------------------------------------------------------ sg-report-flight on osstest.cam.xci-test.com logs: /home/xc_osstest/logs images: /home/xc_osstest/images Logs, config files, etc. are available at http://www.chiark.greenend.org.uk/~xensrcts/logs Test harness code can be found at http://xenbits.xensource.com/gitweb?p=osstest.git;a=summary Not pushing. (No revision log; it would be 901 lines long.) --===============8287363721087228970== Content-Type: text/plain; charset="us-ascii" MIME-Version: 1.0 Content-Transfer-Encoding: 7bit Content-Disposition: inline _______________________________________________ Xen-devel mailing list Xen-devel@lists.xen.org http://lists.xen.org/xen-devel --===============8287363721087228970==--