xen-devel.lists.xenproject.org archive mirror
 help / color / mirror / Atom feed
* [linux-3.4 test] 26063: trouble: blocked/broken
@ 2014-04-28 16:14 xen.org
  0 siblings, 0 replies; only message in thread
From: xen.org @ 2014-04-28 16:14 UTC (permalink / raw)
  To: xen-devel; +Cc: ian.jackson

[-- Attachment #1: Type: text/plain, Size: 8330 bytes --]

flight 26063 linux-3.4 real [real]
http://www.chiark.greenend.org.uk/~xensrcts/logs/26063/

Failures and problems with tests :-(

Tests which did not succeed and are blocking,
including tests which could not be run:
 build-amd64                   2 host-install(2)         broken REGR. vs. 25888
 build-i386                    2 host-install(2)         broken REGR. vs. 25888
 build-amd64-pvops             2 host-install(2)         broken REGR. vs. 25888
 build-i386-pvops              2 host-install(2)         broken REGR. vs. 25888

Tests which did not succeed, but are not blocking:
 test-amd64-amd64-xl-qemuu-ovmf-amd64  1 xen-build-check(1)         blocked n/a
 test-amd64-i386-qemut-rhel6hvm-intel  1 xen-build-check(1)         blocked n/a
 test-amd64-i386-qemuu-rhel6hvm-intel  1 xen-build-check(1)         blocked n/a
 test-amd64-amd64-xl-pcipt-intel  1 xen-build-check(1)           blocked  n/a
 test-amd64-i386-rhel6hvm-intel  1 xen-build-check(1)           blocked  n/a
 test-amd64-i386-qemut-rhel6hvm-amd  1 xen-build-check(1)           blocked n/a
 test-amd64-i386-qemuu-rhel6hvm-amd  1 xen-build-check(1)           blocked n/a
 test-amd64-i386-xl            1 xen-build-check(1)           blocked  n/a
 test-amd64-i386-rhel6hvm-amd  1 xen-build-check(1)           blocked  n/a
 test-amd64-i386-xl-multivcpu  1 xen-build-check(1)           blocked  n/a
 test-amd64-i386-freebsd10-i386  1 xen-build-check(1)           blocked  n/a
 test-amd64-amd64-xl           1 xen-build-check(1)           blocked  n/a
 test-amd64-i386-xl-credit2    1 xen-build-check(1)           blocked  n/a
 test-amd64-amd64-xl-sedf-pin  1 xen-build-check(1)           blocked  n/a
 test-amd64-i386-xl-qemuu-ovmf-amd64  1 xen-build-check(1)          blocked n/a
 test-amd64-amd64-xl-sedf      1 xen-build-check(1)           blocked  n/a
 test-amd64-i386-xl-win7-amd64  1 xen-build-check(1)           blocked  n/a
 test-amd64-i386-freebsd10-amd64  1 xen-build-check(1)           blocked  n/a
 test-amd64-i386-xl-qemuu-winxpsp3-vcpus1  1 xen-build-check(1)     blocked n/a
 test-amd64-amd64-xl-winxpsp3  1 xen-build-check(1)           blocked  n/a
 test-amd64-i386-xl-qemuu-winxpsp3  1 xen-build-check(1)           blocked  n/a
 test-amd64-i386-pair          1 xen-build-check(1)           blocked  n/a
 test-amd64-amd64-pair         1 xen-build-check(1)           blocked  n/a
 test-amd64-i386-xl-qemut-win7-amd64  1 xen-build-check(1)          blocked n/a
 test-amd64-i386-xl-qemut-winxpsp3  1 xen-build-check(1)           blocked  n/a
 test-amd64-i386-xl-winxpsp3-vcpus1  1 xen-build-check(1)           blocked n/a
 test-amd64-i386-xl-qemuu-win7-amd64  1 xen-build-check(1)          blocked n/a
 test-amd64-amd64-xl-win7-amd64  1 xen-build-check(1)           blocked  n/a
 test-amd64-i386-xl-qemut-winxpsp3-vcpus1  1 xen-build-check(1)     blocked n/a
 test-amd64-amd64-xl-qemuu-win7-amd64  1 xen-build-check(1)         blocked n/a
 test-amd64-amd64-xl-qemut-win7-amd64  1 xen-build-check(1)         blocked n/a
 test-amd64-i386-xl-winxpsp3   1 xen-build-check(1)           blocked  n/a
 test-amd64-amd64-xl-qemuu-winxpsp3  1 xen-build-check(1)           blocked n/a
 test-amd64-amd64-xl-qemut-winxpsp3  1 xen-build-check(1)           blocked n/a

version targeted for testing:
 linux                5c5994f5a166379c5b8e719f17d466e9276ee581
baseline version:
 linux                9660cc51f80ab16b415b311f5f0ee8cdea496a7c

------------------------------------------------------------
People who touched revisions under test:
  Ajesh Kunhipurayil Vijayan <ajesh@broadcom.com>
  Allen Pais <allen.pais@oracle.com>
  Andrew Morton <akpm@linux-foundation.org>
  Bob Picco <bob.picco@oracle.com>
  Brian Norris <computersforpeace@gmail.com>
  Claudio Takahasi <claudio.takahasi@openbossa.org>
  Corey Minyard <cminyard@mvista.com>
  Dan Carpenter <dan.carpenter@oracle.com>
  Daniel Borkmann <dborkman@redhat.com>
  Dave Kleikamp <dave.kleikamp@oracle.com>
  David S. Miller <davem@davemloft.net>
  Eric Dumazet <edumazet@google.com>
  Fabio Estevam <fabio.estevam@freescale.com>
  Greg Kroah-Hartman <gregkh@linuxfoundation.org>
  Hannes Frederic Sowa <hannes@stressinduktion.org>
  Heiner Kallweit <heiner.kallweit@web.de>
  Jayachandran C <jchandra@broadcom.com>
  Jiri Slaby <jslaby@suse.cz>
  Johan Hedberg <johan.hedberg@intel.com>
  Kamlakant Patel <kamlakant.patel@broadcom.com>
  Kjetil Oftedal <oftedal@gmail.com>
  Li Zefan <lizefan@huawei.com>
  Linus Lüssing <linus.luessing@web.de>
  Linus Torvalds <torvalds@linux-foundation.org>
  Matthew Leach <matthew.leach@arm.com>
  Michael S. Tsirkin <mst@redhat.com>
  Michal Schmidt <mschmidt@redhat.com>
  Neil Horman <nhorman@tuxdriver.com>
  Oleg Nesterov <oleg@redhat.com>
  Pablo Neira Ayuso <pablo@netfilter.org>
  Paul Durrant <paul.durrant@citrix.com>
  Paul Gortmaker <paul.gortmaker@windriver.com>
  Peter Boström <peter.bostrom@netrounds.com>
  Sabrina Dubroca <sd@queasysnail.net>
  Sander Eikelenboom <linux@eikelenboom.it>
  Sasha Levin <sasha.levin@oracle.com>
  Vlad Yasevich <vyasevich@gmail.com>
  Xin Long <lucien.xin@gmail.com>
  YOSHIFUJI Hideaki <yoshfuji@linux-ipv6.org>
------------------------------------------------------------

jobs:
 build-amd64                                                  broken  
 build-i386                                                   broken  
 build-amd64-pvops                                            broken  
 build-i386-pvops                                             broken  
 test-amd64-amd64-xl                                          blocked 
 test-amd64-i386-xl                                           blocked 
 test-amd64-i386-rhel6hvm-amd                                 blocked 
 test-amd64-i386-qemut-rhel6hvm-amd                           blocked 
 test-amd64-i386-qemuu-rhel6hvm-amd                           blocked 
 test-amd64-i386-freebsd10-amd64                              blocked 
 test-amd64-amd64-xl-qemuu-ovmf-amd64                         blocked 
 test-amd64-i386-xl-qemuu-ovmf-amd64                          blocked 
 test-amd64-amd64-xl-qemut-win7-amd64                         blocked 
 test-amd64-i386-xl-qemut-win7-amd64                          blocked 
 test-amd64-amd64-xl-qemuu-win7-amd64                         blocked 
 test-amd64-i386-xl-qemuu-win7-amd64                          blocked 
 test-amd64-amd64-xl-win7-amd64                               blocked 
 test-amd64-i386-xl-win7-amd64                                blocked 
 test-amd64-i386-xl-credit2                                   blocked 
 test-amd64-i386-freebsd10-i386                               blocked 
 test-amd64-amd64-xl-pcipt-intel                              blocked 
 test-amd64-i386-rhel6hvm-intel                               blocked 
 test-amd64-i386-qemut-rhel6hvm-intel                         blocked 
 test-amd64-i386-qemuu-rhel6hvm-intel                         blocked 
 test-amd64-i386-xl-multivcpu                                 blocked 
 test-amd64-amd64-pair                                        blocked 
 test-amd64-i386-pair                                         blocked 
 test-amd64-amd64-xl-sedf-pin                                 blocked 
 test-amd64-amd64-xl-sedf                                     blocked 
 test-amd64-i386-xl-qemut-winxpsp3-vcpus1                     blocked 
 test-amd64-i386-xl-qemuu-winxpsp3-vcpus1                     blocked 
 test-amd64-i386-xl-winxpsp3-vcpus1                           blocked 
 test-amd64-amd64-xl-qemut-winxpsp3                           blocked 
 test-amd64-i386-xl-qemut-winxpsp3                            blocked 
 test-amd64-amd64-xl-qemuu-winxpsp3                           blocked 
 test-amd64-i386-xl-qemuu-winxpsp3                            blocked 
 test-amd64-amd64-xl-winxpsp3                                 blocked 
 test-amd64-i386-xl-winxpsp3                                  blocked 


------------------------------------------------------------
sg-report-flight on osstest.cam.xci-test.com
logs: /home/xc_osstest/logs
images: /home/xc_osstest/images

Logs, config files, etc. are available at
    http://www.chiark.greenend.org.uk/~xensrcts/logs

Test harness code can be found at
    http://xenbits.xensource.com/gitweb?p=osstest.git;a=summary


Not pushing.

(No revision log; it would be 901 lines long.)


[-- Attachment #2: Type: text/plain, Size: 126 bytes --]

_______________________________________________
Xen-devel mailing list
Xen-devel@lists.xen.org
http://lists.xen.org/xen-devel

^ permalink raw reply	[flat|nested] only message in thread

only message in thread, other threads:[~2014-04-28 16:14 UTC | newest]

Thread overview: (only message) (download: mbox.gz follow: Atom feed
-- links below jump to the message on this page --
2014-04-28 16:14 [linux-3.4 test] 26063: trouble: blocked/broken xen.org

This is a public inbox, see mirroring instructions
for how to clone and mirror all data and code used for this inbox;
as well as URLs for NNTP newsgroup(s).