From mboxrd@z Thu Jan 1 00:00:00 1970 From: xen.org Subject: [linux-3.4 test] 26063: trouble: blocked/broken Date: Mon, 28 Apr 2014 17:14:21 +0100 Message-ID: Mime-Version: 1.0 Content-Type: multipart/mixed; boundary="===============7711896736965760068==" Return-path: List-Unsubscribe: , List-Post: List-Help: List-Subscribe: , Sender: xen-devel-bounces@lists.xen.org Errors-To: xen-devel-bounces@lists.xen.org To: xen-devel@lists.xensource.com Cc: ian.jackson@eu.citrix.com List-Id: xen-devel@lists.xenproject.org --===============7711896736965760068== Content-Type: text/plain flight 26063 linux-3.4 real [real] http://www.chiark.greenend.org.uk/~xensrcts/logs/26063/ Failures and problems with tests :-( Tests which did not succeed and are blocking, including tests which could not be run: build-amd64 2 host-install(2) broken REGR. vs. 25888 build-i386 2 host-install(2) broken REGR. vs. 25888 build-amd64-pvops 2 host-install(2) broken REGR. vs. 25888 build-i386-pvops 2 host-install(2) broken REGR. vs. 25888 Tests which did not succeed, but are not blocking: test-amd64-amd64-xl-qemuu-ovmf-amd64 1 xen-build-check(1) blocked n/a test-amd64-i386-qemut-rhel6hvm-intel 1 xen-build-check(1) blocked n/a test-amd64-i386-qemuu-rhel6hvm-intel 1 xen-build-check(1) blocked n/a test-amd64-amd64-xl-pcipt-intel 1 xen-build-check(1) blocked n/a test-amd64-i386-rhel6hvm-intel 1 xen-build-check(1) blocked n/a test-amd64-i386-qemut-rhel6hvm-amd 1 xen-build-check(1) blocked n/a test-amd64-i386-qemuu-rhel6hvm-amd 1 xen-build-check(1) blocked n/a test-amd64-i386-xl 1 xen-build-check(1) blocked n/a test-amd64-i386-rhel6hvm-amd 1 xen-build-check(1) blocked n/a test-amd64-i386-xl-multivcpu 1 xen-build-check(1) blocked n/a test-amd64-i386-freebsd10-i386 1 xen-build-check(1) blocked n/a test-amd64-amd64-xl 1 xen-build-check(1) blocked n/a test-amd64-i386-xl-credit2 1 xen-build-check(1) blocked n/a test-amd64-amd64-xl-sedf-pin 1 xen-build-check(1) blocked n/a test-amd64-i386-xl-qemuu-ovmf-amd64 1 xen-build-check(1) blocked n/a test-amd64-amd64-xl-sedf 1 xen-build-check(1) blocked n/a test-amd64-i386-xl-win7-amd64 1 xen-build-check(1) blocked n/a test-amd64-i386-freebsd10-amd64 1 xen-build-check(1) blocked n/a test-amd64-i386-xl-qemuu-winxpsp3-vcpus1 1 xen-build-check(1) blocked n/a test-amd64-amd64-xl-winxpsp3 1 xen-build-check(1) blocked n/a test-amd64-i386-xl-qemuu-winxpsp3 1 xen-build-check(1) blocked n/a test-amd64-i386-pair 1 xen-build-check(1) blocked n/a test-amd64-amd64-pair 1 xen-build-check(1) blocked n/a test-amd64-i386-xl-qemut-win7-amd64 1 xen-build-check(1) blocked n/a test-amd64-i386-xl-qemut-winxpsp3 1 xen-build-check(1) blocked n/a test-amd64-i386-xl-winxpsp3-vcpus1 1 xen-build-check(1) blocked n/a test-amd64-i386-xl-qemuu-win7-amd64 1 xen-build-check(1) blocked n/a test-amd64-amd64-xl-win7-amd64 1 xen-build-check(1) blocked n/a test-amd64-i386-xl-qemut-winxpsp3-vcpus1 1 xen-build-check(1) blocked n/a test-amd64-amd64-xl-qemuu-win7-amd64 1 xen-build-check(1) blocked n/a test-amd64-amd64-xl-qemut-win7-amd64 1 xen-build-check(1) blocked n/a test-amd64-i386-xl-winxpsp3 1 xen-build-check(1) blocked n/a test-amd64-amd64-xl-qemuu-winxpsp3 1 xen-build-check(1) blocked n/a test-amd64-amd64-xl-qemut-winxpsp3 1 xen-build-check(1) blocked n/a version targeted for testing: linux 5c5994f5a166379c5b8e719f17d466e9276ee581 baseline version: linux 9660cc51f80ab16b415b311f5f0ee8cdea496a7c ------------------------------------------------------------ People who touched revisions under test: Ajesh Kunhipurayil Vijayan Allen Pais Andrew Morton Bob Picco Brian Norris Claudio Takahasi Corey Minyard Dan Carpenter Daniel Borkmann Dave Kleikamp David S. Miller Eric Dumazet Fabio Estevam Greg Kroah-Hartman Hannes Frederic Sowa Heiner Kallweit Jayachandran C Jiri Slaby Johan Hedberg Kamlakant Patel Kjetil Oftedal Li Zefan Linus Lüssing Linus Torvalds Matthew Leach Michael S. Tsirkin Michal Schmidt Neil Horman Oleg Nesterov Pablo Neira Ayuso Paul Durrant Paul Gortmaker Peter Boström Sabrina Dubroca Sander Eikelenboom Sasha Levin Vlad Yasevich Xin Long YOSHIFUJI Hideaki ------------------------------------------------------------ jobs: build-amd64 broken build-i386 broken build-amd64-pvops broken build-i386-pvops broken test-amd64-amd64-xl blocked test-amd64-i386-xl blocked test-amd64-i386-rhel6hvm-amd blocked test-amd64-i386-qemut-rhel6hvm-amd blocked test-amd64-i386-qemuu-rhel6hvm-amd blocked test-amd64-i386-freebsd10-amd64 blocked test-amd64-amd64-xl-qemuu-ovmf-amd64 blocked test-amd64-i386-xl-qemuu-ovmf-amd64 blocked test-amd64-amd64-xl-qemut-win7-amd64 blocked test-amd64-i386-xl-qemut-win7-amd64 blocked test-amd64-amd64-xl-qemuu-win7-amd64 blocked test-amd64-i386-xl-qemuu-win7-amd64 blocked test-amd64-amd64-xl-win7-amd64 blocked test-amd64-i386-xl-win7-amd64 blocked test-amd64-i386-xl-credit2 blocked test-amd64-i386-freebsd10-i386 blocked test-amd64-amd64-xl-pcipt-intel blocked test-amd64-i386-rhel6hvm-intel blocked test-amd64-i386-qemut-rhel6hvm-intel blocked test-amd64-i386-qemuu-rhel6hvm-intel blocked test-amd64-i386-xl-multivcpu blocked test-amd64-amd64-pair blocked test-amd64-i386-pair blocked test-amd64-amd64-xl-sedf-pin blocked test-amd64-amd64-xl-sedf blocked test-amd64-i386-xl-qemut-winxpsp3-vcpus1 blocked test-amd64-i386-xl-qemuu-winxpsp3-vcpus1 blocked test-amd64-i386-xl-winxpsp3-vcpus1 blocked test-amd64-amd64-xl-qemut-winxpsp3 blocked test-amd64-i386-xl-qemut-winxpsp3 blocked test-amd64-amd64-xl-qemuu-winxpsp3 blocked test-amd64-i386-xl-qemuu-winxpsp3 blocked test-amd64-amd64-xl-winxpsp3 blocked test-amd64-i386-xl-winxpsp3 blocked ------------------------------------------------------------ sg-report-flight on osstest.cam.xci-test.com logs: /home/xc_osstest/logs images: /home/xc_osstest/images Logs, config files, etc. are available at http://www.chiark.greenend.org.uk/~xensrcts/logs Test harness code can be found at http://xenbits.xensource.com/gitweb?p=osstest.git;a=summary Not pushing. (No revision log; it would be 901 lines long.) --===============7711896736965760068== Content-Type: text/plain; charset="us-ascii" MIME-Version: 1.0 Content-Transfer-Encoding: 7bit Content-Disposition: inline _______________________________________________ Xen-devel mailing list Xen-devel@lists.xen.org http://lists.xen.org/xen-devel --===============7711896736965760068==--