xen-devel.lists.xenproject.org archive mirror
 help / color / mirror / Atom feed
* [rumpuserxen test] 26481: all pass - PUSHED
@ 2014-05-29  2:01 xen.org
  0 siblings, 0 replies; only message in thread
From: xen.org @ 2014-05-29  2:01 UTC (permalink / raw)
  To: xen-devel; +Cc: ian.jackson

flight 26481 rumpuserxen real [real]
http://www.chiark.greenend.org.uk/~xensrcts/logs/26481/

Perfect :-)
All tests in this flight passed
version targeted for testing:
 rumpuserxen          29ffcff77f2401d429e1f4a108a0a7a0a34b6741
baseline version:
 rumpuserxen          4950bdd7b27dc50d29300b7a57b1d0c2c05d2d3d

------------------------------------------------------------
People who touched revisions under test:
  Antti Kantee <pooka@iki.fi>
------------------------------------------------------------

jobs:
 build-amd64                                                  pass    
 build-i386                                                   pass    
 build-amd64-pvops                                            pass    
 build-i386-pvops                                             pass    
 build-amd64-rumpuserxen                                      pass    
 build-i386-rumpuserxen                                       pass    
 test-amd64-amd64-rumpuserxen-amd64                           pass    
 test-amd64-i386-rumpuserxen-i386                             pass    


------------------------------------------------------------
sg-report-flight on osstest.cam.xci-test.com
logs: /home/xc_osstest/logs
images: /home/xc_osstest/images

Logs, config files, etc. are available at
    http://www.chiark.greenend.org.uk/~xensrcts/logs

Test harness code can be found at
    http://xenbits.xensource.com/gitweb?p=osstest.git;a=summary


Pushing revision :

+ branch=rumpuserxen
+ revision=29ffcff77f2401d429e1f4a108a0a7a0a34b6741
+ . cri-lock-repos
++ . cri-common
+++ . cri-getconfig
+++ umask 002
+++ getconfig Repos
+++ perl -e '
                use Osstest;
                readglobalconfig();
                print $c{"Repos"} or die $!;
        '
++ repos=/export/home/osstest/repos
++ repos_lock=/export/home/osstest/repos/lock
++ '[' x '!=' x/export/home/osstest/repos/lock ']'
++ OSSTEST_REPOS_LOCK_LOCKED=/export/home/osstest/repos/lock
++ exec with-lock-ex -w /export/home/osstest/repos/lock ./ap-push rumpuserxen 29ffcff77f2401d429e1f4a108a0a7a0a34b6741
+ branch=rumpuserxen
+ revision=29ffcff77f2401d429e1f4a108a0a7a0a34b6741
+ . cri-lock-repos
++ . cri-common
+++ . cri-getconfig
+++ umask 002
+++ getconfig Repos
+++ perl -e '
                use Osstest;
                readglobalconfig();
                print $c{"Repos"} or die $!;
        '
++ repos=/export/home/osstest/repos
++ repos_lock=/export/home/osstest/repos/lock
++ '[' x/export/home/osstest/repos/lock '!=' x/export/home/osstest/repos/lock ']'
+ . cri-common
++ . cri-getconfig
++ umask 002
+ select_xenbranch
+ case "$branch" in
+ tree=rumpuserxen
+ xenbranch=xen-unstable
+ '[' xrumpuserxen = xlinux ']'
+ linuxbranch=
+ '[' x = x ']'
+ qemuubranch=qemu-upstream-unstable
+ : tested/2.6.39.x
+ . ap-common
++ : osstest@xenbits.xensource.com
++ : git://xenbits.xen.org/xen.git
++ : osstest@xenbits.xensource.com:/home/xen/git/xen.git
++ : git://xenbits.xen.org/staging/qemu-xen-unstable.git
++ : git://git.kernel.org
++ : git://git.kernel.org/pub/scm/linux/kernel/git
++ : git
++ : git://libvirt.org/libvirt.git
++ : osstest@xenbits.xensource.com:/home/xen/git/libvirt.git
++ : git://xenbits.xen.org/libvirt.git
++ : git://git.sv.gnu.org/gnulib.git
++ : https://github.com/rumpkernel/rumpuser-xen
++ : git
++ : git://xenbits.xen.org/rumpuser-xen.git
++ : osstest@xenbits.xensource.com:/home/xen/git/rumpuser-xen.git
++ : https://github.com/rumpkernel/rumpkernel-netbsd-src
++ : git
++ : git://git.seabios.org/seabios.git
++ : osstest@xenbits.xensource.com:/home/xen/git/osstest/seabios.git
++ : git://xenbits.xen.org/osstest/seabios.git
++ : git://xenbits.xen.org/osstest/linux-firmware.git
++ : osstest@xenbits.xensource.com:/home/osstest/ext/linux-firmware.git
++ : git://git.kernel.org/pub/scm/linux/kernel/git/firmware/linux-firmware.git
++ : osstest@xenbits.xensource.com:/home/xen/git/linux-pvops.git
++ : git://xenbits.xen.org/linux-pvops.git
++ : tested/linux-3.4
++ : tested/linux-arm-xen
++ '[' xgit://xenbits.xen.org/linux-pvops.git = x ']'
++ '[' x = x ']'
++ : git://xenbits.xen.org/linux-pvops.git
++ : tested/linux-arm-xen
++ : git://git.kernel.org/pub/scm/linux/kernel/git/konrad/xen.git
++ : tested/2.6.39.x
++ : daily-cron.rumpuserxen
++ : daily-cron.rumpuserxen
++ : daily-cron.rumpuserxen
++ : daily-cron.rumpuserxen
++ : daily-cron.rumpuserxen
++ : daily-cron.rumpuserxen
++ : http://hg.uk.xensource.com/carbon/trunk/linux-2.6.27
++ : git://xenbits.xen.org/staging/qemu-upstream-unstable.git
++ : daily-cron.rumpuserxen
++ : git://git.qemu.org/qemu.git
++ : git://xenbits.xen.org/osstest/qemu.git
++ : osstest@xenbits.xensource.com:/home/xen/git/osstest/qemu.git
++ : daily-cron.rumpuserxen
+ TREE_LINUX=osstest@xenbits.xensource.com:/home/xen/git/linux-pvops.git
+ TREE_QEMU_MAINLINE=osstest@xenbits.xensource.com:/home/xen/git/osstest/qemu.git
+ TREE_QEMU_UPSTREAM=osstest@xenbits.xensource.com:/home/xen/git/qemu-upstream-unstable.git
+ TREE_XEN=osstest@xenbits.xensource.com:/home/xen/git/xen.git
+ TREE_LIBVIRT=osstest@xenbits.xensource.com:/home/xen/git/libvirt.git
+ TREE_RUMPUSERXEN=osstest@xenbits.xensource.com:/home/xen/git/rumpuser-xen.git
+ TREE_SEABIOS=osstest@xenbits.xensource.com:/home/xen/git/osstest/seabios.git
+ info_linux_tree rumpuserxen
+ case $1 in
+ return 1
+ case "$branch" in
+ cd /export/home/osstest/repos/rumpuserxen
+ git push osstest@xenbits.xensource.com:/home/xen/git/rumpuser-xen.git 29ffcff77f2401d429e1f4a108a0a7a0a34b6741:xen-tested-master
To osstest@xenbits.xensource.com:/home/xen/git/rumpuser-xen.git
   4950bdd..29ffcff  29ffcff77f2401d429e1f4a108a0a7a0a34b6741 -> xen-tested-master

^ permalink raw reply	[flat|nested] only message in thread

only message in thread, other threads:[~2014-05-29  2:01 UTC | newest]

Thread overview: (only message) (download: mbox.gz follow: Atom feed
-- links below jump to the message on this page --
2014-05-29  2:01 [rumpuserxen test] 26481: all pass - PUSHED xen.org

This is a public inbox, see mirroring instructions
for how to clone and mirror all data and code used for this inbox;
as well as URLs for NNTP newsgroup(s).