From: xen.org <Ian.Jackson@eu.citrix.com>
To: xen-devel@lists.xensource.com, rumpkernel-builds@lists.sourceforge.net
Cc: ian.jackson@eu.citrix.com
Subject: [rumpuserxen test] 29392: all pass
Date: Fri, 18 Jul 2014 18:50:13 +0100 [thread overview]
Message-ID: <osstest-29392-mainreport@xen.org> (raw)
flight 29392 rumpuserxen real [real]
http://www.chiark.greenend.org.uk/~xensrcts/logs/29392/
Perfect :-)
All tests in this flight passed
version targeted for testing:
rumpuserxen aa08c3797fa4e4e5795c1a653adcb41e2f7eecf6
baseline version:
rumpuserxen aa08c3797fa4e4e5795c1a653adcb41e2f7eecf6
jobs:
build-amd64 pass
build-i386 pass
build-amd64-pvops pass
build-i386-pvops pass
build-amd64-rumpuserxen pass
build-i386-rumpuserxen pass
test-amd64-amd64-rumpuserxen-amd64 pass
test-amd64-i386-rumpuserxen-i386 pass
------------------------------------------------------------
sg-report-flight on osstest.cam.xci-test.com
logs: /home/xc_osstest/logs
images: /home/xc_osstest/images
Logs, config files, etc. are available at
http://www.chiark.greenend.org.uk/~xensrcts/logs
Test harness code can be found at
http://xenbits.xensource.com/gitweb?p=osstest.git;a=summary
Published tested tree is already up to date.
reply other threads:[~2014-07-18 17:50 UTC|newest]
Thread overview: [no followups] expand[flat|nested] mbox.gz Atom feed
Reply instructions:
You may reply publicly to this message via plain-text email
using any one of the following methods:
* Save the following mbox file, import it into your mail client,
and reply-to-all from there: mbox
Avoid top-posting and favor interleaved quoting:
https://en.wikipedia.org/wiki/Posting_style#Interleaved_style
* Reply using the --to, --cc, and --in-reply-to
switches of git-send-email(1):
git send-email \
--in-reply-to=osstest-29392-mainreport@xen.org \
--to=ian.jackson@eu.citrix.com \
--cc=rumpkernel-builds@lists.sourceforge.net \
--cc=xen-devel@lists.xensource.com \
/path/to/YOUR_REPLY
https://kernel.org/pub/software/scm/git/docs/git-send-email.html
* If your mail client supports setting the In-Reply-To header
via mailto: links, try the mailto: link
Be sure your reply has a Subject: header at the top and a blank line
before the message body.
This is a public inbox, see mirroring instructions
for how to clone and mirror all data and code used for this inbox;
as well as URLs for NNTP newsgroup(s).