From mboxrd@z Thu Jan 1 00:00:00 1970 From: xen.org Subject: [rumpuserxen test] 29392: all pass Date: Fri, 18 Jul 2014 18:50:13 +0100 Message-ID: Mime-Version: 1.0 Content-Type: text/plain; charset="us-ascii" Content-Transfer-Encoding: 7bit Return-path: List-Unsubscribe: , List-Post: List-Help: List-Subscribe: , Sender: xen-devel-bounces@lists.xen.org Errors-To: xen-devel-bounces@lists.xen.org To: xen-devel@lists.xensource.com, rumpkernel-builds@lists.sourceforge.net Cc: ian.jackson@eu.citrix.com List-Id: xen-devel@lists.xenproject.org flight 29392 rumpuserxen real [real] http://www.chiark.greenend.org.uk/~xensrcts/logs/29392/ Perfect :-) All tests in this flight passed version targeted for testing: rumpuserxen aa08c3797fa4e4e5795c1a653adcb41e2f7eecf6 baseline version: rumpuserxen aa08c3797fa4e4e5795c1a653adcb41e2f7eecf6 jobs: build-amd64 pass build-i386 pass build-amd64-pvops pass build-i386-pvops pass build-amd64-rumpuserxen pass build-i386-rumpuserxen pass test-amd64-amd64-rumpuserxen-amd64 pass test-amd64-i386-rumpuserxen-i386 pass ------------------------------------------------------------ sg-report-flight on osstest.cam.xci-test.com logs: /home/xc_osstest/logs images: /home/xc_osstest/images Logs, config files, etc. are available at http://www.chiark.greenend.org.uk/~xensrcts/logs Test harness code can be found at http://xenbits.xensource.com/gitweb?p=osstest.git;a=summary Published tested tree is already up to date.