* [rumpuserxen test] 29392: all pass
@ 2014-07-18 17:50 xen.org
0 siblings, 0 replies; only message in thread
From: xen.org @ 2014-07-18 17:50 UTC (permalink / raw)
To: xen-devel, rumpkernel-builds; +Cc: ian.jackson
flight 29392 rumpuserxen real [real]
http://www.chiark.greenend.org.uk/~xensrcts/logs/29392/
Perfect :-)
All tests in this flight passed
version targeted for testing:
rumpuserxen aa08c3797fa4e4e5795c1a653adcb41e2f7eecf6
baseline version:
rumpuserxen aa08c3797fa4e4e5795c1a653adcb41e2f7eecf6
jobs:
build-amd64 pass
build-i386 pass
build-amd64-pvops pass
build-i386-pvops pass
build-amd64-rumpuserxen pass
build-i386-rumpuserxen pass
test-amd64-amd64-rumpuserxen-amd64 pass
test-amd64-i386-rumpuserxen-i386 pass
------------------------------------------------------------
sg-report-flight on osstest.cam.xci-test.com
logs: /home/xc_osstest/logs
images: /home/xc_osstest/images
Logs, config files, etc. are available at
http://www.chiark.greenend.org.uk/~xensrcts/logs
Test harness code can be found at
http://xenbits.xensource.com/gitweb?p=osstest.git;a=summary
Published tested tree is already up to date.
^ permalink raw reply [flat|nested] only message in thread
only message in thread, other threads:[~2014-07-18 17:50 UTC | newest]
Thread overview: (only message) (download: mbox.gz follow: Atom feed
-- links below jump to the message on this page --
2014-07-18 17:50 [rumpuserxen test] 29392: all pass xen.org
This is a public inbox, see mirroring instructions
for how to clone and mirror all data and code used for this inbox;
as well as URLs for NNTP newsgroup(s).