* [rumpuserxen test] 29548: trouble: broken/pass
@ 2014-08-01 8:02 xen.org
0 siblings, 0 replies; only message in thread
From: xen.org @ 2014-08-01 8:02 UTC (permalink / raw)
To: xen-devel, rumpkernel-builds; +Cc: ian.jackson
flight 29548 rumpuserxen real [real]
http://www.chiark.greenend.org.uk/~xensrcts/logs/29548/
Failures and problems with tests :-(
Tests which did not succeed and are blocking,
including tests which could not be run:
test-amd64-i386-rumpuserxen-i386 3 host-install(3) broken REGR. vs. 29521
version targeted for testing:
rumpuserxen 81e3a66bde0dc534f6a965858cf1daf0965367a5
baseline version:
rumpuserxen c2eeb369ef2eb72b4d5ac0c9b2b986b2945c8fc1
------------------------------------------------------------
People who touched revisions under test:
Antti Kantee <pooka@iki.fi>
------------------------------------------------------------
jobs:
build-amd64 pass
build-i386 pass
build-amd64-pvops pass
build-i386-pvops pass
build-amd64-rumpuserxen pass
build-i386-rumpuserxen pass
test-amd64-amd64-rumpuserxen-amd64 pass
test-amd64-i386-rumpuserxen-i386 broken
------------------------------------------------------------
sg-report-flight on osstest.cam.xci-test.com
logs: /home/xc_osstest/logs
images: /home/xc_osstest/images
Logs, config files, etc. are available at
http://www.chiark.greenend.org.uk/~xensrcts/logs
Test harness code can be found at
http://xenbits.xensource.com/gitweb?p=osstest.git;a=summary
Not pushing.
------------------------------------------------------------
commit 81e3a66bde0dc534f6a965858cf1daf0965367a5
Author: Antti Kantee <pooka@iki.fi>
Date: Wed Jul 30 12:12:54 2014 +0000
update travis urls
commit a18c746dbd656333c096fefc3cd5a7dad1c3b96e
Author: Antti Kantee <pooka@iki.fi>
Date: Wed Jul 30 12:11:39 2014 +0000
update wiki url (repo rename rumpuser-xen -> rumprun-xen)
^ permalink raw reply [flat|nested] only message in thread
only message in thread, other threads:[~2014-08-01 8:02 UTC | newest]
Thread overview: (only message) (download: mbox.gz follow: Atom feed
-- links below jump to the message on this page --
2014-08-01 8:02 [rumpuserxen test] 29548: trouble: broken/pass xen.org
This is a public inbox, see mirroring instructions
for how to clone and mirror all data and code used for this inbox;
as well as URLs for NNTP newsgroup(s).