From: xen.org <Ian.Jackson@eu.citrix.com>
To: xen-devel@lists.xensource.com
Cc: ian.jackson@eu.citrix.com
Subject: [xen-unstable test] 30501: trouble: blocked/broken/pass
Date: Mon, 29 Sep 2014 11:23:58 +0100 [thread overview]
Message-ID: <osstest-30501-mainreport@xen.org> (raw)
[-- Attachment #1: Type: text/plain, Size: 10781 bytes --]
flight 30501 xen-unstable real [real]
http://www.chiark.greenend.org.uk/~xensrcts/logs/30501/
Failures and problems with tests :-(
Tests which did not succeed and are blocking,
including tests which could not be run:
build-armhf-pvops 3 host-install(3) broken REGR. vs. 30359
build-i386-oldkern 3 host-install(3) broken REGR. vs. 30359
build-amd64-pvops 3 host-install(3) broken REGR. vs. 30359
build-i386 3 host-install(3) broken REGR. vs. 30359
build-amd64 3 host-install(3) broken REGR. vs. 30359
build-amd64-oldkern 3 host-install(3) broken REGR. vs. 30359
Tests which did not succeed, but are not blocking:
test-amd64-amd64-libvirt 1 build-check(1) blocked n/a
build-amd64-rumpuserxen 1 build-check(1) blocked n/a
test-amd64-i386-rumpuserxen-i386 1 build-check(1) blocked n/a
test-amd64-amd64-rumpuserxen-amd64 1 build-check(1) blocked n/a
test-amd64-i386-libvirt 1 build-check(1) blocked n/a
test-armhf-armhf-libvirt 1 build-check(1) blocked n/a
test-amd64-amd64-xl-pcipt-intel 1 build-check(1) blocked n/a
test-armhf-armhf-xl 1 build-check(1) blocked n/a
test-amd64-i386-qemut-rhel6hvm-amd 1 build-check(1) blocked n/a
test-amd64-i386-rhel6hvm-amd 1 build-check(1) blocked n/a
test-amd64-amd64-xl-sedf 1 build-check(1) blocked n/a
test-amd64-amd64-xl 1 build-check(1) blocked n/a
test-amd64-i386-qemut-rhel6hvm-intel 1 build-check(1) blocked n/a
test-amd64-i386-xl 1 build-check(1) blocked n/a
test-amd64-amd64-xl-sedf-pin 1 build-check(1) blocked n/a
test-amd64-i386-xl-qemut-winxpsp3 1 build-check(1) blocked n/a
test-amd64-i386-qemuu-rhel6hvm-intel 1 build-check(1) blocked n/a
test-amd64-i386-xl-multivcpu 1 build-check(1) blocked n/a
test-amd64-i386-qemuu-rhel6hvm-amd 1 build-check(1) blocked n/a
build-amd64-libvirt 1 build-check(1) blocked n/a
test-amd64-i386-freebsd10-amd64 1 build-check(1) blocked n/a
test-amd64-i386-xl-credit2 1 build-check(1) blocked n/a
test-amd64-i386-freebsd10-i386 1 build-check(1) blocked n/a
test-amd64-i386-xl-qemuu-winxpsp3 1 build-check(1) blocked n/a
test-amd64-i386-xl-qemuu-winxpsp3-vcpus1 1 build-check(1) blocked n/a
test-amd64-i386-rhel6hvm-intel 1 build-check(1) blocked n/a
test-amd64-i386-xl-qemut-winxpsp3-vcpus1 1 build-check(1) blocked n/a
build-i386-rumpuserxen 1 build-check(1) blocked n/a
build-i386-libvirt 1 build-check(1) blocked n/a
test-amd64-i386-pair 1 build-check(1) blocked n/a
test-amd64-amd64-xl-qemut-winxpsp3 1 build-check(1) blocked n/a
test-amd64-i386-xl-qemuu-ovmf-amd64 1 build-check(1) blocked n/a
test-amd64-i386-xl-qemut-debianhvm-amd64 1 build-check(1) blocked n/a
test-amd64-i386-xl-qemuu-debianhvm-amd64 1 build-check(1) blocked n/a
test-amd64-amd64-xl-qemut-debianhvm-amd64 1 build-check(1) blocked n/a
test-amd64-amd64-pair 1 build-check(1) blocked n/a
test-amd64-amd64-xl-qemuu-debianhvm-amd64 1 build-check(1) blocked n/a
test-amd64-amd64-xl-qemuu-ovmf-amd64 1 build-check(1) blocked n/a
test-amd64-amd64-xl-winxpsp3 1 build-check(1) blocked n/a
test-amd64-i386-xl-winxpsp3-vcpus1 1 build-check(1) blocked n/a
test-amd64-i386-xl-qemuu-win7-amd64 1 build-check(1) blocked n/a
test-amd64-i386-xl-winxpsp3 1 build-check(1) blocked n/a
test-amd64-amd64-xl-qemut-win7-amd64 1 build-check(1) blocked n/a
test-amd64-amd64-xl-qemuu-win7-amd64 1 build-check(1) blocked n/a
test-amd64-i386-xl-win7-amd64 1 build-check(1) blocked n/a
test-amd64-amd64-xl-win7-amd64 1 build-check(1) blocked n/a
test-amd64-amd64-xl-qemuu-winxpsp3 1 build-check(1) blocked n/a
test-amd64-i386-xl-qemut-win7-amd64 1 build-check(1) blocked n/a
version targeted for testing:
xen 5dde73346f99f99397b1977ef9555e3592e9d71b
baseline version:
xen e01fa4e223fc077e18936d890dbd4813c3e7c9b1
------------------------------------------------------------
People who touched revisions under test:
Andrei LUTAS <vlutas@bitdefender.com>
Andrew Cooper <andrew.cooper3@citrix.com>
Anthony PERARD <anthony.perard@citrix.com>
Daniel De Graaf <dgdegra@tycho.nsa.gov>
Daniel Kiper <daniel.kiper@oracle.com>
Dario Faggioli <dario.faggioli@citrix.com>
David Vrabel <david.vrabel@citrix.com>
George Dunlap <george.dunlap@eu.citrix.com>
Ian Campbell <ian.campbell@citrix.com>
Ian Jackson <ian.jackson@eu.citrix.com>
Jan Beulich <jbeulich@suse.com>
Keir Fraser <keir@xen.org>
Kevin Tian <kevin.tian@intel.com>
Konrad Rzeszutek Wilk <konrad.wilk@oracle.com>
Lai Jiangshan <laijs@cn.fujitsu.com>
Meng Xu <mengxu@cis.upenn.edu>
Mukesh Rathor <mukesh.rathor@oracle.com>
Olaf Hering <olaf@aepfle.de>
Paul Durrant <paul.durrant@citrix.com>
Roger Pau Monne <roger.pau@citrix.com>
Roger Pau Monné <roger.pau@citrix.com>
Roy Franz <roy.franz@linaro.org>
Samuel Thibault <samuel.thibault@ens-lyon.org>
Shriram Rajagopalan <rshriram@cs.ubc.ca>
Sisu Xi <xisisu@gmail.com>
Stefano Stabellini <stefano.stabellini@eu.citrix.com>
Suriyan Ramasami <suriyan.r@gmail.com>
Tamas K Lengyel <tklengyel@sec.in.tum.de>
Tim Deegan <tim@xen.org>
Vijaya Kumar K <Vijaya.Kumar@caviumnetworks.com>
Vitaly Kuznetsov <vkuznets@redhat.com>
Wei Liu <wei.liu2@citrix.com>
Wen Congyang <wency@cn.fujitsu.com>
Yang Hongyang <yanghy@cn.fujitsu.com>
------------------------------------------------------------
jobs:
build-amd64 broken
build-armhf pass
build-i386 broken
build-amd64-libvirt blocked
build-armhf-libvirt pass
build-i386-libvirt blocked
build-amd64-oldkern broken
build-i386-oldkern broken
build-amd64-pvops broken
build-armhf-pvops broken
build-i386-pvops pass
build-amd64-rumpuserxen blocked
build-i386-rumpuserxen blocked
test-amd64-amd64-xl blocked
test-armhf-armhf-xl blocked
test-amd64-i386-xl blocked
test-amd64-i386-rhel6hvm-amd blocked
test-amd64-i386-qemut-rhel6hvm-amd blocked
test-amd64-i386-qemuu-rhel6hvm-amd blocked
test-amd64-amd64-xl-qemut-debianhvm-amd64 blocked
test-amd64-i386-xl-qemut-debianhvm-amd64 blocked
test-amd64-amd64-xl-qemuu-debianhvm-amd64 blocked
test-amd64-i386-xl-qemuu-debianhvm-amd64 blocked
test-amd64-i386-freebsd10-amd64 blocked
test-amd64-amd64-xl-qemuu-ovmf-amd64 blocked
test-amd64-i386-xl-qemuu-ovmf-amd64 blocked
test-amd64-amd64-rumpuserxen-amd64 blocked
test-amd64-amd64-xl-qemut-win7-amd64 blocked
test-amd64-i386-xl-qemut-win7-amd64 blocked
test-amd64-amd64-xl-qemuu-win7-amd64 blocked
test-amd64-i386-xl-qemuu-win7-amd64 blocked
test-amd64-amd64-xl-win7-amd64 blocked
test-amd64-i386-xl-win7-amd64 blocked
test-amd64-i386-xl-credit2 blocked
test-amd64-i386-freebsd10-i386 blocked
test-amd64-i386-rumpuserxen-i386 blocked
test-amd64-amd64-xl-pcipt-intel blocked
test-amd64-i386-rhel6hvm-intel blocked
test-amd64-i386-qemut-rhel6hvm-intel blocked
test-amd64-i386-qemuu-rhel6hvm-intel blocked
test-amd64-amd64-libvirt blocked
test-armhf-armhf-libvirt blocked
test-amd64-i386-libvirt blocked
test-amd64-i386-xl-multivcpu blocked
test-amd64-amd64-pair blocked
test-amd64-i386-pair blocked
test-amd64-amd64-xl-sedf-pin blocked
test-amd64-amd64-xl-sedf blocked
test-amd64-i386-xl-qemut-winxpsp3-vcpus1 blocked
test-amd64-i386-xl-qemuu-winxpsp3-vcpus1 blocked
test-amd64-i386-xl-winxpsp3-vcpus1 blocked
test-amd64-amd64-xl-qemut-winxpsp3 blocked
test-amd64-i386-xl-qemut-winxpsp3 blocked
test-amd64-amd64-xl-qemuu-winxpsp3 blocked
test-amd64-i386-xl-qemuu-winxpsp3 blocked
test-amd64-amd64-xl-winxpsp3 blocked
test-amd64-i386-xl-winxpsp3 blocked
------------------------------------------------------------
sg-report-flight on osstest.cam.xci-test.com
logs: /home/xc_osstest/logs
images: /home/xc_osstest/images
Logs, config files, etc. are available at
http://www.chiark.greenend.org.uk/~xensrcts/logs
Test harness code can be found at
http://xenbits.xensource.com/gitweb?p=osstest.git;a=summary
Not pushing.
(No revision log; it would be 1754 lines long.)
[-- Attachment #2: Type: text/plain, Size: 126 bytes --]
_______________________________________________
Xen-devel mailing list
Xen-devel@lists.xen.org
http://lists.xen.org/xen-devel
reply other threads:[~2014-09-29 10:23 UTC|newest]
Thread overview: [no followups] expand[flat|nested] mbox.gz Atom feed
Reply instructions:
You may reply publicly to this message via plain-text email
using any one of the following methods:
* Save the following mbox file, import it into your mail client,
and reply-to-all from there: mbox
Avoid top-posting and favor interleaved quoting:
https://en.wikipedia.org/wiki/Posting_style#Interleaved_style
* Reply using the --to, --cc, and --in-reply-to
switches of git-send-email(1):
git send-email \
--in-reply-to=osstest-30501-mainreport@xen.org \
--to=ian.jackson@eu.citrix.com \
--cc=xen-devel@lists.xensource.com \
/path/to/YOUR_REPLY
https://kernel.org/pub/software/scm/git/docs/git-send-email.html
* If your mail client supports setting the In-Reply-To header
via mailto: links, try the mailto: link
Be sure your reply has a Subject: header at the top and a blank line
before the message body.
This is a public inbox, see mirroring instructions
for how to clone and mirror all data and code used for this inbox;
as well as URLs for NNTP newsgroup(s).