* [ovmf baseline-only test] 38088: all pass
@ 2015-09-29 8:44 Platform Team regression test user
0 siblings, 0 replies; only message in thread
From: Platform Team regression test user @ 2015-09-29 8:44 UTC (permalink / raw)
To: xen-devel, osstest-admin
This run is configured for baseline tests only.
flight 38088 ovmf real [real]
http://osstest.xs.citrite.net/~osstest/testlogs/logs/38088/
Perfect :-)
All tests in this flight passed
version targeted for testing:
ovmf 28f27af6f007c3794fcc9d098ef91713160f4e5b
baseline version:
ovmf 8cfd008ef8da26d97314816e0635691955d475d5
Last test of basis 38024 2015-09-23 13:54:22 Z 5 days
Testing same since 38088 2015-09-27 11:36:09 Z 1 days 1 attempts
------------------------------------------------------------
People who touched revisions under test:
Ard Biesheuvel <ard.biesheuvel@linaro.org>
Feng Tian <feng.tian@intel.com>
Gabriel Somlo <somlo@cmu.edu>
Heyi Guo <heyi.guo@linaro.org>
Jaben Carsey <jaben.carsey@intel.com>
Jeff Fan <jeff.fan@intel.com>
Jiaxin Wu <jiaxin.wu@intel.com>
Laszlo Ersek <lersek@redhat.com>
Reza Jelveh <reza.jelveh@tuhh.de>
Ruiyu Ni <ruiyu.ni@intel.com>
Tapan Shah <tapandshah@hpe.com>
Ye Ting <ting.ye@intel.com>
jobs:
build-amd64-xsm pass
build-i386-xsm pass
build-amd64 pass
build-i386 pass
build-amd64-libvirt pass
build-i386-libvirt pass
build-amd64-pvops pass
build-i386-pvops pass
test-amd64-amd64-xl-qemuu-ovmf-amd64 pass
test-amd64-i386-xl-qemuu-ovmf-amd64 pass
------------------------------------------------------------
sg-report-flight on osstest.xs.citrite.net
logs: /home/osstest/logs
images: /home/osstest/images
Logs, config files, etc. are available at
http://osstest.xs.citrite.net/~osstest/testlogs/logs
Test harness code can be found at
http://xenbits.xensource.com/gitweb?p=osstest.git;a=summary
Push not applicable.
(No revision log; it would be 560 lines long.)
^ permalink raw reply [flat|nested] only message in thread
only message in thread, other threads:[~2015-09-29 8:44 UTC | newest]
Thread overview: (only message) (download: mbox.gz follow: Atom feed
-- links below jump to the message on this page --
2015-09-29 8:44 [ovmf baseline-only test] 38088: all pass Platform Team regression test user
This is a public inbox, see mirroring instructions
for how to clone and mirror all data and code used for this inbox;
as well as URLs for NNTP newsgroup(s).