From mboxrd@z Thu Jan 1 00:00:00 1970 From: Platform Team regression test user Subject: [ovmf baseline-only test] 38088: all pass Date: Tue, 29 Sep 2015 09:44:39 +0100 Message-ID: Mime-Version: 1.0 Content-Type: text/plain; charset="us-ascii" Content-Transfer-Encoding: 7bit Return-path: List-Unsubscribe: , List-Post: List-Help: List-Subscribe: , Sender: xen-devel-bounces@lists.xen.org Errors-To: xen-devel-bounces@lists.xen.org To: xen-devel@lists.xensource.com, osstest-admin@xenproject.org List-Id: xen-devel@lists.xenproject.org This run is configured for baseline tests only. flight 38088 ovmf real [real] http://osstest.xs.citrite.net/~osstest/testlogs/logs/38088/ Perfect :-) All tests in this flight passed version targeted for testing: ovmf 28f27af6f007c3794fcc9d098ef91713160f4e5b baseline version: ovmf 8cfd008ef8da26d97314816e0635691955d475d5 Last test of basis 38024 2015-09-23 13:54:22 Z 5 days Testing same since 38088 2015-09-27 11:36:09 Z 1 days 1 attempts ------------------------------------------------------------ People who touched revisions under test: Ard Biesheuvel Feng Tian Gabriel Somlo Heyi Guo Jaben Carsey Jeff Fan Jiaxin Wu Laszlo Ersek Reza Jelveh Ruiyu Ni Tapan Shah Ye Ting jobs: build-amd64-xsm pass build-i386-xsm pass build-amd64 pass build-i386 pass build-amd64-libvirt pass build-i386-libvirt pass build-amd64-pvops pass build-i386-pvops pass test-amd64-amd64-xl-qemuu-ovmf-amd64 pass test-amd64-i386-xl-qemuu-ovmf-amd64 pass ------------------------------------------------------------ sg-report-flight on osstest.xs.citrite.net logs: /home/osstest/logs images: /home/osstest/images Logs, config files, etc. are available at http://osstest.xs.citrite.net/~osstest/testlogs/logs Test harness code can be found at http://xenbits.xensource.com/gitweb?p=osstest.git;a=summary Push not applicable. (No revision log; it would be 560 lines long.)