* [ovmf baseline-only test] 38214: all pass
@ 2015-10-27 5:46 Platform Team regression test user
0 siblings, 0 replies; only message in thread
From: Platform Team regression test user @ 2015-10-27 5:46 UTC (permalink / raw)
To: xen-devel, osstest-admin
This run is configured for baseline tests only.
flight 38214 ovmf real [real]
http://osstest.xs.citrite.net/~osstest/testlogs/logs/38214/
Perfect :-)
All tests in this flight passed
version targeted for testing:
ovmf 5d3a9896f0cbb0c8c3d375d9f82a7e397be862a7
baseline version:
ovmf 0a7102fa8edb35ca98ec31469a41cb0afaec0f4d
Last test of basis 38210 2015-10-25 15:50:54 Z 1 days
Testing same since 38214 2015-10-27 03:50:14 Z 0 days 1 attempts
------------------------------------------------------------
People who touched revisions under test:
Star Zeng <star.zeng@intel.com>
Sunny Wang <sunnywang@hpe.com>
Yonghong Zhu <yonghong.zhu@intel.com>
jobs:
build-amd64-xsm pass
build-i386-xsm pass
build-amd64 pass
build-i386 pass
build-amd64-libvirt pass
build-i386-libvirt pass
build-amd64-pvops pass
build-i386-pvops pass
test-amd64-amd64-xl-qemuu-ovmf-amd64 pass
test-amd64-i386-xl-qemuu-ovmf-amd64 pass
------------------------------------------------------------
sg-report-flight on osstest.xs.citrite.net
logs: /home/osstest/logs
images: /home/osstest/images
Logs, config files, etc. are available at
http://osstest.xs.citrite.net/~osstest/testlogs/logs
Test harness code can be found at
http://xenbits.xensource.com/gitweb?p=osstest.git;a=summary
Push not applicable.
------------------------------------------------------------
commit 5d3a9896f0cbb0c8c3d375d9f82a7e397be862a7
Author: Sunny Wang <sunnywang@hpe.com>
Date: Mon Oct 26 04:49:08 2015 +0000
MdeModulePkg: Make the BmFindLoadOption function public
Make the BmFindLoadOption function public
Contributed-under: TianoCore Contribution Agreement 1.0
Signed-off-by: Sunny Wang <sunnywang@hpe.com>
Reviewed-by: Samer El-Haj-Mahmoud <elhaj@hpe.com>
git-svn-id: https://svn.code.sf.net/p/edk2/code/trunk/edk2@18662 6f19259b-4bc3-4df7-8a09-765794883524
commit 7beed8a3dac971d424adcb2d2139b87b0865950d
Author: Yonghong Zhu <yonghong.zhu@intel.com>
Date: Mon Oct 26 03:26:55 2015 +0000
BaseTools:added extern protocol/PPI/GUID definition in AutoGen for Library
We already added the extern declaration for protocols/PPI/GUID in AutoGen.h
file for driver, but missing this feature for the Library. so this patch
add it.
Contributed-under: TianoCore Contribution Agreement 1.0
Signed-off-by: Yonghong Zhu <yonghong.zhu@intel.com>
Reviewed-by: Liming Gao <liming.gao@intel.com>
git-svn-id: https://svn.code.sf.net/p/edk2/code/trunk/edk2@18661 6f19259b-4bc3-4df7-8a09-765794883524
commit 9382b53a23d210162008e3f434590de830a25698
Author: Star Zeng <star.zeng@intel.com>
Date: Mon Oct 26 02:00:58 2015 +0000
MdePkg BaseExtractGuidedSectionLib: R15917 removed useful information wrongly
As the title, this patch is to add back the useful information.
Cc: Liming Gao <liming.gao@intel.com>
Contributed-under: TianoCore Contribution Agreement 1.0
Signed-off-by: Star Zeng <star.zeng@intel.com>
Reviewed-by: Liming Gao <liming.gao@intel.com>
git-svn-id: https://svn.code.sf.net/p/edk2/code/trunk/edk2@18660 6f19259b-4bc3-4df7-8a09-765794883524
^ permalink raw reply [flat|nested] only message in thread
only message in thread, other threads:[~2015-10-27 5:46 UTC | newest]
Thread overview: (only message) (download: mbox.gz follow: Atom feed
-- links below jump to the message on this page --
2015-10-27 5:46 [ovmf baseline-only test] 38214: all pass Platform Team regression test user
This is a public inbox, see mirroring instructions
for how to clone and mirror all data and code used for this inbox;
as well as URLs for NNTP newsgroup(s).