From mboxrd@z Thu Jan 1 00:00:00 1970 From: Platform Team regression test user Subject: [qemu-mainline baseline-only test] 44169: trouble: broken/pass Date: Fri, 26 Feb 2016 14:56:56 +0000 Message-ID: Mime-Version: 1.0 Content-Type: multipart/mixed; boundary="===============8614770285577176933==" Return-path: List-Unsubscribe: , List-Post: List-Help: List-Subscribe: , Errors-To: xen-devel-bounces@lists.xen.org Sender: "Xen-devel" To: xen-devel@lists.xensource.com, osstest-admin@xenproject.org List-Id: xen-devel@lists.xenproject.org --===============8614770285577176933== Content-Type: text/plain This run is configured for baseline tests only. flight 44169 qemu-mainline real [real] http://osstest.xs.citrite.net/~osstest/testlogs/logs/44169/ Failures and problems with tests :-( Tests which did not succeed and are blocking, including tests which could not be run: test-armhf-armhf-xl-rtds broken test-amd64-i386-libvirt-xsm broken build-amd64-libvirt broken test-amd64-amd64-libvirt-qemuu-debianhvm-amd64-xsm broken test-amd64-amd64-xl-qemuu-ovmf-amd64 broken test-armhf-armhf-xl-vhd broken test-amd64-i386-pair broken test-armhf-armhf-xl-multivcpu broken test-armhf-armhf-libvirt-xsm broken test-amd64-i386-qemuu-rhel6hvm-intel broken test-amd64-amd64-xl-rtds broken test-amd64-i386-xl-qemuu-debianhvm-amd64-xsm broken test-armhf-armhf-xl-xsm broken test-amd64-i386-xl-qemuu-ovmf-amd64 broken test-amd64-amd64-xl-pvh-intel broken test-amd64-i386-xl-xsm broken test-amd64-amd64-xl-qemuu-winxpsp3 broken test-amd64-amd64-amd64-pvgrub broken test-armhf-armhf-libvirt broken test-amd64-amd64-xl-pvh-amd broken test-amd64-i386-xl-qemuu-winxpsp3-vcpus1 broken test-amd64-i386-freebsd10-amd64 broken test-amd64-amd64-xl-qemuu-debianhvm-amd64 broken test-amd64-amd64-xl-credit2 broken test-amd64-amd64-pygrub broken test-amd64-amd64-libvirt-pair broken test-amd64-i386-xl-raw broken test-amd64-amd64-xl-xsm broken test-armhf-armhf-libvirt-qcow2 broken test-amd64-amd64-libvirt-xsm broken test-amd64-amd64-xl-qcow2 broken test-amd64-amd64-qemuu-nested-amd broken test-armhf-armhf-xl-midway broken test-amd64-i386-libvirt broken build-armhf-libvirt broken test-amd64-amd64-pair broken test-amd64-amd64-xl-multivcpu broken test-amd64-i386-xl-qemuu-winxpsp3 broken test-amd64-i386-freebsd10-i386 broken build-i386-libvirt broken test-amd64-i386-libvirt-pair broken test-amd64-amd64-xl broken test-armhf-armhf-xl-credit2 broken test-amd64-amd64-libvirt broken test-amd64-amd64-xl-qemuu-win7-amd64 broken test-armhf-armhf-xl broken test-amd64-i386-xl-qemuu-win7-amd64 broken test-amd64-amd64-libvirt-vhd broken test-armhf-armhf-libvirt-raw broken test-amd64-amd64-qemuu-nested-intel broken test-amd64-amd64-xl-qemuu-debianhvm-amd64-xsm broken test-amd64-amd64-i386-pvgrub broken test-amd64-i386-libvirt-qemuu-debianhvm-amd64-xsm broken test-amd64-i386-qemuu-rhel6hvm-amd broken test-amd64-i386-xl-qemuu-debianhvm-amd64 broken test-amd64-i386-xl broken version targeted for testing: qemuu 1b1624092d1f1f746adea6e1237a07f6788c2e3d baseline version: qemuu 10ae9d76388e3f4a31f6a1475b5e2d1f28404a10 Last test of basis 38723 2016-02-03 05:19:09 Z 23 days Testing same since 44169 2016-02-26 11:52:02 Z 0 days 1 attempts ------------------------------------------------------------ People who touched revisions under test: Aaron Lindsay Alberto Garcia Alex Bennée Alex Bennée Alex Williamson Alistair Francis Alyssa Milburn Amit Shah Andrew Baumann Andrew Jones Ashley Jonathan Aurelien Jarno Cao jin Changlong Xie Chen Fan Christian Borntraeger Christian Liebhardt Christophe Fergeau Christopher Covington Corey Minyard Cornelia Huck Cédric Le Goater Daniel P. Berrange Daniel Serpell David Gibson Denis V. Lunev Didier Pallard Don Slutz Dr. David Alan Gilbert Edgar E. Iglesias Eduardo Habkost Eric Auger Eric Blake Fam Zheng Gerd Hoffmann Gonglei Greg Kurz Guillaume Subiron Hervé Poussineau Ian Campbell Igor Mammedov James Hogan Janosch Frank Jason Wang Jeff Cody Jianjun Duan Jindřich Makovička John Snow Keith Busch Kevin Wolf Laszlo Ersek Laurent Vivier Leon Alrae Leonid Bloch Li Zhijian Liang Li Lluís Vilanova Marc-André Lureau Marcel Apfelbaum Mark Cave-Ayland Markus Armbruster Max Reitz Michael S. Tsirkin Michael Tokarev Nathan Rossi Paolo Bonzini Peter Crosthwaite Peter Maydell Prasad J Pandit Richard Henderson Samuel Thibault Sascha Silbe Sean Bruno Sergey Fedorov Sitsofe Wheeler Stefan Hajnoczi Stefano Stabellini Stephen Warren Thomas Huth Victor Kaplansky Vincenzo Maffione Vladimir Sementsov-Ogievskiy Vladislav Vovchenko Wei Huang Wei Yang Wen Congyang Wolfgang Bumiller xiaoqiang zhao xiaoqiang.zhao zhanghailiang jobs: build-amd64-xsm pass build-armhf-xsm pass build-i386-xsm pass build-amd64 pass build-armhf pass build-i386 pass build-amd64-libvirt broken build-armhf-libvirt broken build-i386-libvirt broken build-amd64-pvops pass build-armhf-pvops pass build-i386-pvops pass test-amd64-amd64-xl broken test-armhf-armhf-xl broken test-amd64-i386-xl broken test-amd64-amd64-libvirt-qemuu-debianhvm-amd64-xsm broken test-amd64-i386-libvirt-qemuu-debianhvm-amd64-xsm broken test-amd64-amd64-xl-qemuu-debianhvm-amd64-xsm broken test-amd64-i386-xl-qemuu-debianhvm-amd64-xsm broken test-amd64-amd64-libvirt-xsm broken test-armhf-armhf-libvirt-xsm broken test-amd64-i386-libvirt-xsm broken test-amd64-amd64-xl-xsm broken test-armhf-armhf-xl-xsm broken test-amd64-i386-xl-xsm broken test-amd64-amd64-qemuu-nested-amd broken test-amd64-amd64-xl-pvh-amd broken test-amd64-i386-qemuu-rhel6hvm-amd broken test-amd64-amd64-xl-qemuu-debianhvm-amd64 broken test-amd64-i386-xl-qemuu-debianhvm-amd64 broken test-amd64-i386-freebsd10-amd64 broken test-amd64-amd64-xl-qemuu-ovmf-amd64 broken test-amd64-i386-xl-qemuu-ovmf-amd64 broken test-amd64-amd64-xl-qemuu-win7-amd64 broken test-amd64-i386-xl-qemuu-win7-amd64 broken test-amd64-amd64-xl-credit2 broken test-armhf-armhf-xl-credit2 broken test-amd64-i386-freebsd10-i386 broken test-amd64-amd64-qemuu-nested-intel broken test-amd64-amd64-xl-pvh-intel broken test-amd64-i386-qemuu-rhel6hvm-intel broken test-amd64-amd64-libvirt broken test-armhf-armhf-libvirt broken test-amd64-i386-libvirt broken test-armhf-armhf-xl-midway broken test-amd64-amd64-xl-multivcpu broken test-armhf-armhf-xl-multivcpu broken test-amd64-amd64-pair broken test-amd64-i386-pair broken test-amd64-amd64-libvirt-pair broken test-amd64-i386-libvirt-pair broken test-amd64-amd64-amd64-pvgrub broken test-amd64-amd64-i386-pvgrub broken test-amd64-amd64-pygrub broken test-armhf-armhf-libvirt-qcow2 broken test-amd64-amd64-xl-qcow2 broken test-armhf-armhf-libvirt-raw broken test-amd64-i386-xl-raw broken test-amd64-amd64-xl-rtds broken test-armhf-armhf-xl-rtds broken test-amd64-i386-xl-qemuu-winxpsp3-vcpus1 broken test-amd64-amd64-libvirt-vhd broken test-armhf-armhf-xl-vhd broken test-amd64-amd64-xl-qemuu-winxpsp3 broken test-amd64-i386-xl-qemuu-winxpsp3 broken ------------------------------------------------------------ sg-report-flight on osstest.xs.citrite.net logs: /home/osstest/logs images: /home/osstest/images Logs, config files, etc. are available at http://osstest.xs.citrite.net/~osstest/testlogs/logs Test harness code can be found at http://xenbits.xensource.com/gitweb?p=osstest.git;a=summary broken-job test-armhf-armhf-xl-rtds broken broken-job test-amd64-i386-libvirt-xsm broken broken-job build-amd64-libvirt broken broken-job test-amd64-amd64-libvirt-qemuu-debianhvm-amd64-xsm broken broken-job test-amd64-amd64-xl-qemuu-ovmf-amd64 broken broken-job test-armhf-armhf-xl-vhd broken broken-job test-amd64-i386-pair broken broken-job test-armhf-armhf-xl-multivcpu broken broken-job test-armhf-armhf-libvirt-xsm broken broken-job test-amd64-i386-qemuu-rhel6hvm-intel broken broken-job test-amd64-amd64-xl-rtds broken broken-job test-amd64-i386-xl-qemuu-debianhvm-amd64-xsm broken broken-job test-armhf-armhf-xl-xsm broken broken-job test-amd64-i386-xl-qemuu-ovmf-amd64 broken broken-job test-amd64-amd64-xl-pvh-intel broken broken-job test-amd64-i386-xl-xsm broken broken-job test-amd64-amd64-xl-qemuu-winxpsp3 broken broken-job test-amd64-amd64-amd64-pvgrub broken broken-job test-armhf-armhf-libvirt broken broken-job test-amd64-amd64-xl-pvh-amd broken broken-job test-amd64-i386-xl-qemuu-winxpsp3-vcpus1 broken broken-job test-amd64-i386-freebsd10-amd64 broken broken-job test-amd64-amd64-xl-qemuu-debianhvm-amd64 broken broken-job test-amd64-amd64-xl-credit2 broken broken-job test-amd64-amd64-pygrub broken broken-job test-amd64-amd64-libvirt-pair broken broken-job test-amd64-i386-xl-raw broken broken-job test-amd64-amd64-xl-xsm broken broken-job test-armhf-armhf-libvirt-qcow2 broken broken-job test-amd64-amd64-libvirt-xsm broken broken-job test-amd64-amd64-xl-qcow2 broken broken-job test-amd64-amd64-qemuu-nested-amd broken broken-job test-armhf-armhf-xl-midway broken broken-job test-amd64-i386-libvirt broken broken-job build-armhf-libvirt broken broken-job test-amd64-amd64-pair broken broken-job test-amd64-amd64-xl-multivcpu broken broken-job test-amd64-i386-xl-qemuu-winxpsp3 broken broken-job test-amd64-i386-freebsd10-i386 broken broken-job build-i386-libvirt broken broken-job test-amd64-i386-libvirt-pair broken broken-job test-amd64-amd64-xl broken broken-job test-armhf-armhf-xl-credit2 broken broken-job test-amd64-amd64-libvirt broken broken-job test-amd64-amd64-xl-qemuu-win7-amd64 broken broken-job test-armhf-armhf-xl broken broken-job test-amd64-i386-xl-qemuu-win7-amd64 broken broken-job test-amd64-amd64-libvirt-vhd broken broken-job test-armhf-armhf-libvirt-raw broken broken-job test-amd64-amd64-qemuu-nested-intel broken broken-job test-amd64-amd64-xl-qemuu-debianhvm-amd64-xsm broken broken-job test-amd64-amd64-i386-pvgrub broken broken-job test-amd64-i386-libvirt-qemuu-debianhvm-amd64-xsm broken broken-job test-amd64-i386-qemuu-rhel6hvm-amd broken broken-job test-amd64-i386-xl-qemuu-debianhvm-amd64 broken broken-job test-amd64-i386-xl broken Push not applicable. (No revision log; it would be 11326 lines long.) --===============8614770285577176933== Content-Type: text/plain; charset="utf-8" MIME-Version: 1.0 Content-Transfer-Encoding: base64 Content-Disposition: inline X19fX19fX19fX19fX19fX19fX19fX19fX19fX19fX19fX19fX19fX19fX19fX18KWGVuLWRldmVs IG1haWxpbmcgbGlzdApYZW4tZGV2ZWxAbGlzdHMueGVuLm9yZwpodHRwOi8vbGlzdHMueGVuLm9y Zy94ZW4tZGV2ZWwK --===============8614770285577176933==--