xen-devel.lists.xenproject.org archive mirror
 help / color / mirror / Atom feed
* [qemu-mainline baseline-only test] 44169: trouble: broken/pass
@ 2016-02-26 14:56 Platform Team regression test user
  0 siblings, 0 replies; only message in thread
From: Platform Team regression test user @ 2016-02-26 14:56 UTC (permalink / raw)
  To: xen-devel, osstest-admin

[-- Attachment #1: Type: text/plain, Size: 16130 bytes --]

This run is configured for baseline tests only.

flight 44169 qemu-mainline real [real]
http://osstest.xs.citrite.net/~osstest/testlogs/logs/44169/

Failures and problems with tests :-(

Tests which did not succeed and are blocking,
including tests which could not be run:
 test-armhf-armhf-xl-rtds        <none executed>              broken
 test-amd64-i386-libvirt-xsm     <none executed>              broken
 build-amd64-libvirt             <none executed>              broken
 test-amd64-amd64-libvirt-qemuu-debianhvm-amd64-xsm    <none executed>   broken
 test-amd64-amd64-xl-qemuu-ovmf-amd64    <none executed>              broken
 test-armhf-armhf-xl-vhd         <none executed>              broken
 test-amd64-i386-pair            <none executed>              broken
 test-armhf-armhf-xl-multivcpu    <none executed>              broken
 test-armhf-armhf-libvirt-xsm    <none executed>              broken
 test-amd64-i386-qemuu-rhel6hvm-intel    <none executed>              broken
 test-amd64-amd64-xl-rtds        <none executed>              broken
 test-amd64-i386-xl-qemuu-debianhvm-amd64-xsm    <none executed>         broken
 test-armhf-armhf-xl-xsm         <none executed>              broken
 test-amd64-i386-xl-qemuu-ovmf-amd64    <none executed>              broken
 test-amd64-amd64-xl-pvh-intel    <none executed>              broken
 test-amd64-i386-xl-xsm          <none executed>              broken
 test-amd64-amd64-xl-qemuu-winxpsp3    <none executed>              broken
 test-amd64-amd64-amd64-pvgrub    <none executed>              broken
 test-armhf-armhf-libvirt        <none executed>              broken
 test-amd64-amd64-xl-pvh-amd     <none executed>              broken
 test-amd64-i386-xl-qemuu-winxpsp3-vcpus1    <none executed>             broken
 test-amd64-i386-freebsd10-amd64    <none executed>              broken
 test-amd64-amd64-xl-qemuu-debianhvm-amd64    <none executed>            broken
 test-amd64-amd64-xl-credit2     <none executed>              broken
 test-amd64-amd64-pygrub         <none executed>              broken
 test-amd64-amd64-libvirt-pair    <none executed>              broken
 test-amd64-i386-xl-raw          <none executed>              broken
 test-amd64-amd64-xl-xsm         <none executed>              broken
 test-armhf-armhf-libvirt-qcow2    <none executed>              broken
 test-amd64-amd64-libvirt-xsm    <none executed>              broken
 test-amd64-amd64-xl-qcow2       <none executed>              broken
 test-amd64-amd64-qemuu-nested-amd    <none executed>              broken
 test-armhf-armhf-xl-midway      <none executed>              broken
 test-amd64-i386-libvirt         <none executed>              broken
 build-armhf-libvirt             <none executed>              broken
 test-amd64-amd64-pair           <none executed>              broken
 test-amd64-amd64-xl-multivcpu    <none executed>              broken
 test-amd64-i386-xl-qemuu-winxpsp3    <none executed>              broken
 test-amd64-i386-freebsd10-i386    <none executed>              broken
 build-i386-libvirt              <none executed>              broken
 test-amd64-i386-libvirt-pair    <none executed>              broken
 test-amd64-amd64-xl             <none executed>              broken
 test-armhf-armhf-xl-credit2     <none executed>              broken
 test-amd64-amd64-libvirt        <none executed>              broken
 test-amd64-amd64-xl-qemuu-win7-amd64    <none executed>              broken
 test-armhf-armhf-xl             <none executed>              broken
 test-amd64-i386-xl-qemuu-win7-amd64    <none executed>              broken
 test-amd64-amd64-libvirt-vhd    <none executed>              broken
 test-armhf-armhf-libvirt-raw    <none executed>              broken
 test-amd64-amd64-qemuu-nested-intel    <none executed>              broken
 test-amd64-amd64-xl-qemuu-debianhvm-amd64-xsm    <none executed>        broken
 test-amd64-amd64-i386-pvgrub    <none executed>              broken
 test-amd64-i386-libvirt-qemuu-debianhvm-amd64-xsm    <none executed>    broken
 test-amd64-i386-qemuu-rhel6hvm-amd    <none executed>              broken
 test-amd64-i386-xl-qemuu-debianhvm-amd64    <none executed>             broken
 test-amd64-i386-xl              <none executed>              broken

version targeted for testing:
 qemuu                1b1624092d1f1f746adea6e1237a07f6788c2e3d
baseline version:
 qemuu                10ae9d76388e3f4a31f6a1475b5e2d1f28404a10

Last test of basis    38723  2016-02-03 05:19:09 Z   23 days
Testing same since    44169  2016-02-26 11:52:02 Z    0 days    1 attempts

------------------------------------------------------------
People who touched revisions under test:
  Aaron Lindsay <alindsay@codeaurora.org>
  Alberto Garcia <berto@igalia.com>
  Alex Bennée <alex.bennee@linaro.org>
  Alex Bennée <alex.bennee@linaro.org>
  Alex Williamson <alex.williamson@redhat.com>
  Alistair Francis <alistair.francis@xilinx.com>
  Alyssa Milburn <fuzzie@fuzzie.org>
  Amit Shah <amit.shah@redhat.com>
  Andrew Baumann <Andrew.Baumann@microsoft.com>
  Andrew Jones <drjones@redhat.com>
  Ashley Jonathan <jonathan.ashley@altran.com>
  Aurelien Jarno <aurelien@aurel32.net>
  Cao jin <caoj.fnst@cn.fujitsu.com>
  Changlong Xie <xiecl.fnst@cn.fujitsu.com>
  Chen Fan <chen.fan.fnst@cn.fujitsu.com>
  Christian Borntraeger <borntraeger@de.ibm.com>
  Christian Liebhardt <christian.liebhardt@keysight.com>
  Christophe Fergeau <cfergeau@redhat.com>
  Christopher Covington <christopher.covington@linaro.org>
  Corey Minyard <cminyard@mvista.com>
  Cornelia Huck <cornelia.huck@de.ibm.com>
  Cédric Le Goater <clg@fr.ibm.com>
  Daniel P. Berrange <berrange@redhat.com>
  Daniel Serpell <daniel.serpell@gmail.com>
  David Gibson <david@gibson.dropbear.id.au>
  Denis V. Lunev <den@openvz.org>
  Didier Pallard <didier.pallard@6wind.com>
  Don Slutz <Don@CloudSwitch.com>
  Dr. David Alan Gilbert <dgilbert@redhat.com>
  Edgar E. Iglesias <edgar.iglesias@xilinx.com>
  Eduardo Habkost <ehabkost@redhat.com>
  Eric Auger <eric.auger@linaro.org>
  Eric Blake <eblake@redhat.com>
  Fam Zheng <famz@redhat.com>
  Gerd Hoffmann <kraxel@redhat.com>
  Gonglei <arei.gonglei@huawei.com>
  Greg Kurz <gkurz@linux.vnet.ibm.com>
  Guillaume Subiron <maethor@subiron.org>
  Hervé Poussineau <hpoussin@reactos.org>
  Ian Campbell <ian.campbell@citrix.com>
  Igor Mammedov <imammedo@redhat.com>
  James Hogan <james.hogan@imgtec.com>
  Janosch Frank <frankja@linux.vnet.ibm.com>
  Jason Wang <jasowang@redhat.com>
  Jeff Cody <jcody@redhat.com>
  Jianjun Duan <duanj@linux.vnet.ibm.com>
  Jindřich Makovička <makovick@gmail.com>
  John Snow <jsnow@redhat.com>
  Keith Busch <keith.busch@intel.com>
  Kevin Wolf <kwolf@redhat.com>
  Laszlo Ersek <lersek@redhat.com>
  Laurent Vivier <lvivier@redhat.com>
  Leon Alrae <leon.alrae@imgtec.com>
  Leonid Bloch <leonid@daynix.com>
  Li Zhijian <lizhijian@cn.fujitsu.com>
  Liang Li <liang.z.li@intel.com>
  Lluís Vilanova <vilanova@ac.upc.edu>
  Marc-André Lureau <marcandre.lureau@redhat.com>
  Marcel Apfelbaum <marcel@redhat.com>
  Mark Cave-Ayland <mark.cave-ayland@ilande.co.uk>
  Markus Armbruster <armbru@redhat.com>
  Max Reitz <mreitz@redhat.com>
  Michael S. Tsirkin <mst@redhat.com>
  Michael Tokarev <mjt@tls.msk.ru>
  Nathan Rossi <nathan@nathanrossi.com>
  Paolo Bonzini <pbonzini@redhat.com>
  Peter Crosthwaite <crosthwaite.peter@gmail.com>
  Peter Maydell <peter.maydell@linaro.org>
  Prasad J Pandit <pjp@fedoraproject.org>
  Richard Henderson <rth@twiddle.net>
  Samuel Thibault <samuel.thibault@ens-lyon.org>
  Sascha Silbe <silbe@linux.vnet.ibm.com>
  Sean Bruno <sbruno@freebsd.org>
  Sergey Fedorov <serge.fdrv@gmail.com>
  Sitsofe Wheeler <sitsofe@yahoo.com>
  Stefan Hajnoczi <stefanha@redhat.com>
  Stefano Stabellini <stefano.stabellini@eu.citrix.com>
  Stephen Warren <swarren@wwwdotorg.org>
  Thomas Huth <thuth@redhat.com>
  Victor Kaplansky <victork@redhat.com>
  Vincenzo Maffione <v.maffione@gmail.com>
  Vladimir Sementsov-Ogievskiy <vsementsov@virtuozzo.com>
  Vladislav Vovchenko <vladislav.vovchenko@sk.com>
  Wei Huang <wei@redhat.com>
  Wei Yang <richard.weiyang@gmail.com>
  Wen Congyang <wency@cn.fujitsu.com>
  Wolfgang Bumiller <w.bumiller@proxmox.com>
  xiaoqiang zhao <zxq_yx_007@163.com>
  xiaoqiang.zhao <zxq_yx_007@163.com>
  zhanghailiang <zhang.zhanghailiang@huawei.com>

jobs:
 build-amd64-xsm                                              pass    
 build-armhf-xsm                                              pass    
 build-i386-xsm                                               pass    
 build-amd64                                                  pass    
 build-armhf                                                  pass    
 build-i386                                                   pass    
 build-amd64-libvirt                                          broken  
 build-armhf-libvirt                                          broken  
 build-i386-libvirt                                           broken  
 build-amd64-pvops                                            pass    
 build-armhf-pvops                                            pass    
 build-i386-pvops                                             pass    
 test-amd64-amd64-xl                                          broken  
 test-armhf-armhf-xl                                          broken  
 test-amd64-i386-xl                                           broken  
 test-amd64-amd64-libvirt-qemuu-debianhvm-amd64-xsm           broken  
 test-amd64-i386-libvirt-qemuu-debianhvm-amd64-xsm            broken  
 test-amd64-amd64-xl-qemuu-debianhvm-amd64-xsm                broken  
 test-amd64-i386-xl-qemuu-debianhvm-amd64-xsm                 broken  
 test-amd64-amd64-libvirt-xsm                                 broken  
 test-armhf-armhf-libvirt-xsm                                 broken  
 test-amd64-i386-libvirt-xsm                                  broken  
 test-amd64-amd64-xl-xsm                                      broken  
 test-armhf-armhf-xl-xsm                                      broken  
 test-amd64-i386-xl-xsm                                       broken  
 test-amd64-amd64-qemuu-nested-amd                            broken  
 test-amd64-amd64-xl-pvh-amd                                  broken  
 test-amd64-i386-qemuu-rhel6hvm-amd                           broken  
 test-amd64-amd64-xl-qemuu-debianhvm-amd64                    broken  
 test-amd64-i386-xl-qemuu-debianhvm-amd64                     broken  
 test-amd64-i386-freebsd10-amd64                              broken  
 test-amd64-amd64-xl-qemuu-ovmf-amd64                         broken  
 test-amd64-i386-xl-qemuu-ovmf-amd64                          broken  
 test-amd64-amd64-xl-qemuu-win7-amd64                         broken  
 test-amd64-i386-xl-qemuu-win7-amd64                          broken  
 test-amd64-amd64-xl-credit2                                  broken  
 test-armhf-armhf-xl-credit2                                  broken  
 test-amd64-i386-freebsd10-i386                               broken  
 test-amd64-amd64-qemuu-nested-intel                          broken  
 test-amd64-amd64-xl-pvh-intel                                broken  
 test-amd64-i386-qemuu-rhel6hvm-intel                         broken  
 test-amd64-amd64-libvirt                                     broken  
 test-armhf-armhf-libvirt                                     broken  
 test-amd64-i386-libvirt                                      broken  
 test-armhf-armhf-xl-midway                                   broken  
 test-amd64-amd64-xl-multivcpu                                broken  
 test-armhf-armhf-xl-multivcpu                                broken  
 test-amd64-amd64-pair                                        broken  
 test-amd64-i386-pair                                         broken  
 test-amd64-amd64-libvirt-pair                                broken  
 test-amd64-i386-libvirt-pair                                 broken  
 test-amd64-amd64-amd64-pvgrub                                broken  
 test-amd64-amd64-i386-pvgrub                                 broken  
 test-amd64-amd64-pygrub                                      broken  
 test-armhf-armhf-libvirt-qcow2                               broken  
 test-amd64-amd64-xl-qcow2                                    broken  
 test-armhf-armhf-libvirt-raw                                 broken  
 test-amd64-i386-xl-raw                                       broken  
 test-amd64-amd64-xl-rtds                                     broken  
 test-armhf-armhf-xl-rtds                                     broken  
 test-amd64-i386-xl-qemuu-winxpsp3-vcpus1                     broken  
 test-amd64-amd64-libvirt-vhd                                 broken  
 test-armhf-armhf-xl-vhd                                      broken  
 test-amd64-amd64-xl-qemuu-winxpsp3                           broken  
 test-amd64-i386-xl-qemuu-winxpsp3                            broken  


------------------------------------------------------------
sg-report-flight on osstest.xs.citrite.net
logs: /home/osstest/logs
images: /home/osstest/images

Logs, config files, etc. are available at
    http://osstest.xs.citrite.net/~osstest/testlogs/logs

Test harness code can be found at
    http://xenbits.xensource.com/gitweb?p=osstest.git;a=summary

broken-job test-armhf-armhf-xl-rtds broken
broken-job test-amd64-i386-libvirt-xsm broken
broken-job build-amd64-libvirt broken
broken-job test-amd64-amd64-libvirt-qemuu-debianhvm-amd64-xsm broken
broken-job test-amd64-amd64-xl-qemuu-ovmf-amd64 broken
broken-job test-armhf-armhf-xl-vhd broken
broken-job test-amd64-i386-pair broken
broken-job test-armhf-armhf-xl-multivcpu broken
broken-job test-armhf-armhf-libvirt-xsm broken
broken-job test-amd64-i386-qemuu-rhel6hvm-intel broken
broken-job test-amd64-amd64-xl-rtds broken
broken-job test-amd64-i386-xl-qemuu-debianhvm-amd64-xsm broken
broken-job test-armhf-armhf-xl-xsm broken
broken-job test-amd64-i386-xl-qemuu-ovmf-amd64 broken
broken-job test-amd64-amd64-xl-pvh-intel broken
broken-job test-amd64-i386-xl-xsm broken
broken-job test-amd64-amd64-xl-qemuu-winxpsp3 broken
broken-job test-amd64-amd64-amd64-pvgrub broken
broken-job test-armhf-armhf-libvirt broken
broken-job test-amd64-amd64-xl-pvh-amd broken
broken-job test-amd64-i386-xl-qemuu-winxpsp3-vcpus1 broken
broken-job test-amd64-i386-freebsd10-amd64 broken
broken-job test-amd64-amd64-xl-qemuu-debianhvm-amd64 broken
broken-job test-amd64-amd64-xl-credit2 broken
broken-job test-amd64-amd64-pygrub broken
broken-job test-amd64-amd64-libvirt-pair broken
broken-job test-amd64-i386-xl-raw broken
broken-job test-amd64-amd64-xl-xsm broken
broken-job test-armhf-armhf-libvirt-qcow2 broken
broken-job test-amd64-amd64-libvirt-xsm broken
broken-job test-amd64-amd64-xl-qcow2 broken
broken-job test-amd64-amd64-qemuu-nested-amd broken
broken-job test-armhf-armhf-xl-midway broken
broken-job test-amd64-i386-libvirt broken
broken-job build-armhf-libvirt broken
broken-job test-amd64-amd64-pair broken
broken-job test-amd64-amd64-xl-multivcpu broken
broken-job test-amd64-i386-xl-qemuu-winxpsp3 broken
broken-job test-amd64-i386-freebsd10-i386 broken
broken-job build-i386-libvirt broken
broken-job test-amd64-i386-libvirt-pair broken
broken-job test-amd64-amd64-xl broken
broken-job test-armhf-armhf-xl-credit2 broken
broken-job test-amd64-amd64-libvirt broken
broken-job test-amd64-amd64-xl-qemuu-win7-amd64 broken
broken-job test-armhf-armhf-xl broken
broken-job test-amd64-i386-xl-qemuu-win7-amd64 broken
broken-job test-amd64-amd64-libvirt-vhd broken
broken-job test-armhf-armhf-libvirt-raw broken
broken-job test-amd64-amd64-qemuu-nested-intel broken
broken-job test-amd64-amd64-xl-qemuu-debianhvm-amd64-xsm broken
broken-job test-amd64-amd64-i386-pvgrub broken
broken-job test-amd64-i386-libvirt-qemuu-debianhvm-amd64-xsm broken
broken-job test-amd64-i386-qemuu-rhel6hvm-amd broken
broken-job test-amd64-i386-xl-qemuu-debianhvm-amd64 broken
broken-job test-amd64-i386-xl broken

Push not applicable.

(No revision log; it would be 11326 lines long.)


[-- Attachment #2: Type: text/plain, Size: 126 bytes --]

_______________________________________________
Xen-devel mailing list
Xen-devel@lists.xen.org
http://lists.xen.org/xen-devel

^ permalink raw reply	[flat|nested] only message in thread

only message in thread, other threads:[~2016-02-26 14:56 UTC | newest]

Thread overview: (only message) (download: mbox.gz follow: Atom feed
-- links below jump to the message on this page --
2016-02-26 14:56 [qemu-mainline baseline-only test] 44169: trouble: broken/pass Platform Team regression test user

This is a public inbox, see mirroring instructions
for how to clone and mirror all data and code used for this inbox;
as well as URLs for NNTP newsgroup(s).