xen-devel.lists.xenproject.org archive mirror
 help / color / mirror / Atom feed
From: Platform Team regression test user <citrix-osstest@xenproject.org>
To: xen-devel@lists.xensource.com, osstest-admin@xenproject.org
Subject: [qemu-upstream-4.4-testing baseline-only test] 44171: trouble: broken/pass
Date: Fri, 26 Feb 2016 14:18:21 +0000	[thread overview]
Message-ID: <osstest-44171-mainreport@xen.org> (raw)

[-- Attachment #1: Type: text/plain, Size: 8536 bytes --]

This run is configured for baseline tests only.

flight 44171 qemu-upstream-4.4-testing real [real]
http://osstest.xs.citrite.net/~osstest/testlogs/logs/44171/

Failures and problems with tests :-(

Tests which did not succeed and are blocking,
including tests which could not be run:
 build-amd64-libvirt             <none executed>              broken
 test-amd64-amd64-xl-qemuu-ovmf-amd64    <none executed>              broken
 test-amd64-amd64-pv             <none executed>              broken
 test-amd64-i386-pair            <none executed>              broken
 test-amd64-i386-qemuu-rhel6hvm-intel    <none executed>              broken
 test-amd64-i386-xl-qemuu-ovmf-amd64    <none executed>              broken
 test-amd64-i386-pv              <none executed>              broken
 test-amd64-amd64-xl-qemuu-winxpsp3    <none executed>              broken
 test-amd64-amd64-amd64-pvgrub    <none executed>              broken
 test-amd64-i386-xl-qemuu-winxpsp3-vcpus1    <none executed>             broken
 test-amd64-i386-freebsd10-amd64    <none executed>              broken
 test-amd64-amd64-xl-qemuu-debianhvm-amd64    <none executed>            broken
 test-amd64-amd64-xl-credit2     <none executed>              broken
 test-amd64-amd64-pygrub         <none executed>              broken
 test-amd64-amd64-libvirt-pair    <none executed>              broken
 test-amd64-i386-xl-raw          <none executed>              broken
 test-amd64-amd64-qemuu-nested-amd    <none executed>              broken
 test-amd64-amd64-xl-qcow2       <none executed>              broken
 test-amd64-i386-libvirt         <none executed>              broken
 test-amd64-amd64-xl-multivcpu    <none executed>              broken
 test-amd64-amd64-pair           <none executed>              broken
 test-amd64-i386-freebsd10-i386    <none executed>              broken
 build-i386-libvirt              <none executed>              broken
 test-amd64-amd64-xl             <none executed>              broken
 test-amd64-i386-libvirt-pair    <none executed>              broken
 test-amd64-amd64-xl-qemuu-win7-amd64    <none executed>              broken
 test-amd64-amd64-libvirt        <none executed>              broken
 test-amd64-i386-xl-qemuu-win7-amd64    <none executed>              broken
 test-amd64-amd64-libvirt-vhd    <none executed>              broken
 test-amd64-amd64-qemuu-nested-intel    <none executed>              broken
 test-amd64-amd64-i386-pvgrub    <none executed>              broken
 test-amd64-i386-qemuu-rhel6hvm-amd    <none executed>              broken
 test-amd64-i386-xl-qemuu-debianhvm-amd64    <none executed>             broken
 test-amd64-i386-xl              <none executed>              broken

version targeted for testing:
 qemuu                16169ab825a03262cd66382dc0b02caa0dbd636a
baseline version:
 qemuu                2264b0c66075cc34c252a1386f019f8be6240890

Last test of basis    38625  2016-01-12 16:28:40 Z   44 days
Testing same since    44171  2016-02-26 11:55:40 Z    0 days    1 attempts

------------------------------------------------------------
People who touched revisions under test:
  Don Slutz <Don.Slutz@Gmail.com>
  Gerd Hoffmann <kraxel@redhat.com>
  Jason Wang <jasowang@redhat.com>
  John Snow <jsnow@redhat.com>
  Laszlo Ersek <lersek@redhat.com>
  Michael S. Tsirkin <mst@redhat.com>
  P J P <ppandit@redhat.com>
  Paolo Bonzini <pbonzini@redhat.com>
  Peter Maydell <peter.maydell@linaro.org>
  Prasad J Pandit <pjp@fedoraproject.org>
  Roger Pau Monne <roger.pau@citrix.com>
  Roger Pau Monné <roger.pau@citrix.com>
  Stefano Stabellini <stefano.stabellini@eu.citrix.com>

jobs:
 build-amd64-xend                                             pass    
 build-i386-xend                                              pass    
 build-amd64                                                  pass    
 build-i386                                                   pass    
 build-amd64-libvirt                                          broken  
 build-i386-libvirt                                           broken  
 build-amd64-pvops                                            pass    
 build-i386-pvops                                             pass    
 test-amd64-amd64-xl                                          broken  
 test-amd64-i386-xl                                           broken  
 test-amd64-amd64-qemuu-nested-amd                            broken  
 test-amd64-i386-qemuu-rhel6hvm-amd                           broken  
 test-amd64-amd64-xl-qemuu-debianhvm-amd64                    broken  
 test-amd64-i386-xl-qemuu-debianhvm-amd64                     broken  
 test-amd64-i386-freebsd10-amd64                              broken  
 test-amd64-amd64-xl-qemuu-ovmf-amd64                         broken  
 test-amd64-i386-xl-qemuu-ovmf-amd64                          broken  
 test-amd64-amd64-xl-qemuu-win7-amd64                         broken  
 test-amd64-i386-xl-qemuu-win7-amd64                          broken  
 test-amd64-amd64-xl-credit2                                  broken  
 test-amd64-i386-freebsd10-i386                               broken  
 test-amd64-amd64-qemuu-nested-intel                          broken  
 test-amd64-i386-qemuu-rhel6hvm-intel                         broken  
 test-amd64-amd64-libvirt                                     broken  
 test-amd64-i386-libvirt                                      broken  
 test-amd64-amd64-xl-multivcpu                                broken  
 test-amd64-amd64-pair                                        broken  
 test-amd64-i386-pair                                         broken  
 test-amd64-amd64-libvirt-pair                                broken  
 test-amd64-i386-libvirt-pair                                 broken  
 test-amd64-amd64-pv                                          broken  
 test-amd64-i386-pv                                           broken  
 test-amd64-amd64-amd64-pvgrub                                broken  
 test-amd64-amd64-i386-pvgrub                                 broken  
 test-amd64-amd64-pygrub                                      broken  
 test-amd64-amd64-xl-qcow2                                    broken  
 test-amd64-i386-xl-raw                                       broken  
 test-amd64-i386-xl-qemuu-winxpsp3-vcpus1                     broken  
 test-amd64-amd64-libvirt-vhd                                 broken  
 test-amd64-amd64-xl-qemuu-winxpsp3                           broken  


------------------------------------------------------------
sg-report-flight on osstest.xs.citrite.net
logs: /home/osstest/logs
images: /home/osstest/images

Logs, config files, etc. are available at
    http://osstest.xs.citrite.net/~osstest/testlogs/logs

Test harness code can be found at
    http://xenbits.xensource.com/gitweb?p=osstest.git;a=summary

broken-job build-amd64-libvirt broken
broken-job test-amd64-amd64-xl-qemuu-ovmf-amd64 broken
broken-job test-amd64-amd64-pv broken
broken-job test-amd64-i386-pair broken
broken-job test-amd64-i386-qemuu-rhel6hvm-intel broken
broken-job test-amd64-i386-xl-qemuu-ovmf-amd64 broken
broken-job test-amd64-i386-pv broken
broken-job test-amd64-amd64-xl-qemuu-winxpsp3 broken
broken-job test-amd64-amd64-amd64-pvgrub broken
broken-job test-amd64-i386-xl-qemuu-winxpsp3-vcpus1 broken
broken-job test-amd64-i386-freebsd10-amd64 broken
broken-job test-amd64-amd64-xl-qemuu-debianhvm-amd64 broken
broken-job test-amd64-amd64-xl-credit2 broken
broken-job test-amd64-amd64-pygrub broken
broken-job test-amd64-amd64-libvirt-pair broken
broken-job test-amd64-i386-xl-raw broken
broken-job test-amd64-amd64-qemuu-nested-amd broken
broken-job test-amd64-amd64-xl-qcow2 broken
broken-job test-amd64-i386-libvirt broken
broken-job test-amd64-amd64-xl-multivcpu broken
broken-job test-amd64-amd64-pair broken
broken-job test-amd64-i386-freebsd10-i386 broken
broken-job build-i386-libvirt broken
broken-job test-amd64-amd64-xl broken
broken-job test-amd64-i386-libvirt-pair broken
broken-job test-amd64-amd64-xl-qemuu-win7-amd64 broken
broken-job test-amd64-amd64-libvirt broken
broken-job test-amd64-i386-xl-qemuu-win7-amd64 broken
broken-job test-amd64-amd64-libvirt-vhd broken
broken-job test-amd64-amd64-qemuu-nested-intel broken
broken-job test-amd64-amd64-i386-pvgrub broken
broken-job test-amd64-i386-qemuu-rhel6hvm-amd broken
broken-job test-amd64-i386-xl-qemuu-debianhvm-amd64 broken
broken-job test-amd64-i386-xl broken

Push not applicable.

(No revision log; it would be 343 lines long.)


[-- Attachment #2: Type: text/plain, Size: 126 bytes --]

_______________________________________________
Xen-devel mailing list
Xen-devel@lists.xen.org
http://lists.xen.org/xen-devel

                 reply	other threads:[~2016-02-26 14:18 UTC|newest]

Thread overview: [no followups] expand[flat|nested]  mbox.gz  Atom feed

Reply instructions:

You may reply publicly to this message via plain-text email
using any one of the following methods:

* Save the following mbox file, import it into your mail client,
  and reply-to-all from there: mbox

  Avoid top-posting and favor interleaved quoting:
  https://en.wikipedia.org/wiki/Posting_style#Interleaved_style

* Reply using the --to, --cc, and --in-reply-to
  switches of git-send-email(1):

  git send-email \
    --in-reply-to=osstest-44171-mainreport@xen.org \
    --to=citrix-osstest@xenproject.org \
    --cc=osstest-admin@xenproject.org \
    --cc=xen-devel@lists.xensource.com \
    /path/to/YOUR_REPLY

  https://kernel.org/pub/software/scm/git/docs/git-send-email.html

* If your mail client supports setting the In-Reply-To header
  via mailto: links, try the mailto: link
Be sure your reply has a Subject: header at the top and a blank line before the message body.
This is a public inbox, see mirroring instructions
for how to clone and mirror all data and code used for this inbox;
as well as URLs for NNTP newsgroup(s).