* [linux-3.10 baseline-only test] 44176: trouble: broken/pass
@ 2016-02-26 14:53 Platform Team regression test user
0 siblings, 0 replies; only message in thread
From: Platform Team regression test user @ 2016-02-26 14:53 UTC (permalink / raw)
To: xen-devel, osstest-admin
This run is configured for baseline tests only.
flight 44176 linux-3.10 real [real]
http://osstest.xs.citrite.net/~osstest/testlogs/logs/44176/
Failures and problems with tests :-(
Tests which did not succeed and are blocking,
including tests which could not be run:
test-amd64-amd64-xl-qemut-stubdom-debianhvm-amd64-xsm <none executed> broken
test-amd64-i386-libvirt-xsm <none executed> broken
build-amd64-libvirt <none executed> broken
test-amd64-amd64-libvirt-qemuu-debianhvm-amd64-xsm <none executed> broken
test-amd64-amd64-xl-qemuu-ovmf-amd64 <none executed> broken
test-amd64-i386-pair <none executed> broken
test-amd64-i386-qemuu-rhel6hvm-intel <none executed> broken
test-amd64-amd64-xl-rtds <none executed> broken
test-amd64-i386-xl-qemuu-debianhvm-amd64-xsm <none executed> broken
test-amd64-i386-qemut-rhel6hvm-intel <none executed> broken
test-amd64-i386-xl-qemuu-ovmf-amd64 <none executed> broken
test-amd64-amd64-xl-pvh-intel <none executed> broken
test-amd64-i386-xl-xsm <none executed> broken
test-amd64-amd64-xl-qemuu-winxpsp3 <none executed> broken
test-amd64-amd64-amd64-pvgrub <none executed> broken
test-amd64-i386-qemut-rhel6hvm-amd <none executed> broken
test-amd64-i386-xl-qemut-stubdom-debianhvm-amd64-xsm <none executed> broken
test-amd64-amd64-xl-pvh-amd <none executed> broken
test-amd64-i386-xl-qemuu-winxpsp3-vcpus1 <none executed> broken
test-amd64-i386-freebsd10-amd64 <none executed> broken
test-amd64-i386-rumpuserxen-i386 <none executed> broken
test-amd64-amd64-xl-qemuu-debianhvm-amd64 <none executed> broken
test-amd64-i386-xl-qemut-winxpsp3 <none executed> broken
test-amd64-amd64-xl-credit2 <none executed> broken
test-amd64-amd64-pygrub <none executed> broken
test-amd64-amd64-libvirt-pair <none executed> broken
test-amd64-i386-xl-qemut-winxpsp3-vcpus1 <none executed> broken
test-amd64-i386-xl-raw <none executed> broken
test-amd64-amd64-xl-xsm <none executed> broken
test-amd64-amd64-libvirt-xsm <none executed> broken
test-amd64-amd64-xl-qcow2 <none executed> broken
test-amd64-amd64-qemuu-nested-amd <none executed> broken
test-amd64-i386-libvirt <none executed> broken
test-amd64-amd64-pair <none executed> broken
test-amd64-amd64-xl-multivcpu <none executed> broken
test-amd64-i386-xl-qemut-debianhvm-amd64-xsm <none executed> broken
test-amd64-i386-xl-qemuu-winxpsp3 <none executed> broken
test-amd64-i386-freebsd10-i386 <none executed> broken
build-amd64-rumpuserxen <none executed> broken
test-amd64-amd64-rumpuserxen-amd64 <none executed> broken
build-i386-libvirt <none executed> broken
test-amd64-amd64-xl-qemut-debianhvm-amd64-xsm <none executed> broken
test-amd64-i386-libvirt-pair <none executed> broken
test-amd64-amd64-xl <none executed> broken
test-amd64-i386-xl-qemut-win7-amd64 <none executed> broken
test-amd64-amd64-libvirt <none executed> broken
test-amd64-amd64-xl-qemuu-win7-amd64 <none executed> broken
test-amd64-i386-xl-qemuu-win7-amd64 <none executed> broken
test-amd64-amd64-xl-qemut-winxpsp3 <none executed> broken
test-amd64-amd64-libvirt-vhd <none executed> broken
test-amd64-amd64-xl-qemut-debianhvm-amd64 <none executed> broken
test-amd64-amd64-qemuu-nested-intel <none executed> broken
test-amd64-amd64-xl-qemuu-debianhvm-amd64-xsm <none executed> broken
test-amd64-i386-xl-qemut-debianhvm-amd64 <none executed> broken
test-amd64-amd64-xl-qemut-win7-amd64 <none executed> broken
test-amd64-amd64-i386-pvgrub <none executed> broken
test-amd64-i386-libvirt-qemuu-debianhvm-amd64-xsm <none executed> broken
test-amd64-i386-qemuu-rhel6hvm-amd <none executed> broken
test-amd64-i386-xl-qemuu-debianhvm-amd64 <none executed> broken
build-i386-rumpuserxen <none executed> broken
test-amd64-i386-xl <none executed> broken
version targeted for testing:
linux 66b4554a10194a0fb4272f185b5fc6f2710741de
baseline version:
linux e14ca734b547e3187713441909897aefdf4e4016
Last test of basis 38720 2016-02-01 09:51:40 Z 25 days
Testing same since 44176 2016-02-26 11:59:19 Z 0 days 1 attempts
------------------------------------------------------------
People who touched revisions under test:
Al Viro <viro@zeniv.linux.org.uk>
Alexandra Yates <alexandra.yates@linux.intel.com>
Andrew Morton <akpm@linux-foundation.org>
Andrey Konovalov <andreyknvl@gmail.com>
Andrzej Hajda <a.hajda@samsung.com>
Andy Leiserson <andy@leiserson.org>
Arnd Bergmann <arnd@arndb.de>
Ben Hutchings <ben@decadent.org.uk>
Boris Brezillon <boris.brezillon@free-electrons.com>
Brian Norris <computersforpeace@gmail.com>
Clemens Ladisch <clemens@ladisch.de>
Daniele Palmas <dnlplm@gmail.com>
David Howells <dhowells@redhat.com>
David Mosberger <davidm@egauge.net>
David Mosberger-Tang <davidm@egauge.net>
David Turner <novalis@novalis.org>
Dmitry V. Levin <ldv@altlinux.org>
Dmitry Vyukov <dvyukov@google.com>
Geert Uytterhoeven <geert+renesas@glider.be>
Greg Kroah-Hartman <gregkh@linuxfoundation.org>
Guillaume Fougnies <guillaume@eulerian.com>
Hans Verkuil <hans.verkuil@cisco.com>
Helge Deller <deller@gmx.de>
Herbert Xu <herbert@gondor.apana.org.au>
Hon Ching \(Vicky\) Lo <honclo@linux.vnet.ibm.com>
Hon Ching(Vicky) Lo <honclo@linux.vnet.ibm.com>
Igor Grinberg <grinberg@compulab.co.il>
Ioan-Adrian Ratiu <adi@adirat.com>
Jan Kara <jack@suse.cz>
Jason Gerecke <jason.gerecke@wacom.com>
Jiri Kosina <jkosina@suse.cz>
Jiufei Xue <xuejiufei@huawei.com>
Johan Hovold <johan@kernel.org>
John Ernberg <john.ernberg@actia.se>
Kalle Valo <kvalo@codeaurora.org>
Kinglong Mee <kinglongmee@gmail.com>
Li Bin <huawei.libin@huawei.com>
Liam Girdwood <liam.r.girdwood@linux.intel.com>
libin <huawei.libin@huawei.com>
Linus Torvalds <torvalds@linux-foundation.org>
Maciej W. Rozycki <macro@imgtec.com>
Mark Brown <broonie@kernel.org>
Mathias Krause <minipli@googlemail.com>
Mauricio Faria de Oliveira <mauricfo@linux.vnet.ibm.com>
Mauro Carvalho Chehab <mchehab@osg.samsung.com>
Mike Snitzer <snitzer@redhat.com>
Nicolas Ferre <nicolas.ferre@atmel.com>
Ohad Ben-Cohen <ohad@wizery.com>
Oleg Nesterov <oleg@redhat.com>
Peter Dedecker <peter.dedecker@hotmail.com>
Peter Huewe <peterhuewe@gmx.de>
Peter Hurley <peter@hurleysoftware.com>
Richard Weinberger <richard@nod.at>
Rui Wang <rui.y.wang@intel.com>
Sakari Ailus <sakari.ailus@linux.intel.com>
Stephan Mueller <smueller@chronox.de>
Steven Rostedt <rostedt@goodmis.org>
Sudip Mukherjee <sudipm.mukherjee@gmail.com>
Takashi Iwai <tiwai@suse.de>
Tejun Heo <tj@kernel.org>
Theodore Ts'o <tytso@mit.edu>
Tiffany Lin <tiffany.lin@mediatek.com>
Uri Mashiach <uri.mashiach@compulab.co.il>
Vegard Nossum <vegard.nossum@oracle.com>
Vinod Koul <vinod.koul@intel.com>
Vladis Dronov <vdronov@redhat.com>
Wang, Rui Y <rui.y.wang@intel.com>
Xiangliang Yu <Xiangliang.Yu@amd.com>
xuejiufei <xuejiufei@huawei.com>
jobs:
build-amd64-xsm pass
build-i386-xsm pass
build-amd64 pass
build-i386 pass
build-amd64-libvirt broken
build-i386-libvirt broken
build-amd64-pvops pass
build-i386-pvops pass
build-amd64-rumpuserxen broken
build-i386-rumpuserxen broken
test-amd64-amd64-xl broken
test-amd64-i386-xl broken
test-amd64-amd64-xl-qemut-debianhvm-amd64-xsm broken
test-amd64-i386-xl-qemut-debianhvm-amd64-xsm broken
test-amd64-amd64-libvirt-qemuu-debianhvm-amd64-xsm broken
test-amd64-i386-libvirt-qemuu-debianhvm-amd64-xsm broken
test-amd64-amd64-xl-qemuu-debianhvm-amd64-xsm broken
test-amd64-i386-xl-qemuu-debianhvm-amd64-xsm broken
test-amd64-amd64-xl-qemut-stubdom-debianhvm-amd64-xsm broken
test-amd64-i386-xl-qemut-stubdom-debianhvm-amd64-xsm broken
test-amd64-amd64-libvirt-xsm broken
test-amd64-i386-libvirt-xsm broken
test-amd64-amd64-xl-xsm broken
test-amd64-i386-xl-xsm broken
test-amd64-amd64-qemuu-nested-amd broken
test-amd64-amd64-xl-pvh-amd broken
test-amd64-i386-qemut-rhel6hvm-amd broken
test-amd64-i386-qemuu-rhel6hvm-amd broken
test-amd64-amd64-xl-qemut-debianhvm-amd64 broken
test-amd64-i386-xl-qemut-debianhvm-amd64 broken
test-amd64-amd64-xl-qemuu-debianhvm-amd64 broken
test-amd64-i386-xl-qemuu-debianhvm-amd64 broken
test-amd64-i386-freebsd10-amd64 broken
test-amd64-amd64-xl-qemuu-ovmf-amd64 broken
test-amd64-i386-xl-qemuu-ovmf-amd64 broken
test-amd64-amd64-rumpuserxen-amd64 broken
test-amd64-amd64-xl-qemut-win7-amd64 broken
test-amd64-i386-xl-qemut-win7-amd64 broken
test-amd64-amd64-xl-qemuu-win7-amd64 broken
test-amd64-i386-xl-qemuu-win7-amd64 broken
test-amd64-amd64-xl-credit2 broken
test-amd64-i386-freebsd10-i386 broken
test-amd64-i386-rumpuserxen-i386 broken
test-amd64-amd64-qemuu-nested-intel broken
test-amd64-amd64-xl-pvh-intel broken
test-amd64-i386-qemut-rhel6hvm-intel broken
test-amd64-i386-qemuu-rhel6hvm-intel broken
test-amd64-amd64-libvirt broken
test-amd64-i386-libvirt broken
test-amd64-amd64-xl-multivcpu broken
test-amd64-amd64-pair broken
test-amd64-i386-pair broken
test-amd64-amd64-libvirt-pair broken
test-amd64-i386-libvirt-pair broken
test-amd64-amd64-amd64-pvgrub broken
test-amd64-amd64-i386-pvgrub broken
test-amd64-amd64-pygrub broken
test-amd64-amd64-xl-qcow2 broken
test-amd64-i386-xl-raw broken
test-amd64-amd64-xl-rtds broken
test-amd64-i386-xl-qemut-winxpsp3-vcpus1 broken
test-amd64-i386-xl-qemuu-winxpsp3-vcpus1 broken
test-amd64-amd64-libvirt-vhd broken
test-amd64-amd64-xl-qemut-winxpsp3 broken
test-amd64-i386-xl-qemut-winxpsp3 broken
test-amd64-amd64-xl-qemuu-winxpsp3 broken
test-amd64-i386-xl-qemuu-winxpsp3 broken
------------------------------------------------------------
sg-report-flight on osstest.xs.citrite.net
logs: /home/osstest/logs
images: /home/osstest/images
Logs, config files, etc. are available at
http://osstest.xs.citrite.net/~osstest/testlogs/logs
Test harness code can be found at
http://xenbits.xensource.com/gitweb?p=osstest.git;a=summary
broken-job test-amd64-amd64-xl-qemut-stubdom-debianhvm-amd64-xsm broken
broken-job test-amd64-i386-libvirt-xsm broken
broken-job build-amd64-libvirt broken
broken-job test-amd64-amd64-libvirt-qemuu-debianhvm-amd64-xsm broken
broken-job test-amd64-amd64-xl-qemuu-ovmf-amd64 broken
broken-job test-amd64-i386-pair broken
broken-job test-amd64-i386-qemuu-rhel6hvm-intel broken
broken-job test-amd64-amd64-xl-rtds broken
broken-job test-amd64-i386-xl-qemuu-debianhvm-amd64-xsm broken
broken-job test-amd64-i386-qemut-rhel6hvm-intel broken
broken-job test-amd64-i386-xl-qemuu-ovmf-amd64 broken
broken-job test-amd64-amd64-xl-pvh-intel broken
broken-job test-amd64-i386-xl-xsm broken
broken-job test-amd64-amd64-xl-qemuu-winxpsp3 broken
broken-job test-amd64-amd64-amd64-pvgrub broken
broken-job test-amd64-i386-qemut-rhel6hvm-amd broken
broken-job test-amd64-i386-xl-qemut-stubdom-debianhvm-amd64-xsm broken
broken-job test-amd64-amd64-xl-pvh-amd broken
broken-job test-amd64-i386-xl-qemuu-winxpsp3-vcpus1 broken
broken-job test-amd64-i386-freebsd10-amd64 broken
broken-job test-amd64-i386-rumpuserxen-i386 broken
broken-job test-amd64-amd64-xl-qemuu-debianhvm-amd64 broken
broken-job test-amd64-i386-xl-qemut-winxpsp3 broken
broken-job test-amd64-amd64-xl-credit2 broken
broken-job test-amd64-amd64-pygrub broken
broken-job test-amd64-amd64-libvirt-pair broken
broken-job test-amd64-i386-xl-qemut-winxpsp3-vcpus1 broken
broken-job test-amd64-i386-xl-raw broken
broken-job test-amd64-amd64-xl-xsm broken
broken-job test-amd64-amd64-libvirt-xsm broken
broken-job test-amd64-amd64-xl-qcow2 broken
broken-job test-amd64-amd64-qemuu-nested-amd broken
broken-job test-amd64-i386-libvirt broken
broken-job test-amd64-amd64-pair broken
broken-job test-amd64-amd64-xl-multivcpu broken
broken-job test-amd64-i386-xl-qemut-debianhvm-amd64-xsm broken
broken-job test-amd64-i386-xl-qemuu-winxpsp3 broken
broken-job test-amd64-i386-freebsd10-i386 broken
broken-job build-amd64-rumpuserxen broken
broken-job test-amd64-amd64-rumpuserxen-amd64 broken
broken-job build-i386-libvirt broken
broken-job test-amd64-amd64-xl-qemut-debianhvm-amd64-xsm broken
broken-job test-amd64-i386-libvirt-pair broken
broken-job test-amd64-amd64-xl broken
broken-job test-amd64-i386-xl-qemut-win7-amd64 broken
broken-job test-amd64-amd64-libvirt broken
broken-job test-amd64-amd64-xl-qemuu-win7-amd64 broken
broken-job test-amd64-i386-xl-qemuu-win7-amd64 broken
broken-job test-amd64-amd64-xl-qemut-winxpsp3 broken
broken-job test-amd64-amd64-libvirt-vhd broken
broken-job test-amd64-amd64-xl-qemut-debianhvm-amd64 broken
broken-job test-amd64-amd64-qemuu-nested-intel broken
broken-job test-amd64-amd64-xl-qemuu-debianhvm-amd64-xsm broken
broken-job test-amd64-i386-xl-qemut-debianhvm-amd64 broken
broken-job test-amd64-amd64-xl-qemut-win7-amd64 broken
broken-job test-amd64-amd64-i386-pvgrub broken
broken-job test-amd64-i386-libvirt-qemuu-debianhvm-amd64-xsm broken
broken-job test-amd64-i386-qemuu-rhel6hvm-amd broken
broken-job test-amd64-i386-xl-qemuu-debianhvm-amd64 broken
broken-job build-i386-rumpuserxen broken
broken-job test-amd64-i386-xl broken
Push not applicable.
(No revision log; it would be 1749 lines long.)
_______________________________________________
Xen-devel mailing list
Xen-devel@lists.xen.org
http://lists.xen.org/xen-devel
^ permalink raw reply [flat|nested] only message in thread
only message in thread, other threads:[~2016-02-26 14:53 UTC | newest]
Thread overview: (only message) (download: mbox.gz follow: Atom feed
-- links below jump to the message on this page --
2016-02-26 14:53 [linux-3.10 baseline-only test] 44176: trouble: broken/pass Platform Team regression test user
This is a public inbox, see mirroring instructions
for how to clone and mirror all data and code used for this inbox;
as well as URLs for NNTP newsgroup(s).