xen-devel.lists.xenproject.org archive mirror
 help / color / mirror / Atom feed
From: Platform Team regression test user <citrix-osstest@xenproject.org>
To: xen-devel@lists.xensource.com, osstest-admin@xenproject.org
Subject: [ovmf baseline-only test] 44433: all pass
Date: Thu, 19 May 2016 13:45:17 +0100	[thread overview]
Message-ID: <osstest-44433-mainreport@xen.org> (raw)

This run is configured for baseline tests only.

flight 44433 ovmf real [real]
http://osstest.xs.citrite.net/~osstest/testlogs/logs/44433/

Perfect :-)
All tests in this flight passed
version targeted for testing:
 ovmf                 81c1460695f783a3f91431b2babea623556a7f5d
baseline version:
 ovmf                 720eea6aa80b48acb05c1adc0f835e849d71da97

Last test of basis    44430  2016-05-18 20:20:23 Z    0 days
Testing same since    44433  2016-05-19 06:55:07 Z    0 days    1 attempts

------------------------------------------------------------
People who touched revisions under test:
  Dandan Bi <dandan.bi@intel.com>
  Ma, Maurice <maurice.ma@intel.com>
  Maurice Ma <maurice.ma@intel.com>

jobs:
 build-amd64-xsm                                              pass    
 build-i386-xsm                                               pass    
 build-amd64                                                  pass    
 build-i386                                                   pass    
 build-amd64-libvirt                                          pass    
 build-i386-libvirt                                           pass    
 build-amd64-pvops                                            pass    
 build-i386-pvops                                             pass    
 test-amd64-amd64-xl-qemuu-ovmf-amd64                         pass    
 test-amd64-i386-xl-qemuu-ovmf-amd64                          pass    


------------------------------------------------------------
sg-report-flight on osstest.xs.citrite.net
logs: /home/osstest/logs
images: /home/osstest/images

Logs, config files, etc. are available at
    http://osstest.xs.citrite.net/~osstest/testlogs/logs

Test harness code can be found at
    http://xenbits.xensource.com/gitweb?p=osstest.git;a=summary


Push not applicable.

------------------------------------------------------------
commit 81c1460695f783a3f91431b2babea623556a7f5d
Author: Dandan Bi <dandan.bi@intel.com>
Date:   Tue May 17 11:25:34 2016 +0800

    MdeModulePkg/UiApp: Exit function when parameter is unsupported or invalid
    
    When the parameter is unsupported or invalid,
    should exit the function.
    
    Cc: Qiu Shumin <shumin.qiu@intel.com>
    Cc: Eric Dong <eric.dong@intel.com>
    Contributed-under: TianoCore Contribution Agreement 1.0
    Signed-off-by: Dandan Bi <dandan.bi@intel.com>
    Reviewed-by: Eric Dong <eric.dong@intel.com>
    Reviewed-by: Qiu Shumin <shumin.qiu@intel.com>

commit c28306c3d6e0c7721abc937d8f47c3f1ccecf323
Author: Ma, Maurice <maurice.ma@intel.com>
Date:   Tue May 17 05:26:06 2016 +0800

    MdeModulePkg: Skip invalid bus number scanning in PciBusDxe driver
    
    When PcdPciDisableBusEnumeration is enabled, the PciBus driver
    might get into a dead loop if the secondary bus register on PCI
    bridge is not programmed or programmed improperly. Adding this
    check to avoid any potential dead loop caused by this.
    
    Cc: Feng Tian <feng.tian@intel.com>
    Cc: Star Zeng <star.zeng@intel.com>
    Contributed-under: TianoCore Contribution Agreement 1.0
    Signed-off-by: Maurice Ma <maurice.ma@intel.com>
    Reviewed-by: Ruiyu Ni <ruiyu.ni@intel.com>
    Reviewed-by: Lee Leahy <Leroy.p.leahy@intel.com>

_______________________________________________
Xen-devel mailing list
Xen-devel@lists.xen.org
http://lists.xen.org/xen-devel

                 reply	other threads:[~2016-05-19 12:45 UTC|newest]

Thread overview: [no followups] expand[flat|nested]  mbox.gz  Atom feed

Reply instructions:

You may reply publicly to this message via plain-text email
using any one of the following methods:

* Save the following mbox file, import it into your mail client,
  and reply-to-all from there: mbox

  Avoid top-posting and favor interleaved quoting:
  https://en.wikipedia.org/wiki/Posting_style#Interleaved_style

* Reply using the --to, --cc, and --in-reply-to
  switches of git-send-email(1):

  git send-email \
    --in-reply-to=osstest-44433-mainreport@xen.org \
    --to=citrix-osstest@xenproject.org \
    --cc=osstest-admin@xenproject.org \
    --cc=xen-devel@lists.xensource.com \
    /path/to/YOUR_REPLY

  https://kernel.org/pub/software/scm/git/docs/git-send-email.html

* If your mail client supports setting the In-Reply-To header
  via mailto: links, try the mailto: link
Be sure your reply has a Subject: header at the top and a blank line before the message body.
This is a public inbox, see mirroring instructions
for how to clone and mirror all data and code used for this inbox;
as well as URLs for NNTP newsgroup(s).