* [linux-3.14 test] 61362: trouble: blocked/broken
@ 2015-09-06 7:23 osstest service owner
0 siblings, 0 replies; only message in thread
From: osstest service owner @ 2015-09-06 7:23 UTC (permalink / raw)
To: xen-devel, osstest-admin
[-- Warning: decoded text below may be mangled, UTF-8 assumed --]
[-- Attachment #1: Type: text/plain, Size: 17717 bytes --]
flight 61362 linux-3.14 real [real]
http://logs.test-lab.xenproject.org/osstest/logs/61362/
Failures and problems with tests :-(
Tests which did not succeed and are blocking,
including tests which could not be run:
build-armhf-xsm 3 host-install(3) broken REGR. vs. 60666
build-armhf 3 host-install(3) broken REGR. vs. 60666
build-armhf-pvops 3 host-install(3) broken REGR. vs. 60666
build-i386-pvops 3 host-install(3) broken REGR. vs. 60666
build-i386-xsm 3 host-install(3) broken REGR. vs. 60666
build-i386 3 host-install(3) broken REGR. vs. 60666
build-amd64 3 host-install(3) broken REGR. vs. 60666
build-amd64-pvops 3 host-install(3) broken REGR. vs. 60666
build-amd64-xsm 3 host-install(3) broken REGR. vs. 60666
Tests which did not succeed, but are not blocking:
build-amd64-rumpuserxen 1 build-check(1) blocked n/a
build-i386-libvirt 1 build-check(1) blocked n/a
build-i386-rumpuserxen 1 build-check(1) blocked n/a
build-amd64-libvirt 1 build-check(1) blocked n/a
test-armhf-armhf-xl 1 build-check(1) blocked n/a
test-armhf-armhf-xl-raw 1 build-check(1) blocked n/a
test-armhf-armhf-xl-multivcpu 1 build-check(1) blocked n/a
test-armhf-armhf-xl-qcow2 1 build-check(1) blocked n/a
test-armhf-armhf-xl-rtds 1 build-check(1) blocked n/a
test-armhf-armhf-xl-arndale 1 build-check(1) blocked n/a
test-armhf-armhf-libvirt-vhd 1 build-check(1) blocked n/a
test-armhf-armhf-libvirt-qcow2 1 build-check(1) blocked n/a
test-armhf-armhf-xl-vhd 1 build-check(1) blocked n/a
test-armhf-armhf-libvirt-raw 1 build-check(1) blocked n/a
test-armhf-armhf-libvirt 1 build-check(1) blocked n/a
test-armhf-armhf-xl-cubietruck 1 build-check(1) blocked n/a
test-armhf-armhf-xl-xsm 1 build-check(1) blocked n/a
test-amd64-amd64-xl 1 build-check(1) blocked n/a
test-armhf-armhf-xl-credit2 1 build-check(1) blocked n/a
test-amd64-amd64-xl-qemuu-debianhvm-amd64-xsm 1 build-check(1) blocked n/a
build-armhf-libvirt 1 build-check(1) blocked n/a
test-amd64-amd64-libvirt-xsm 1 build-check(1) blocked n/a
test-amd64-amd64-libvirt-qemuu-debianhvm-amd64-xsm 1 build-check(1) blocked n/a
test-armhf-armhf-libvirt-xsm 1 build-check(1) blocked n/a
test-amd64-i386-qemut-rhel6hvm-intel 1 build-check(1) blocked n/a
test-amd64-i386-xl-vhd 1 build-check(1) blocked n/a
test-amd64-i386-xl-qcow2 1 build-check(1) blocked n/a
test-amd64-amd64-xl-vhd 1 build-check(1) blocked n/a
test-amd64-amd64-libvirt-qcow2 1 build-check(1) blocked n/a
test-amd64-i386-libvirt 1 build-check(1) blocked n/a
test-amd64-amd64-xl-pvh-intel 1 build-check(1) blocked n/a
test-amd64-i386-xl-xsm 1 build-check(1) blocked n/a
test-amd64-i386-xl 1 build-check(1) blocked n/a
test-amd64-i386-xl-qemut-stubdom-debianhvm-amd64-xsm 1 build-check(1) blocked n/a
test-amd64-i386-xl-qemuu-ovmf-amd64 1 build-check(1) blocked n/a
test-amd64-amd64-xl-credit2 1 build-check(1) blocked n/a
test-amd64-amd64-libvirt-raw 1 build-check(1) blocked n/a
test-amd64-i386-xl-qemuu-win7-amd64 1 build-check(1) blocked n/a
test-amd64-i386-qemut-rhel6hvm-amd 1 build-check(1) blocked n/a
test-amd64-amd64-xl-pvh-amd 1 build-check(1) blocked n/a
test-amd64-i386-freebsd10-i386 1 build-check(1) blocked n/a
test-amd64-amd64-libvirt-vhd 1 build-check(1) blocked n/a
test-amd64-i386-libvirt-xsm 1 build-check(1) blocked n/a
test-amd64-i386-libvirt-vhd 1 build-check(1) blocked n/a
test-amd64-i386-xl-qemuu-debianhvm-amd64 1 build-check(1) blocked n/a
test-amd64-i386-xl-raw 1 build-check(1) blocked n/a
test-amd64-i386-qemuu-rhel6hvm-amd 1 build-check(1) blocked n/a
test-amd64-amd64-rumpuserxen-amd64 1 build-check(1) blocked n/a
test-amd64-i386-rumpuserxen-i386 1 build-check(1) blocked n/a
test-amd64-amd64-libvirt 1 build-check(1) blocked n/a
test-amd64-amd64-xl-qemut-winxpsp3 1 build-check(1) blocked n/a
test-amd64-i386-libvirt-raw 1 build-check(1) blocked n/a
test-amd64-amd64-xl-xsm 1 build-check(1) blocked n/a
test-amd64-i386-qemuu-rhel6hvm-intel 1 build-check(1) blocked n/a
test-amd64-i386-freebsd10-amd64 1 build-check(1) blocked n/a
test-amd64-i386-xl-qemut-debianhvm-amd64 1 build-check(1) blocked n/a
test-amd64-i386-xl-qemut-win7-amd64 1 build-check(1) blocked n/a
test-amd64-amd64-xl-qcow2 1 build-check(1) blocked n/a
test-amd64-i386-xl-qemuu-debianhvm-amd64-xsm 1 build-check(1) blocked n/a
test-amd64-amd64-xl-qemuu-win7-amd64 1 build-check(1) blocked n/a
test-amd64-amd64-xl-multivcpu 1 build-check(1) blocked n/a
test-amd64-amd64-xl-qemuu-ovmf-amd64 1 build-check(1) blocked n/a
test-amd64-amd64-i386-pvgrub 1 build-check(1) blocked n/a
test-amd64-amd64-xl-qemut-win7-amd64 1 build-check(1) blocked n/a
test-amd64-i386-libvirt-qemuu-debianhvm-amd64-xsm 1 build-check(1) blocked n/a
test-amd64-i386-libvirt-qcow2 1 build-check(1) blocked n/a
test-amd64-amd64-xl-qemut-stubdom-debianhvm-amd64-xsm 1 build-check(1) blocked n/a
test-amd64-amd64-pygrub 1 build-check(1) blocked n/a
test-amd64-amd64-amd64-pvgrub 1 build-check(1) blocked n/a
test-amd64-amd64-xl-qemut-debianhvm-amd64 1 build-check(1) blocked n/a
test-amd64-amd64-xl-raw 1 build-check(1) blocked n/a
test-amd64-amd64-xl-qemuu-debianhvm-amd64 1 build-check(1) blocked n/a
test-amd64-amd64-xl-rtds 1 build-check(1) blocked n/a
test-amd64-amd64-xl-qemut-debianhvm-amd64-xsm 1 build-check(1) blocked n/a
test-amd64-i386-xl-qemut-debianhvm-amd64-xsm 1 build-check(1) blocked n/a
test-amd64-i386-xl-qemut-winxpsp3-vcpus1 1 build-check(1) blocked n/a
test-amd64-i386-xl-qemuu-winxpsp3 1 build-check(1) blocked n/a
test-amd64-i386-xl-qemuu-winxpsp3-vcpus1 1 build-check(1) blocked n/a
test-amd64-i386-xl-qemut-winxpsp3 1 build-check(1) blocked n/a
test-amd64-amd64-xl-qemuu-winxpsp3 1 build-check(1) blocked n/a
test-amd64-amd64-pair 1 build-check(1) blocked n/a
test-amd64-amd64-libvirt-pair 1 build-check(1) blocked n/a
test-amd64-i386-libvirt-pair 1 build-check(1) blocked n/a
test-amd64-i386-pair 1 build-check(1) blocked n/a
version targeted for testing:
linux 318ff69ca4c275bae4b875b87df5bdbd7988486a
baseline version:
linux 9b8b905951bde404f20a7bd4b37a5134f3484569
Last test of basis 60666 2015-08-12 06:12:25 Z 25 days
Testing same since 60747 2015-08-17 05:56:00 Z 20 days 12 attempts
------------------------------------------------------------
People who touched revisions under test:
Al Viro <viro@zeniv.linux.org.uk>
Alex Deucher <alexander.deucher@amd.com>
Amanieu d'Antras <amanieu@gmail.com>
Andrew Morton <akpm@linux-foundation.org>
Andy Lutomirski <luto@kernel.org>
Arkadiusz Miśkiewicz <arekm@maven.pl>
Arnd Bergmann <arnd@arndb.de>
Axel Lin <axel.lin@ingics.com>
Benjamin Randazzo <benjamin@randazzo.fr>
Bjorn Helgaas <bhelgaas@google.com>
Brian King <brking@linux.vnet.ibm.com>
Dan Carpenter <dan.carpenter@oracle.com>
David Daney <david.daney@cavium.com>
David S. Miller <davem@davemloft.net>
David Vrabel <david.vrabel@citrix.com>
Davidlohr Bueso <dbueso@suse.de>
Dirk Behme <dirk.behme@de.bosch.com>
Doug Ledford <dledford@redhat.com>
Dr. Greg Wettstein <gw@idfusion.org>
Felix Fietkau <nbd@openwrt.org>
Greg Kroah-Hartman <gregkh@linuxfoundation.org>
Herbert Xu <herbert@gondor.apana.org.au>
Hugh Dickins <hughd@google.com>
Ilya Dryomov <idryomov@gmail.com>
Ingo Molnar <mingo@kernel.org>
James Bottomley <JBottomley@Odin.com>
James Hogan <james.hogan@imgtec.com>
Jan Kara <jack@suse.com>
Johan Hovold <johan@kernel.org>
Joseph Qi <joseph.qi@huawei.com>
Kevin Hilman <khilman@linaro.org>
Linus Torvalds <torvalds@linux-foundation.org>
Marcus Gelderie <redmnic@gmail.com>
Marek Belisko <marek.belisko@streamunlimited.com>
Marek Marczykowski-Górecki <marmarek@invisiblethingslab.com>
Mark Brown <broonie@kernel.org>
Mathias Nyman <mathias.nyman@linux.intel.com>
Michael Kerrisk <mtk.manpages@gmail.com>
Michael S. Tsirkin <mst@redhat.com>
Michal Hocko <mhocko@suse.cz>
Miklos Szeredi <mszeredi@suse.cz>
Mimi Zohar <zohar@linux.vnet.ibm.com>
NeilBrown <neilb@suse.com>
Nicholas Bellinger <nab@daterainc.com>
Nicholas Bellinger <nab@linux-iscsi.org>
Paolo Bonzini <pbonzini@redhat.com>
Paul Walmsley <paul@pwsan.com>
Ralf Baechle <ralf@linux-mips.org>
Roger Quadros <rogerq@ti.com>
Takashi Iwai <tiwai@suse.de>
Wang Kai <morgan.wang@huawei.com>
Wen Xiong <wenxiong@linux.vnet.ibm.com>
jobs:
build-amd64-xsm broken
build-armhf-xsm broken
build-i386-xsm broken
build-amd64 broken
build-armhf broken
build-i386 broken
build-amd64-libvirt blocked
build-armhf-libvirt blocked
build-i386-libvirt blocked
build-amd64-pvops broken
build-armhf-pvops broken
build-i386-pvops broken
build-amd64-rumpuserxen blocked
build-i386-rumpuserxen blocked
test-amd64-amd64-xl blocked
test-armhf-armhf-xl blocked
test-amd64-i386-xl blocked
test-amd64-amd64-xl-qemut-debianhvm-amd64-xsm blocked
test-amd64-i386-xl-qemut-debianhvm-amd64-xsm blocked
test-amd64-amd64-libvirt-qemuu-debianhvm-amd64-xsm blocked
test-amd64-i386-libvirt-qemuu-debianhvm-amd64-xsm blocked
test-amd64-amd64-xl-qemuu-debianhvm-amd64-xsm blocked
test-amd64-i386-xl-qemuu-debianhvm-amd64-xsm blocked
test-amd64-amd64-xl-qemut-stubdom-debianhvm-amd64-xsm blocked
test-amd64-i386-xl-qemut-stubdom-debianhvm-amd64-xsm blocked
test-amd64-amd64-libvirt-xsm blocked
test-armhf-armhf-libvirt-xsm blocked
test-amd64-i386-libvirt-xsm blocked
test-amd64-amd64-xl-xsm blocked
test-armhf-armhf-xl-xsm blocked
test-amd64-i386-xl-xsm blocked
test-amd64-amd64-xl-pvh-amd blocked
test-amd64-i386-qemut-rhel6hvm-amd blocked
test-amd64-i386-qemuu-rhel6hvm-amd blocked
test-amd64-amd64-xl-qemut-debianhvm-amd64 blocked
test-amd64-i386-xl-qemut-debianhvm-amd64 blocked
test-amd64-amd64-xl-qemuu-debianhvm-amd64 blocked
test-amd64-i386-xl-qemuu-debianhvm-amd64 blocked
test-amd64-i386-freebsd10-amd64 blocked
test-amd64-amd64-xl-qemuu-ovmf-amd64 blocked
test-amd64-i386-xl-qemuu-ovmf-amd64 blocked
test-amd64-amd64-rumpuserxen-amd64 blocked
test-amd64-amd64-xl-qemut-win7-amd64 blocked
test-amd64-i386-xl-qemut-win7-amd64 blocked
test-amd64-amd64-xl-qemuu-win7-amd64 blocked
test-amd64-i386-xl-qemuu-win7-amd64 blocked
test-armhf-armhf-xl-arndale blocked
test-amd64-amd64-xl-credit2 blocked
test-armhf-armhf-xl-credit2 blocked
test-armhf-armhf-xl-cubietruck blocked
test-amd64-i386-freebsd10-i386 blocked
test-amd64-i386-rumpuserxen-i386 blocked
test-amd64-amd64-xl-pvh-intel blocked
test-amd64-i386-qemut-rhel6hvm-intel blocked
test-amd64-i386-qemuu-rhel6hvm-intel blocked
test-amd64-amd64-libvirt blocked
test-armhf-armhf-libvirt blocked
test-amd64-i386-libvirt blocked
test-amd64-amd64-xl-multivcpu blocked
test-armhf-armhf-xl-multivcpu blocked
test-amd64-amd64-pair blocked
test-amd64-i386-pair blocked
test-amd64-amd64-libvirt-pair blocked
test-amd64-i386-libvirt-pair blocked
test-amd64-amd64-amd64-pvgrub blocked
test-amd64-amd64-i386-pvgrub blocked
test-amd64-amd64-pygrub blocked
test-amd64-amd64-libvirt-qcow2 blocked
test-armhf-armhf-libvirt-qcow2 blocked
test-amd64-i386-libvirt-qcow2 blocked
test-amd64-amd64-xl-qcow2 blocked
test-armhf-armhf-xl-qcow2 blocked
test-amd64-i386-xl-qcow2 blocked
test-amd64-amd64-libvirt-raw blocked
test-armhf-armhf-libvirt-raw blocked
test-amd64-i386-libvirt-raw blocked
test-amd64-amd64-xl-raw blocked
test-armhf-armhf-xl-raw blocked
test-amd64-i386-xl-raw blocked
test-amd64-amd64-xl-rtds blocked
test-armhf-armhf-xl-rtds blocked
test-amd64-i386-xl-qemut-winxpsp3-vcpus1 blocked
test-amd64-i386-xl-qemuu-winxpsp3-vcpus1 blocked
test-amd64-amd64-libvirt-vhd blocked
test-armhf-armhf-libvirt-vhd blocked
test-amd64-i386-libvirt-vhd blocked
test-amd64-amd64-xl-vhd blocked
test-armhf-armhf-xl-vhd blocked
test-amd64-i386-xl-vhd blocked
test-amd64-amd64-xl-qemut-winxpsp3 blocked
test-amd64-i386-xl-qemut-winxpsp3 blocked
test-amd64-amd64-xl-qemuu-winxpsp3 blocked
test-amd64-i386-xl-qemuu-winxpsp3 blocked
------------------------------------------------------------
sg-report-flight on osstest.test-lab.xenproject.org
logs: /home/logs/logs
images: /home/logs/images
Logs, config files, etc. are available at
http://logs.test-lab.xenproject.org/osstest/logs
Explanation of these reports, and of osstest in general, is at
http://xenbits.xen.org/gitweb/?p=osstest.git;a=blob;f=README.email;hb=master
http://xenbits.xen.org/gitweb/?p=osstest.git;a=blob;f=README;hb=master
Test harness code can be found at
http://xenbits.xen.org/gitweb?p=osstest.git;a=summary
broken-step build-armhf-xsm host-install(3)
broken-step build-armhf host-install(3)
broken-step build-armhf-pvops host-install(3)
broken-step build-i386-pvops host-install(3)
broken-step build-i386-xsm host-install(3)
broken-step build-i386 host-install(3)
broken-step build-amd64 host-install(3)
broken-step build-amd64-pvops host-install(3)
broken-step build-amd64-xsm host-install(3)
Not pushing.
(No revision log; it would be 1572 lines long.)
[-- Attachment #2: Type: text/plain, Size: 126 bytes --]
_______________________________________________
Xen-devel mailing list
Xen-devel@lists.xen.org
http://lists.xen.org/xen-devel
^ permalink raw reply [flat|nested] only message in thread
only message in thread, other threads:[~2015-09-06 7:23 UTC | newest]
Thread overview: (only message) (download: mbox.gz follow: Atom feed
-- links below jump to the message on this page --
2015-09-06 7:23 [linux-3.14 test] 61362: trouble: blocked/broken osstest service owner
This is a public inbox, see mirroring instructions
for how to clone and mirror all data and code used for this inbox;
as well as URLs for NNTP newsgroup(s).