From mboxrd@z Thu Jan 1 00:00:00 1970 From: osstest service owner Subject: [libvirt test] 61413: trouble: blocked/broken Date: Mon, 07 Sep 2015 03:07:27 +0000 Message-ID: Mime-Version: 1.0 Content-Type: text/plain; charset="us-ascii" Content-Transfer-Encoding: 7bit Return-path: List-Unsubscribe: , List-Post: List-Help: List-Subscribe: , Sender: xen-devel-bounces@lists.xen.org Errors-To: xen-devel-bounces@lists.xen.org To: xen-devel@lists.xensource.com, osstest-admin@xenproject.org List-Id: xen-devel@lists.xenproject.org flight 61413 libvirt real [real] http://logs.test-lab.xenproject.org/osstest/logs/61413/ Failures and problems with tests :-( Tests which did not succeed and are blocking, including tests which could not be run: build-armhf-xsm 3 host-install(3) broken REGR. vs. 61304 build-armhf 3 host-install(3) broken REGR. vs. 61304 build-armhf-pvops 3 host-install(3) broken REGR. vs. 61304 build-i386-pvops 3 host-install(3) broken REGR. vs. 61304 build-i386-xsm 3 host-install(3) broken REGR. vs. 61304 build-i386 3 host-install(3) broken REGR. vs. 61304 build-amd64-pvops 3 host-install(3) broken REGR. vs. 61304 build-amd64-xsm 3 host-install(3) broken REGR. vs. 61304 build-amd64 3 host-install(3) broken REGR. vs. 61304 Tests which did not succeed, but are not blocking: test-armhf-armhf-libvirt-vhd 1 build-check(1) blocked n/a build-amd64-libvirt 1 build-check(1) blocked n/a test-armhf-armhf-libvirt-qcow2 1 build-check(1) blocked n/a test-amd64-amd64-libvirt 1 build-check(1) blocked n/a test-armhf-armhf-libvirt 1 build-check(1) blocked n/a test-amd64-i386-libvirt 1 build-check(1) blocked n/a test-amd64-amd64-libvirt-pair 1 build-check(1) blocked n/a test-amd64-i386-libvirt-pair 1 build-check(1) blocked n/a test-amd64-i386-libvirt-raw 1 build-check(1) blocked n/a test-amd64-i386-libvirt-qemuu-debianhvm-amd64-xsm 1 build-check(1) blocked n/a test-amd64-i386-libvirt-vhd 1 build-check(1) blocked n/a test-amd64-amd64-libvirt-qemuu-debianhvm-amd64-xsm 1 build-check(1) blocked n/a test-amd64-i386-libvirt-xsm 1 build-check(1) blocked n/a test-amd64-amd64-libvirt-vhd 1 build-check(1) blocked n/a test-amd64-amd64-libvirt-xsm 1 build-check(1) blocked n/a test-amd64-i386-libvirt-qcow2 1 build-check(1) blocked n/a test-armhf-armhf-libvirt-raw 1 build-check(1) blocked n/a test-amd64-amd64-libvirt-qcow2 1 build-check(1) blocked n/a test-amd64-amd64-libvirt-raw 1 build-check(1) blocked n/a test-armhf-armhf-libvirt-xsm 1 build-check(1) blocked n/a build-armhf-libvirt 1 build-check(1) blocked n/a build-i386-libvirt 1 build-check(1) blocked n/a version targeted for testing: libvirt 1d204cf19617b87f0bddfb0d9855ee99d7f5d2ae baseline version: libvirt 5c668a78d85b0d71e6ac8e23f2c605058b44df65 Last test of basis 61304 2015-09-02 12:32:03 Z 4 days Failing since 61350 2015-09-04 13:14:40 Z 2 days 3 attempts Testing same since 61413 2015-09-06 04:19:56 Z 0 days 1 attempts ------------------------------------------------------------ People who touched revisions under test: Erik Skultety Jim Fehlig Jiri Denemark John Ferlan Laine Stump Martin Kletzander Matthias Bolte Michal Privoznik Pavel Hrdina jobs: build-amd64-xsm broken build-armhf-xsm broken build-i386-xsm broken build-amd64 broken build-armhf broken build-i386 broken build-amd64-libvirt blocked build-armhf-libvirt blocked build-i386-libvirt blocked build-amd64-pvops broken build-armhf-pvops broken build-i386-pvops broken test-amd64-amd64-libvirt-qemuu-debianhvm-amd64-xsm blocked test-amd64-i386-libvirt-qemuu-debianhvm-amd64-xsm blocked test-amd64-amd64-libvirt-xsm blocked test-armhf-armhf-libvirt-xsm blocked test-amd64-i386-libvirt-xsm blocked test-amd64-amd64-libvirt blocked test-armhf-armhf-libvirt blocked test-amd64-i386-libvirt blocked test-amd64-amd64-libvirt-pair blocked test-amd64-i386-libvirt-pair blocked test-amd64-amd64-libvirt-qcow2 blocked test-armhf-armhf-libvirt-qcow2 blocked test-amd64-i386-libvirt-qcow2 blocked test-amd64-amd64-libvirt-raw blocked test-armhf-armhf-libvirt-raw blocked test-amd64-i386-libvirt-raw blocked test-amd64-amd64-libvirt-vhd blocked test-armhf-armhf-libvirt-vhd blocked test-amd64-i386-libvirt-vhd blocked ------------------------------------------------------------ sg-report-flight on osstest.test-lab.xenproject.org logs: /home/logs/logs images: /home/logs/images Logs, config files, etc. are available at http://logs.test-lab.xenproject.org/osstest/logs Explanation of these reports, and of osstest in general, is at http://xenbits.xen.org/gitweb/?p=osstest.git;a=blob;f=README.email;hb=master http://xenbits.xen.org/gitweb/?p=osstest.git;a=blob;f=README;hb=master Test harness code can be found at http://xenbits.xen.org/gitweb?p=osstest.git;a=summary broken-step build-armhf-xsm host-install(3) broken-step build-armhf host-install(3) broken-step build-armhf-pvops host-install(3) broken-step build-i386-pvops host-install(3) broken-step build-i386-xsm host-install(3) broken-step build-i386 host-install(3) broken-step build-amd64-pvops host-install(3) broken-step build-amd64-xsm host-install(3) broken-step build-amd64 host-install(3) Not pushing. (No revision log; it would be 361 lines long.)