* [linux-3.4 test] 62189: trouble: pass/preparing/queued
@ 2015-09-22 10:34 osstest service owner
2015-09-22 10:37 ` Ian Campbell
0 siblings, 1 reply; 2+ messages in thread
From: osstest service owner @ 2015-09-22 10:34 UTC (permalink / raw)
To: xen-devel, osstest-admin
flight 62189 linux-3.4 running [real]
http://logs.test-lab.xenproject.org/osstest/logs/62189/
Failures and problems with tests :-(
Tests which did not succeed and are blocking,
including tests which could not be run:
test-amd64-amd64-i386-pvgrub <none executed> queued
test-amd64-amd64-xl-qemuu-winxpsp3 <none executed> queued
test-amd64-amd64-xl-multivcpu <none executed> queued
test-amd64-amd64-xl-qemuu-debianhvm-amd64 <none executed> queued
test-amd64-amd64-xl-credit2 <none executed> queued
test-amd64-i386-xl-qemuu-winxpsp3 <none executed> queued
test-amd64-i386-xl-qemuu-debianhvm-amd64 <none executed> queued
test-amd64-i386-rumpuserxen-i386 <none executed> queued
test-amd64-amd64-xl-qemut-winxpsp3 <none executed> queued
test-amd64-amd64-xl <none executed> queued
test-amd64-amd64-xl-qemuu-ovmf-amd64 <none executed> queued
test-amd64-i386-qemut-rhel6hvm-intel <none executed> queued
test-amd64-i386-xl-qemut-winxpsp3 <none executed> queued
test-amd64-i386-xl-qemut-winxpsp3-vcpus1 <none executed> queued
test-amd64-i386-qemuu-rhel6hvm-intel <none executed> queued
test-amd64-i386-xl-qemut-debianhvm-amd64 <none executed> queued
test-amd64-i386-xl-qemuu-ovmf-amd64 <none executed> queued
test-amd64-amd64-xl-pvh-amd <none executed> queued
test-amd64-i386-freebsd10-i386 <none executed> queued
test-amd64-amd64-xl-qemut-debianhvm-amd64 <none executed> queued
test-amd64-i386-freebsd10-amd64 <none executed> queued
test-amd64-amd64-rumpuserxen-amd64 <none executed> queued
test-amd64-i386-xl-qemuu-winxpsp3-vcpus1 <none executed> queued
test-amd64-i386-xl <none executed> queued
test-amd64-amd64-xl-pvh-intel <none executed> queued
test-amd64-amd64-xl-qcow2 <none executed> queued
test-amd64-amd64-xl-rtds <none executed> queued
test-amd64-amd64-libvirt-qcow2 <none executed> queued
test-amd64-amd64-xl-qemut-win7-amd64 <none executed> queued
test-amd64-amd64-libvirt <none executed> queued
build-amd64-rumpuserxen <none executed> queued
build-amd64-libvirt <none executed> queued
test-amd64-amd64-libvirt-pair <none executed> queued
test-amd64-i386-pair <none executed> queued
test-amd64-i386-libvirt-pair <none executed> queued
test-amd64-amd64-pygrub <none executed> queued
test-amd64-amd64-pair <none executed> queued
test-amd64-amd64-xl-raw <none executed> queued
test-amd64-i386-libvirt-qcow2 <none executed> queued
test-amd64-amd64-libvirt-raw <none executed> queued
test-amd64-i386-libvirt-raw <none executed> queued
test-amd64-amd64-libvirt-qemuu-debianhvm-amd64-xsm <none executed> queued
test-amd64-i386-xl-raw <none executed> queued
test-amd64-i386-qemut-rhel6hvm-amd <none executed> queued
test-amd64-i386-libvirt <none executed> queued
test-amd64-amd64-libvirt-vhd <none executed> queued
test-amd64-i386-libvirt-vhd <none executed> queued
test-amd64-amd64-libvirt-xsm <none executed> queued
test-amd64-amd64-xl-vhd <none executed> queued
test-amd64-amd64-amd64-pvgrub <none executed> queued
test-amd64-i386-qemuu-rhel6hvm-amd <none executed> queued
test-amd64-i386-xl-qcow2 <none executed> queued
test-amd64-i386-xl-qemuu-win7-amd64 <none executed> queued
test-amd64-i386-xl-vhd <none executed> queued
test-amd64-amd64-xl-qemuu-win7-amd64 <none executed> queued
test-amd64-i386-xl-qemut-win7-amd64 <none executed> queued
build-i386-rumpuserxen 2 hosts-allocate running
test-amd64-amd64-xl-qemuu-debianhvm-amd64-xsm 2 hosts-allocate running
test-amd64-i386-xl-xsm 2 hosts-allocate running
test-amd64-i386-xl-qemuu-debianhvm-amd64-xsm 2 hosts-allocate running
test-amd64-amd64-xl-qemut-stubdom-debianhvm-amd64-xsm 2 hosts-allocate running
test-amd64-i386-xl-qemut-debianhvm-amd64-xsm 2 hosts-allocate running
test-amd64-i386-libvirt-xsm 2 hosts-allocate running
test-amd64-amd64-xl-xsm 2 hosts-allocate running
test-amd64-amd64-xl-qemut-debianhvm-amd64-xsm 2 hosts-allocate running
build-amd64 2 hosts-allocate running
test-amd64-i386-xl-qemut-stubdom-debianhvm-amd64-xsm 2 hosts-allocate running
test-amd64-i386-libvirt-qemuu-debianhvm-amd64-xsm 2 hosts-allocate running
version targeted for testing:
linux cf1b3dad6c5699b977273276bada8597636ef3e2
baseline version:
linux bb4a05a0400ed6d2f1e13d1f82f289ff74300a70
Last test of basis 30511 2014-09-29 16:37:46 Z 357 days
Failing since 32004 2014-12-02 04:10:03 Z 294 days 219 attempts
Testing same since 58781 2015-06-20 14:15:50 Z 93 days 73 attempts
------------------------------------------------------------
500 people touched revisions under test,
not listing them all
jobs:
build-amd64-xsm pass
build-i386-xsm pass
build-amd64 preparing
build-i386 pass
build-amd64-libvirt queued
build-i386-libvirt pass
build-amd64-pvops pass
build-i386-pvops pass
build-amd64-rumpuserxen queued
build-i386-rumpuserxen preparing
test-amd64-amd64-xl queued
test-amd64-i386-xl queued
test-amd64-amd64-xl-qemut-debianhvm-amd64-xsm preparing
test-amd64-i386-xl-qemut-debianhvm-amd64-xsm preparing
test-amd64-amd64-libvirt-qemuu-debianhvm-amd64-xsm queued
test-amd64-i386-libvirt-qemuu-debianhvm-amd64-xsm preparing
test-amd64-amd64-xl-qemuu-debianhvm-amd64-xsm preparing
test-amd64-i386-xl-qemuu-debianhvm-amd64-xsm preparing
test-amd64-amd64-xl-qemut-stubdom-debianhvm-amd64-xsm preparing
test-amd64-i386-xl-qemut-stubdom-debianhvm-amd64-xsm preparing
test-amd64-amd64-libvirt-xsm queued
test-amd64-i386-libvirt-xsm preparing
test-amd64-amd64-xl-xsm preparing
test-amd64-i386-xl-xsm preparing
test-amd64-amd64-xl-pvh-amd queued
test-amd64-i386-qemut-rhel6hvm-amd queued
test-amd64-i386-qemuu-rhel6hvm-amd queued
test-amd64-amd64-xl-qemut-debianhvm-amd64 queued
test-amd64-i386-xl-qemut-debianhvm-amd64 queued
test-amd64-amd64-xl-qemuu-debianhvm-amd64 queued
test-amd64-i386-xl-qemuu-debianhvm-amd64 queued
test-amd64-i386-freebsd10-amd64 queued
test-amd64-amd64-xl-qemuu-ovmf-amd64 queued
test-amd64-i386-xl-qemuu-ovmf-amd64 queued
test-amd64-amd64-rumpuserxen-amd64 queued
test-amd64-amd64-xl-qemut-win7-amd64 queued
test-amd64-i386-xl-qemut-win7-amd64 queued
test-amd64-amd64-xl-qemuu-win7-amd64 queued
test-amd64-i386-xl-qemuu-win7-amd64 queued
test-amd64-amd64-xl-credit2 queued
test-amd64-i386-freebsd10-i386 queued
test-amd64-i386-rumpuserxen-i386 queued
test-amd64-amd64-xl-pvh-intel queued
test-amd64-i386-qemut-rhel6hvm-intel queued
test-amd64-i386-qemuu-rhel6hvm-intel queued
test-amd64-amd64-libvirt queued
test-amd64-i386-libvirt queued
test-amd64-amd64-xl-multivcpu queued
test-amd64-amd64-pair queued
test-amd64-i386-pair queued
test-amd64-amd64-libvirt-pair queued
test-amd64-i386-libvirt-pair queued
test-amd64-amd64-amd64-pvgrub queued
test-amd64-amd64-i386-pvgrub queued
test-amd64-amd64-pygrub queued
test-amd64-amd64-libvirt-qcow2 queued
test-amd64-i386-libvirt-qcow2 queued
test-amd64-amd64-xl-qcow2 queued
test-amd64-i386-xl-qcow2 queued
test-amd64-amd64-libvirt-raw queued
test-amd64-i386-libvirt-raw queued
test-amd64-amd64-xl-raw queued
test-amd64-i386-xl-raw queued
test-amd64-amd64-xl-rtds queued
test-amd64-i386-xl-qemut-winxpsp3-vcpus1 queued
test-amd64-i386-xl-qemuu-winxpsp3-vcpus1 queued
test-amd64-amd64-libvirt-vhd queued
test-amd64-i386-libvirt-vhd queued
test-amd64-amd64-xl-vhd queued
test-amd64-i386-xl-vhd queued
test-amd64-amd64-xl-qemut-winxpsp3 queued
test-amd64-i386-xl-qemut-winxpsp3 queued
test-amd64-amd64-xl-qemuu-winxpsp3 queued
test-amd64-i386-xl-qemuu-winxpsp3 queued
------------------------------------------------------------
sg-report-flight on osstest.test-lab.xenproject.org
logs: /home/logs/logs
images: /home/logs/images
Logs, config files, etc. are available at
http://logs.test-lab.xenproject.org/osstest/logs
Explanation of these reports, and of osstest in general, is at
http://xenbits.xen.org/gitweb/?p=osstest.git;a=blob;f=README.email;hb=master
http://xenbits.xen.org/gitweb/?p=osstest.git;a=blob;f=README;hb=master
Test harness code can be found at
http://xenbits.xen.org/gitweb?p=osstest.git;a=summary
broken-job test-amd64-amd64-i386-pvgrub queued
broken-job test-amd64-amd64-xl-qemuu-winxpsp3 queued
broken-job test-amd64-amd64-xl-multivcpu queued
broken-job test-amd64-amd64-xl-qemuu-debianhvm-amd64 queued
broken-job test-amd64-amd64-xl-credit2 queued
broken-job test-amd64-i386-xl-qemuu-winxpsp3 queued
broken-job test-amd64-i386-xl-qemuu-debianhvm-amd64 queued
broken-job test-amd64-i386-rumpuserxen-i386 queued
broken-job test-amd64-amd64-xl-qemut-winxpsp3 queued
broken-job test-amd64-amd64-xl queued
broken-job test-amd64-amd64-xl-qemuu-ovmf-amd64 queued
broken-job test-amd64-i386-qemut-rhel6hvm-intel queued
broken-job test-amd64-i386-xl-qemut-winxpsp3 queued
broken-job test-amd64-i386-xl-qemut-winxpsp3-vcpus1 queued
broken-job test-amd64-i386-qemuu-rhel6hvm-intel queued
broken-job test-amd64-i386-xl-qemut-debianhvm-amd64 queued
broken-job test-amd64-i386-xl-qemuu-ovmf-amd64 queued
broken-job test-amd64-amd64-xl-pvh-amd queued
broken-job test-amd64-i386-freebsd10-i386 queued
broken-job test-amd64-amd64-xl-qemut-debianhvm-amd64 queued
broken-job test-amd64-i386-freebsd10-amd64 queued
broken-job test-amd64-amd64-rumpuserxen-amd64 queued
broken-job test-amd64-i386-xl-qemuu-winxpsp3-vcpus1 queued
broken-job test-amd64-i386-xl queued
broken-job test-amd64-amd64-xl-pvh-intel queued
broken-job test-amd64-amd64-xl-qcow2 queued
broken-job test-amd64-amd64-xl-rtds queued
broken-job test-amd64-amd64-libvirt-qcow2 queued
broken-job test-amd64-amd64-xl-qemut-win7-amd64 queued
broken-job test-amd64-amd64-libvirt queued
broken-job build-amd64-rumpuserxen queued
broken-job build-amd64-libvirt queued
broken-job test-amd64-amd64-libvirt-pair queued
broken-job test-amd64-i386-pair queued
broken-job test-amd64-i386-libvirt-pair queued
broken-job test-amd64-amd64-pygrub queued
broken-job test-amd64-amd64-pair queued
broken-job test-amd64-amd64-xl-raw queued
broken-job test-amd64-i386-libvirt-qcow2 queued
broken-job test-amd64-amd64-libvirt-raw queued
broken-job test-amd64-i386-libvirt-raw queued
broken-job test-amd64-amd64-libvirt-qemuu-debianhvm-amd64-xsm queued
broken-job test-amd64-i386-xl-raw queued
broken-job test-amd64-i386-qemut-rhel6hvm-amd queued
broken-job test-amd64-i386-libvirt queued
broken-job test-amd64-amd64-libvirt-vhd queued
broken-job test-amd64-i386-libvirt-vhd queued
broken-job test-amd64-amd64-libvirt-xsm queued
broken-job test-amd64-amd64-xl-vhd queued
broken-job test-amd64-amd64-amd64-pvgrub queued
broken-job test-amd64-i386-qemuu-rhel6hvm-amd queued
broken-job test-amd64-i386-xl-qcow2 queued
broken-job test-amd64-i386-xl-qemuu-win7-amd64 queued
broken-job test-amd64-i386-xl-vhd queued
broken-job test-amd64-amd64-xl-qemuu-win7-amd64 queued
broken-job test-amd64-i386-xl-qemut-win7-amd64 queued
Not pushing.
(No revision log; it would be 17783 lines long.)
^ permalink raw reply [flat|nested] 2+ messages in thread
end of thread, other threads:[~2015-09-22 10:37 UTC | newest]
Thread overview: 2+ messages (download: mbox.gz follow: Atom feed
-- links below jump to the message on this page --
2015-09-22 10:34 [linux-3.4 test] 62189: trouble: pass/preparing/queued osstest service owner
2015-09-22 10:37 ` Ian Campbell
This is a public inbox, see mirroring instructions
for how to clone and mirror all data and code used for this inbox;
as well as URLs for NNTP newsgroup(s).