xen-devel.lists.xenproject.org archive mirror
 help / color / mirror / Atom feed
From: Platform Team regression test user <citrix-osstest@xenproject.org>
To: xen-devel@lists.xensource.com, osstest-admin@xenproject.org
Subject: [ovmf baseline-only test] 66496: all pass
Date: Sun, 3 Jul 2016 01:47:38 +0100	[thread overview]
Message-ID: <osstest-66496-mainreport@xen.org> (raw)

This run is configured for baseline tests only.

flight 66496 ovmf real [real]
http://osstest.xs.citrite.net/~osstest/testlogs/logs/66496/

Perfect :-)
All tests in this flight passed
version targeted for testing:
 ovmf                 dc99315b8732b6e3032d01319d3f534d440b43d0
baseline version:
 ovmf                 81c1460695f783a3f91431b2babea623556a7f5d

Last test of basis    44433  2016-05-19 06:55:07 Z   44 days
Testing same since    66496  2016-07-01 10:52:59 Z    1 days    1 attempts

------------------------------------------------------------
People who touched revisions under test:
  Chao Zhang <chao.b.zhang@intel.com>
  Cinnamon Shia <cinnamon.shia@hpe.com>
  Dong, Eric <eric.dong@intel.com>
  Eric Dong <eric.dong@intel.com>
  Fu Siyuan <siyuan.fu@intel.com>
  Gary Lin <glin@suse.com>
  Hao Wu <hao.a.wu@intel.com>
  Jeff Fan <jeff.fan@intel.com>
  Jiewen Yao <jiewen.yao@intel.com>
  Laszlo Ersek <lersek@redhat.com>
  Leahy, Leroy P <leroy.p.leahy@intel.com>
  Lee Leahy <leroy.p.leahy@intel.com>
  Liming Gao <liming.gao@intel.com>
  Marvin H?user <Marvin.Haeuser@outlook.com>
  Marvin Haeuser <Marvin.Haeuser@outlook.com>
  Maurice Ma <maurice.ma@intel.com>
  Michael Kinney <michael.d.kinney@intel.com>
  Qiu Shumin <shumin.qiu@intel.com>
  Ruiyu Ni <ruiyu.ni@intel.com>
  Star Zeng <star.zeng@intel.com>
  Yonghong Zhu <yonghong.zhu@intel.com>
  Zhang, Chao B <chao.b.zhang@intel.com>
  Zhu, Yonghong <yonghong.zhu@intel.com>

jobs:
 build-amd64-xsm                                              pass    
 build-i386-xsm                                               pass    
 build-amd64                                                  pass    
 build-i386                                                   pass    
 build-amd64-libvirt                                          pass    
 build-i386-libvirt                                           pass    
 build-amd64-pvops                                            pass    
 build-i386-pvops                                             pass    
 test-amd64-amd64-xl-qemuu-ovmf-amd64                         pass    
 test-amd64-i386-xl-qemuu-ovmf-amd64                          pass    


------------------------------------------------------------
sg-report-flight on osstest.xs.citrite.net
logs: /home/osstest/logs
images: /home/osstest/images

Logs, config files, etc. are available at
    http://osstest.xs.citrite.net/~osstest/testlogs/logs

Test harness code can be found at
    http://xenbits.xensource.com/gitweb?p=osstest.git;a=summary


Push not applicable.

(No revision log; it would be 900 lines long.)

_______________________________________________
Xen-devel mailing list
Xen-devel@lists.xen.org
http://lists.xen.org/xen-devel

                 reply	other threads:[~2016-07-03  0:47 UTC|newest]

Thread overview: [no followups] expand[flat|nested]  mbox.gz  Atom feed

Reply instructions:

You may reply publicly to this message via plain-text email
using any one of the following methods:

* Save the following mbox file, import it into your mail client,
  and reply-to-all from there: mbox

  Avoid top-posting and favor interleaved quoting:
  https://en.wikipedia.org/wiki/Posting_style#Interleaved_style

* Reply using the --to, --cc, and --in-reply-to
  switches of git-send-email(1):

  git send-email \
    --in-reply-to=osstest-66496-mainreport@xen.org \
    --to=citrix-osstest@xenproject.org \
    --cc=osstest-admin@xenproject.org \
    --cc=xen-devel@lists.xensource.com \
    /path/to/YOUR_REPLY

  https://kernel.org/pub/software/scm/git/docs/git-send-email.html

* If your mail client supports setting the In-Reply-To header
  via mailto: links, try the mailto: link
Be sure your reply has a Subject: header at the top and a blank line before the message body.
This is a public inbox, see mirroring instructions
for how to clone and mirror all data and code used for this inbox;
as well as URLs for NNTP newsgroup(s).