From mboxrd@z Thu Jan 1 00:00:00 1970 From: Platform Team regression test user Subject: [qemu-mainline baseline-only test] 66530: trouble: blocked/broken/pass Date: Thu, 7 Jul 2016 18:11:12 +0100 Message-ID: Mime-Version: 1.0 Content-Type: multipart/mixed; boundary="===============7019469799150510280==" Return-path: List-Unsubscribe: , List-Post: List-Help: List-Subscribe: , Errors-To: xen-devel-bounces@lists.xen.org Sender: "Xen-devel" To: xen-devel@lists.xensource.com, osstest-admin@xenproject.org List-Id: xen-devel@lists.xenproject.org --===============7019469799150510280== Content-Type: text/plain This run is configured for baseline tests only. flight 66530 qemu-mainline running [real] http://osstest.xs.citrite.net/~osstest/testlogs/logs/66530/ Failures and problems with tests :-( Tests which did not succeed and are blocking, including tests which could not be run: build-amd64-libvirt broken build-i386-libvirt broken test-amd64-amd64-xl-pvh-intel broken test-amd64-amd64-xl-pvh-amd broken test-amd64-amd64-xl broken test-amd64-i386-qemuu-rhel6hvm-intel broken test-amd64-i386-xl broken test-amd64-amd64-xl-multivcpu broken test-amd64-amd64-xl-credit2 broken test-amd64-i386-xl-xsm broken test-amd64-amd64-xl-rtds broken test-amd64-amd64-libvirt broken test-amd64-amd64-libvirt-xsm broken test-amd64-i386-libvirt broken test-amd64-amd64-xl-xsm broken test-amd64-i386-qemuu-rhel6hvm-amd broken test-amd64-i386-libvirt-xsm broken test-amd64-i386-xl-qemuu-ovmf-amd64 broken test-amd64-amd64-xl-qemuu-ovmf-amd64 broken test-amd64-i386-libvirt-qemuu-debianhvm-amd64-xsm broken test-amd64-amd64-qemuu-nested-intel broken test-amd64-i386-freebsd10-i386 broken test-amd64-amd64-i386-pvgrub broken test-amd64-i386-freebsd10-amd64 broken test-amd64-amd64-qemuu-nested-amd broken test-amd64-amd64-pair broken test-amd64-amd64-amd64-pvgrub broken test-amd64-amd64-pygrub broken test-amd64-i386-pair broken test-amd64-amd64-libvirt-pair broken test-amd64-amd64-libvirt-qemuu-debianhvm-amd64-xsm broken test-amd64-amd64-libvirt-vhd broken test-amd64-i386-xl-raw broken test-amd64-amd64-xl-qemuu-debianhvm-amd64 broken test-amd64-i386-xl-qemuu-winxpsp3 broken test-amd64-i386-xl-qemuu-win7-amd64 broken test-amd64-amd64-xl-qemuu-win7-amd64 broken test-amd64-i386-libvirt-pair broken test-amd64-i386-xl-qemuu-debianhvm-amd64-xsm broken test-amd64-amd64-xl-qcow2 broken test-amd64-i386-xl-qemuu-debianhvm-amd64 broken test-amd64-amd64-xl-qemuu-debianhvm-amd64-xsm broken test-amd64-i386-xl-qemuu-winxpsp3-vcpus1 broken test-amd64-amd64-xl-qemuu-winxpsp3 broken build-armhf 2 hosts-allocate running build-armhf-xsm 2 hosts-allocate running build-armhf-pvops 2 hosts-allocate running Tests which did not succeed, but are not blocking: build-armhf-libvirt 1 build-check(1) blocked n/a test-armhf-armhf-libvirt-xsm 1 build-check(1) blocked n/a test-armhf-armhf-xl-xsm 1 build-check(1) blocked n/a test-armhf-armhf-xl-multivcpu 1 build-check(1) blocked n/a test-armhf-armhf-xl-midway 1 build-check(1) blocked n/a test-armhf-armhf-xl-vhd 1 build-check(1) blocked n/a test-armhf-armhf-xl-rtds 1 build-check(1) blocked n/a test-armhf-armhf-libvirt 1 build-check(1) blocked n/a test-armhf-armhf-libvirt-qcow2 1 build-check(1) blocked n/a test-armhf-armhf-libvirt-raw 1 build-check(1) blocked n/a test-armhf-armhf-xl 1 build-check(1) blocked n/a test-armhf-armhf-xl-credit2 1 build-check(1) blocked n/a version targeted for testing: qemuu 91d35509903464c7f4b9ed56be223d7370d3597c baseline version: qemuu d6550e9ed2e1a60d889dfb721de00d9a4e3bafbe Last test of basis 66485 2016-07-01 10:47:40 Z 6 days Testing same since 0 1970-01-01 00:00:00 Z 16989 days 0 attempts ------------------------------------------------------------ People who touched revisions under test: Aaron Larson Alberto Garcia Aleksandar Markovic Alex Bennée Alex Bligh Alex Williamson Alexander Graf Alexander Shopov Alexey Kardashevskiy Alistair Francis Amit Shah Andrea Arcangeli Andreas Färber Andrew Jeffery Andrew Jones Andrey Smirnov Aneesh Kumar K.V Anthony PERARD Anton Blanchard Ard Biesheuvel Artyom Tarasenko Ashijeet Acharya Aurelien Jarno Bastian Koppelmann Benjamin Herrenschmidt Bharata B Rao Bret Ketchum Cao jin Changlong Xie Chao Peng Chen Fan Christian Borntraeger Christophe Lyon Cole Robinson Colin Lord Corey Minyard Cornelia Huck Cédric Le Goater Cédric Le Goater Daniel P. Berrange David Gibson David Hildenbrand David Vrabel Denis V. Lunev Dmitry Fleytman Dmitry Fleytman > Dmitry Fleytman Dmitry Osipenko Dr. David Alan Gilbert Drew Jones Edgar E. Iglesias Eduardo Habkost Efimov Vasily Emilio G. Cota Eric Blake Fam Zheng Gavin Shan Gerd Hoffmann Greg Kurz Greg Kurz Gu Zheng Guillaume Delbergue Halil Pasic Hannes Reinecke Hyun Kwon Ido Yariv Igor Mammedov Jakub Horak James Clarke Jan Beulich Jan Vesely Jason Wang Jean-Christophe Dubois Jeff Cody Jens Wiklander Jerome Forissier John Snow Juergen Gross KarimAllah Ahmed Kashyap Chamarthy Kevin Wolf KONRAD Frederic Laszlo Ersek Laurent Vivier Laurent Vivier Leon Alrae Leonid Bloch Li Zhijian Liang Li Lin Ma Lluís Vilanova Maciej W. Rozycki Marc-André Lureau Marc-André Lureau Marcel Apfelbaum Marcin Krzeminski Mark Cave-Ayland Markus Armbruster Max Filippov Max Reitz Michael Fritscher Michael Neuling Michael Roth Michael S. Tsirkin Michael Strosaker Michael Tokarev Michael Walle Mike Frysinger Niels de Vos Nikunj A Dadhania Olaf Hering Paolo Bonzini Paul Durrant Pavel Butsykin Pavel Dovgalyuk Pavel Fedin Peter Crosthwaite Peter Crosthwaite Peter Crosthwaite Peter Krempa Peter Lieven Peter Maloney Peter Maydell Peter Maydell Peter Wu Peter Xu Pranith Kumar Prasad J Pandit Radim Krčmář Richard Henderson Richard W.M. Jones Riku Voipio Robert Ho Robin Geuze Sameeh Jubran Samuel Thibault Sergey Fedorov Sergey Fedorov Sergey Sorokin Shannon Zhao Shlomo Pongratz Stefan Hajnoczi Stefan Weil Stefano Stabellini Steven Luo Talha Imran Tetsuya Mukawa Thomas Huth Thomas Schwinge Timothy E Baldwin Timothy Edward Baldwin Vikhyat Umrao Vladimir Sementsov-Ogievskiy Wei Jiangang Wen Congyang Xiao Guangrong xiaoqiang zhao Yang Hongyang Yuanhan Liu Zhang Chen Zhou Jie Zhu Guihua jobs: build-amd64-xsm pass build-armhf-xsm broken build-i386-xsm pass build-amd64 pass build-armhf broken build-i386 pass build-amd64-libvirt broken build-armhf-libvirt blocked build-i386-libvirt broken build-amd64-pvops pass build-armhf-pvops broken build-i386-pvops pass test-amd64-amd64-xl broken test-armhf-armhf-xl blocked test-amd64-i386-xl broken test-amd64-amd64-libvirt-qemuu-debianhvm-amd64-xsm broken test-amd64-i386-libvirt-qemuu-debianhvm-amd64-xsm broken test-amd64-amd64-xl-qemuu-debianhvm-amd64-xsm broken test-amd64-i386-xl-qemuu-debianhvm-amd64-xsm broken test-amd64-amd64-libvirt-xsm broken test-armhf-armhf-libvirt-xsm blocked test-amd64-i386-libvirt-xsm broken test-amd64-amd64-xl-xsm broken test-armhf-armhf-xl-xsm blocked test-amd64-i386-xl-xsm broken test-amd64-amd64-qemuu-nested-amd broken test-amd64-amd64-xl-pvh-amd broken test-amd64-i386-qemuu-rhel6hvm-amd broken test-amd64-amd64-xl-qemuu-debianhvm-amd64 broken test-amd64-i386-xl-qemuu-debianhvm-amd64 broken test-amd64-i386-freebsd10-amd64 broken test-amd64-amd64-xl-qemuu-ovmf-amd64 broken test-amd64-i386-xl-qemuu-ovmf-amd64 broken test-amd64-amd64-xl-qemuu-win7-amd64 broken test-amd64-i386-xl-qemuu-win7-amd64 broken test-amd64-amd64-xl-credit2 broken test-armhf-armhf-xl-credit2 blocked test-amd64-i386-freebsd10-i386 broken test-amd64-amd64-qemuu-nested-intel broken test-amd64-amd64-xl-pvh-intel broken test-amd64-i386-qemuu-rhel6hvm-intel broken test-amd64-amd64-libvirt broken test-armhf-armhf-libvirt blocked test-amd64-i386-libvirt broken test-armhf-armhf-xl-midway blocked test-amd64-amd64-xl-multivcpu broken test-armhf-armhf-xl-multivcpu blocked test-amd64-amd64-pair broken test-amd64-i386-pair broken test-amd64-amd64-libvirt-pair broken test-amd64-i386-libvirt-pair broken test-amd64-amd64-amd64-pvgrub broken test-amd64-amd64-i386-pvgrub broken test-amd64-amd64-pygrub broken test-armhf-armhf-libvirt-qcow2 blocked test-amd64-amd64-xl-qcow2 broken test-armhf-armhf-libvirt-raw blocked test-amd64-i386-xl-raw broken test-amd64-amd64-xl-rtds broken test-armhf-armhf-xl-rtds blocked test-amd64-i386-xl-qemuu-winxpsp3-vcpus1 broken test-amd64-amd64-libvirt-vhd broken test-armhf-armhf-xl-vhd blocked test-amd64-amd64-xl-qemuu-winxpsp3 broken test-amd64-i386-xl-qemuu-winxpsp3 broken ------------------------------------------------------------ sg-report-flight on osstest.xs.citrite.net logs: /home/osstest/logs images: /home/osstest/images Logs, config files, etc. are available at http://osstest.xs.citrite.net/~osstest/testlogs/logs Test harness code can be found at http://xenbits.xensource.com/gitweb?p=osstest.git;a=summary broken-job build-amd64-libvirt broken broken-job build-i386-libvirt broken broken-job test-amd64-amd64-xl-pvh-intel broken broken-job test-amd64-amd64-xl-pvh-amd broken broken-job test-amd64-amd64-xl broken broken-job test-amd64-i386-qemuu-rhel6hvm-intel broken broken-job test-amd64-i386-xl broken broken-job test-amd64-amd64-xl-multivcpu broken broken-job test-amd64-amd64-xl-credit2 broken broken-job test-amd64-i386-xl-xsm broken broken-job test-amd64-amd64-xl-rtds broken broken-job test-amd64-amd64-libvirt broken broken-job test-amd64-amd64-libvirt-xsm broken broken-job test-amd64-i386-libvirt broken broken-job test-amd64-amd64-xl-xsm broken broken-job test-amd64-i386-qemuu-rhel6hvm-amd broken broken-job test-amd64-i386-libvirt-xsm broken broken-job test-amd64-i386-xl-qemuu-ovmf-amd64 broken broken-job test-amd64-amd64-xl-qemuu-ovmf-amd64 broken broken-job test-amd64-i386-libvirt-qemuu-debianhvm-amd64-xsm broken broken-job test-amd64-amd64-qemuu-nested-intel broken broken-job test-amd64-i386-freebsd10-i386 broken broken-job test-amd64-amd64-i386-pvgrub broken broken-job test-amd64-i386-freebsd10-amd64 broken broken-job test-amd64-amd64-qemuu-nested-amd broken broken-job test-amd64-amd64-pair broken broken-job test-amd64-amd64-amd64-pvgrub broken broken-job test-amd64-amd64-pygrub broken broken-job test-amd64-i386-pair broken broken-job test-amd64-amd64-libvirt-pair broken broken-job test-amd64-amd64-libvirt-qemuu-debianhvm-amd64-xsm broken broken-job test-amd64-amd64-libvirt-vhd broken broken-job test-amd64-i386-xl-raw broken broken-job test-amd64-amd64-xl-qemuu-debianhvm-amd64 broken broken-job test-amd64-i386-xl-qemuu-winxpsp3 broken broken-job test-amd64-i386-xl-qemuu-win7-amd64 broken broken-job test-amd64-amd64-xl-qemuu-win7-amd64 broken broken-job test-amd64-i386-libvirt-pair broken broken-job test-amd64-i386-xl-qemuu-debianhvm-amd64-xsm broken broken-job test-amd64-amd64-xl-qcow2 broken broken-job test-amd64-i386-xl-qemuu-debianhvm-amd64 broken broken-job test-amd64-amd64-xl-qemuu-debianhvm-amd64-xsm broken broken-job test-amd64-i386-xl-qemuu-winxpsp3-vcpus1 broken broken-job test-amd64-amd64-xl-qemuu-winxpsp3 broken Push not applicable. (No revision log; it would be 22211 lines long.) --===============7019469799150510280== Content-Type: text/plain; charset="utf-8" MIME-Version: 1.0 Content-Transfer-Encoding: base64 Content-Disposition: inline X19fX19fX19fX19fX19fX19fX19fX19fX19fX19fX19fX19fX19fX19fX19fX18KWGVuLWRldmVs IG1haWxpbmcgbGlzdApYZW4tZGV2ZWxAbGlzdHMueGVuLm9yZwpodHRwczovL2xpc3RzLnhlbi5v cmcveGVuLWRldmVsCg== --===============7019469799150510280==--