From mboxrd@z Thu Jan 1 00:00:00 1970 From: Platform Team regression test user Subject: [qemu-mainline baseline-only test] 66532: trouble: broken/preparing/queued Date: Fri, 8 Jul 2016 12:06:10 +0100 Message-ID: Mime-Version: 1.0 Content-Type: multipart/mixed; boundary="===============6772258669133664238==" Return-path: List-Unsubscribe: , List-Post: List-Help: List-Subscribe: , Errors-To: xen-devel-bounces@lists.xen.org Sender: "Xen-devel" To: xen-devel@lists.xensource.com, osstest-admin@xenproject.org List-Id: xen-devel@lists.xenproject.org --===============6772258669133664238== Content-Type: text/plain This run is configured for baseline tests only. flight 66532 qemu-mainline running [real] http://osstest.xs.citrite.net/~osstest/testlogs/logs/66532/ Failures and problems with tests :-( Tests which did not succeed and are blocking, including tests which could not be run: test-armhf-armhf-libvirt-xsm queued test-armhf-armhf-xl-xsm queued build-armhf-libvirt queued test-armhf-armhf-xl-rtds queued test-armhf-armhf-xl-multivcpu queued test-armhf-armhf-xl-vhd queued test-armhf-armhf-xl-midway queued test-armhf-armhf-libvirt queued test-armhf-armhf-libvirt-qcow2 queued test-armhf-armhf-xl-credit2 queued test-armhf-armhf-xl queued test-armhf-armhf-libvirt-raw queued build-amd64-libvirt queued build-i386-libvirt queued test-amd64-amd64-xl-pvh-intel queued test-amd64-amd64-xl-pvh-amd queued test-amd64-amd64-xl queued test-amd64-i386-qemuu-rhel6hvm-intel queued test-amd64-i386-xl queued test-amd64-amd64-xl-multivcpu queued test-amd64-amd64-xl-credit2 queued test-amd64-i386-xl-xsm queued test-amd64-amd64-xl-rtds queued test-amd64-amd64-libvirt queued test-amd64-amd64-libvirt-xsm queued test-amd64-i386-libvirt queued test-amd64-amd64-xl-xsm queued test-amd64-i386-qemuu-rhel6hvm-amd queued test-amd64-i386-libvirt-xsm queued test-amd64-i386-xl-qemuu-ovmf-amd64 queued test-amd64-amd64-xl-qemuu-ovmf-amd64 queued test-amd64-i386-libvirt-qemuu-debianhvm-amd64-xsm queued test-amd64-amd64-qemuu-nested-intel queued test-amd64-i386-freebsd10-i386 queued test-amd64-amd64-i386-pvgrub queued test-amd64-i386-freebsd10-amd64 queued test-amd64-amd64-qemuu-nested-amd queued test-amd64-amd64-pair queued test-amd64-amd64-amd64-pvgrub queued test-amd64-amd64-pygrub queued test-amd64-i386-pair queued test-amd64-amd64-libvirt-pair queued test-amd64-amd64-libvirt-qemuu-debianhvm-amd64-xsm queued test-amd64-amd64-libvirt-vhd queued test-amd64-i386-xl-raw queued test-amd64-amd64-xl-qemuu-debianhvm-amd64 queued test-amd64-i386-xl-qemuu-winxpsp3 queued test-amd64-i386-xl-qemuu-win7-amd64 queued test-amd64-amd64-xl-qemuu-win7-amd64 queued test-amd64-i386-libvirt-pair queued test-amd64-i386-xl-qemuu-debianhvm-amd64-xsm queued test-amd64-amd64-xl-qcow2 queued test-amd64-i386-xl-qemuu-debianhvm-amd64 queued test-amd64-amd64-xl-qemuu-debianhvm-amd64-xsm queued test-amd64-i386-xl-qemuu-winxpsp3-vcpus1 queued test-amd64-amd64-xl-qemuu-winxpsp3 queued build-armhf 2 hosts-allocate running build-armhf-xsm 2 hosts-allocate running build-armhf-pvops 2 hosts-allocate running build-amd64 2 hosts-allocate running build-amd64-pvops 2 hosts-allocate running build-i386 2 hosts-allocate running build-amd64-xsm 2 hosts-allocate running build-i386-pvops 2 hosts-allocate running build-i386-xsm 2 hosts-allocate running version targeted for testing: qemuu 91d35509903464c7f4b9ed56be223d7370d3597c baseline version: qemuu d6550e9ed2e1a60d889dfb721de00d9a4e3bafbe Last test of basis 66485 2016-07-01 10:47:40 Z 7 days Testing same since 0 1970-01-01 00:00:00 Z 16990 days 0 attempts ------------------------------------------------------------ People who touched revisions under test: Aaron Larson Alberto Garcia Aleksandar Markovic Alex Bennée Alex Bligh Alex Williamson Alexander Graf Alexander Shopov Alexey Kardashevskiy Alistair Francis Amit Shah Andrea Arcangeli Andreas Färber Andrew Jeffery Andrew Jones Andrey Smirnov Aneesh Kumar K.V Anthony PERARD Anton Blanchard Ard Biesheuvel Artyom Tarasenko Ashijeet Acharya Aurelien Jarno Bastian Koppelmann Benjamin Herrenschmidt Bharata B Rao Bret Ketchum Cao jin Changlong Xie Chao Peng Chen Fan Christian Borntraeger Christophe Lyon Cole Robinson Colin Lord Corey Minyard Cornelia Huck Cédric Le Goater Cédric Le Goater Daniel P. Berrange David Gibson David Hildenbrand David Vrabel Denis V. Lunev Dmitry Fleytman Dmitry Fleytman > Dmitry Fleytman Dmitry Osipenko Dr. David Alan Gilbert Drew Jones Edgar E. Iglesias Eduardo Habkost Efimov Vasily Emilio G. Cota Eric Blake Fam Zheng Gavin Shan Gerd Hoffmann Greg Kurz Greg Kurz Gu Zheng Guillaume Delbergue Halil Pasic Hannes Reinecke Hyun Kwon Ido Yariv Igor Mammedov Jakub Horak James Clarke Jan Beulich Jan Vesely Jason Wang Jean-Christophe Dubois Jeff Cody Jens Wiklander Jerome Forissier John Snow Juergen Gross KarimAllah Ahmed Kashyap Chamarthy Kevin Wolf KONRAD Frederic Laszlo Ersek Laurent Vivier Laurent Vivier Leon Alrae Leonid Bloch Li Zhijian Liang Li Lin Ma Lluís Vilanova Maciej W. Rozycki Marc-André Lureau Marc-André Lureau Marcel Apfelbaum Marcin Krzeminski Mark Cave-Ayland Markus Armbruster Max Filippov Max Reitz Michael Fritscher Michael Neuling Michael Roth Michael S. Tsirkin Michael Strosaker Michael Tokarev Michael Walle Mike Frysinger Niels de Vos Nikunj A Dadhania Olaf Hering Paolo Bonzini Paul Durrant Pavel Butsykin Pavel Dovgalyuk Pavel Fedin Peter Crosthwaite Peter Crosthwaite Peter Crosthwaite Peter Krempa Peter Lieven Peter Maloney Peter Maydell Peter Maydell Peter Wu Peter Xu Pranith Kumar Prasad J Pandit Radim Krčmář Richard Henderson Richard W.M. Jones Riku Voipio Robert Ho Robin Geuze Sameeh Jubran Samuel Thibault Sergey Fedorov Sergey Fedorov Sergey Sorokin Shannon Zhao Shlomo Pongratz Stefan Hajnoczi Stefan Weil Stefano Stabellini Steven Luo Talha Imran Tetsuya Mukawa Thomas Huth Thomas Schwinge Timothy E Baldwin Timothy Edward Baldwin Vikhyat Umrao Vladimir Sementsov-Ogievskiy Wei Jiangang Wen Congyang Xiao Guangrong xiaoqiang zhao Yang Hongyang Yuanhan Liu Zhang Chen Zhou Jie Zhu Guihua jobs: build-amd64-xsm preparing build-armhf-xsm preparing build-i386-xsm preparing build-amd64 broken build-armhf preparing build-i386 preparing build-amd64-libvirt queued build-armhf-libvirt queued build-i386-libvirt queued build-amd64-pvops broken build-armhf-pvops preparing build-i386-pvops preparing test-amd64-amd64-xl queued test-armhf-armhf-xl queued test-amd64-i386-xl queued test-amd64-amd64-libvirt-qemuu-debianhvm-amd64-xsm queued test-amd64-i386-libvirt-qemuu-debianhvm-amd64-xsm queued test-amd64-amd64-xl-qemuu-debianhvm-amd64-xsm queued test-amd64-i386-xl-qemuu-debianhvm-amd64-xsm queued test-amd64-amd64-libvirt-xsm queued test-armhf-armhf-libvirt-xsm queued test-amd64-i386-libvirt-xsm queued test-amd64-amd64-xl-xsm queued test-armhf-armhf-xl-xsm queued test-amd64-i386-xl-xsm queued test-amd64-amd64-qemuu-nested-amd queued test-amd64-amd64-xl-pvh-amd queued test-amd64-i386-qemuu-rhel6hvm-amd queued test-amd64-amd64-xl-qemuu-debianhvm-amd64 queued test-amd64-i386-xl-qemuu-debianhvm-amd64 queued test-amd64-i386-freebsd10-amd64 queued test-amd64-amd64-xl-qemuu-ovmf-amd64 queued test-amd64-i386-xl-qemuu-ovmf-amd64 queued test-amd64-amd64-xl-qemuu-win7-amd64 queued test-amd64-i386-xl-qemuu-win7-amd64 queued test-amd64-amd64-xl-credit2 queued test-armhf-armhf-xl-credit2 queued test-amd64-i386-freebsd10-i386 queued test-amd64-amd64-qemuu-nested-intel queued test-amd64-amd64-xl-pvh-intel queued test-amd64-i386-qemuu-rhel6hvm-intel queued test-amd64-amd64-libvirt queued test-armhf-armhf-libvirt queued test-amd64-i386-libvirt queued test-armhf-armhf-xl-midway queued test-amd64-amd64-xl-multivcpu queued test-armhf-armhf-xl-multivcpu queued test-amd64-amd64-pair queued test-amd64-i386-pair queued test-amd64-amd64-libvirt-pair queued test-amd64-i386-libvirt-pair queued test-amd64-amd64-amd64-pvgrub queued test-amd64-amd64-i386-pvgrub queued test-amd64-amd64-pygrub queued test-armhf-armhf-libvirt-qcow2 queued test-amd64-amd64-xl-qcow2 queued test-armhf-armhf-libvirt-raw queued test-amd64-i386-xl-raw queued test-amd64-amd64-xl-rtds queued test-armhf-armhf-xl-rtds queued test-amd64-i386-xl-qemuu-winxpsp3-vcpus1 queued test-amd64-amd64-libvirt-vhd queued test-armhf-armhf-xl-vhd queued test-amd64-amd64-xl-qemuu-winxpsp3 queued test-amd64-i386-xl-qemuu-winxpsp3 queued ------------------------------------------------------------ sg-report-flight on osstest.xs.citrite.net logs: /home/osstest/logs images: /home/osstest/images Logs, config files, etc. are available at http://osstest.xs.citrite.net/~osstest/testlogs/logs Test harness code can be found at http://xenbits.xensource.com/gitweb?p=osstest.git;a=summary broken-job test-armhf-armhf-libvirt-xsm queued broken-job test-armhf-armhf-xl-xsm queued broken-job build-armhf-libvirt queued broken-job test-armhf-armhf-xl-rtds queued broken-job test-armhf-armhf-xl-multivcpu queued broken-job test-armhf-armhf-xl-vhd queued broken-job test-armhf-armhf-xl-midway queued broken-job test-armhf-armhf-libvirt queued broken-job test-armhf-armhf-libvirt-qcow2 queued broken-job test-armhf-armhf-xl-credit2 queued broken-job test-armhf-armhf-xl queued broken-job test-armhf-armhf-libvirt-raw queued broken-job build-amd64-libvirt queued broken-job build-i386-libvirt queued broken-job test-amd64-amd64-xl-pvh-intel queued broken-job test-amd64-amd64-xl-pvh-amd queued broken-job test-amd64-amd64-xl queued broken-job test-amd64-i386-qemuu-rhel6hvm-intel queued broken-job test-amd64-i386-xl queued broken-job test-amd64-amd64-xl-multivcpu queued broken-job test-amd64-amd64-xl-credit2 queued broken-job test-amd64-i386-xl-xsm queued broken-job test-amd64-amd64-xl-rtds queued broken-job test-amd64-amd64-libvirt queued broken-job test-amd64-amd64-libvirt-xsm queued broken-job test-amd64-i386-libvirt queued broken-job test-amd64-amd64-xl-xsm queued broken-job test-amd64-i386-qemuu-rhel6hvm-amd queued broken-job test-amd64-i386-libvirt-xsm queued broken-job test-amd64-i386-xl-qemuu-ovmf-amd64 queued broken-job test-amd64-amd64-xl-qemuu-ovmf-amd64 queued broken-job test-amd64-i386-libvirt-qemuu-debianhvm-amd64-xsm queued broken-job test-amd64-amd64-qemuu-nested-intel queued broken-job test-amd64-i386-freebsd10-i386 queued broken-job test-amd64-amd64-i386-pvgrub queued broken-job test-amd64-i386-freebsd10-amd64 queued broken-job test-amd64-amd64-qemuu-nested-amd queued broken-job test-amd64-amd64-pair queued broken-job test-amd64-amd64-amd64-pvgrub queued broken-job test-amd64-amd64-pygrub queued broken-job test-amd64-i386-pair queued broken-job test-amd64-amd64-libvirt-pair queued broken-job test-amd64-amd64-libvirt-qemuu-debianhvm-amd64-xsm queued broken-job test-amd64-amd64-libvirt-vhd queued broken-job test-amd64-i386-xl-raw queued broken-job test-amd64-amd64-xl-qemuu-debianhvm-amd64 queued broken-job test-amd64-i386-xl-qemuu-winxpsp3 queued broken-job test-amd64-i386-xl-qemuu-win7-amd64 queued broken-job test-amd64-amd64-xl-qemuu-win7-amd64 queued broken-job test-amd64-i386-libvirt-pair queued broken-job test-amd64-i386-xl-qemuu-debianhvm-amd64-xsm queued broken-job test-amd64-amd64-xl-qcow2 queued broken-job test-amd64-i386-xl-qemuu-debianhvm-amd64 queued broken-job test-amd64-amd64-xl-qemuu-debianhvm-amd64-xsm queued broken-job test-amd64-i386-xl-qemuu-winxpsp3-vcpus1 queued broken-job test-amd64-amd64-xl-qemuu-winxpsp3 queued Push not applicable. (No revision log; it would be 22211 lines long.) --===============6772258669133664238== Content-Type: text/plain; charset="utf-8" MIME-Version: 1.0 Content-Transfer-Encoding: base64 Content-Disposition: inline X19fX19fX19fX19fX19fX19fX19fX19fX19fX19fX19fX19fX19fX19fX19fX18KWGVuLWRldmVs IG1haWxpbmcgbGlzdApYZW4tZGV2ZWxAbGlzdHMueGVuLm9yZwpodHRwczovL2xpc3RzLnhlbi5v cmcveGVuLWRldmVsCg== --===============6772258669133664238==--