* [seabios baseline-only test] 66543: trouble: broken/preparing/queued
@ 2016-07-08 11:06 Platform Team regression test user
0 siblings, 0 replies; only message in thread
From: Platform Team regression test user @ 2016-07-08 11:06 UTC (permalink / raw)
To: xen-devel, osstest-admin
This run is configured for baseline tests only.
flight 66543 seabios running [real]
http://osstest.xs.citrite.net/~osstest/testlogs/logs/66543/
Failures and problems with tests :-(
Tests which did not succeed and are blocking,
including tests which could not be run:
build-i386-libvirt <none executed> queued
build-amd64-libvirt <none executed> queued
test-amd64-i386-qemuu-rhel6hvm-amd <none executed> queued
test-amd64-amd64-qemuu-nested-amd <none executed> queued
test-amd64-amd64-xl-qemuu-debianhvm-amd64-xsm <none executed> queued
test-amd64-i386-xl-qemuu-debianhvm-amd64 <none executed> queued
test-amd64-i386-xl-qemuu-debianhvm-amd64-xsm <none executed> queued
test-amd64-amd64-xl-qemuu-win7-amd64 <none executed> queued
test-amd64-i386-libvirt-qemuu-debianhvm-amd64-xsm <none executed> queued
test-amd64-i386-qemuu-rhel6hvm-intel <none executed> queued
test-amd64-amd64-libvirt-qemuu-debianhvm-amd64-xsm <none executed> queued
test-amd64-i386-xl-qemuu-win7-amd64 <none executed> queued
test-amd64-amd64-xl-qemuu-debianhvm-amd64 <none executed> queued
test-amd64-i386-xl-qemuu-ovmf-amd64 <none executed> queued
test-amd64-amd64-qemuu-nested-intel <none executed> queued
test-amd64-amd64-xl-qemuu-ovmf-amd64 <none executed> queued
test-amd64-i386-xl-qemuu-winxpsp3-vcpus1 <none executed> queued
test-amd64-i386-xl-qemuu-winxpsp3 <none executed> queued
test-amd64-amd64-xl-qemuu-winxpsp3 <none executed> queued
build-amd64 2 hosts-allocate running
build-i386-pvops 2 hosts-allocate running
build-amd64-xsm 2 hosts-allocate running
build-i386-xsm 2 hosts-allocate running
build-i386 2 hosts-allocate running
build-amd64-pvops 2 hosts-allocate running
version targeted for testing:
seabios 13213a252286372efa5f72b4119faafd5dff5db1
baseline version:
seabios 20f83d5c7c0f9ae5f775b6701c205349abe003fb
Last test of basis 66515 2016-07-03 16:19:58 Z 4 days
Testing same since 0 1970-01-01 00:00:00 Z 16990 days 0 attempts
------------------------------------------------------------
People who touched revisions under test:
Kevin O'Connor <kevin@koconnor.net>
jobs:
build-amd64-xsm preparing
build-i386-xsm preparing
build-amd64 broken
build-i386 preparing
build-amd64-libvirt queued
build-i386-libvirt queued
build-amd64-pvops preparing
build-i386-pvops preparing
test-amd64-amd64-libvirt-qemuu-debianhvm-amd64-xsm queued
test-amd64-i386-libvirt-qemuu-debianhvm-amd64-xsm queued
test-amd64-amd64-xl-qemuu-debianhvm-amd64-xsm queued
test-amd64-i386-xl-qemuu-debianhvm-amd64-xsm queued
test-amd64-amd64-qemuu-nested-amd queued
test-amd64-i386-qemuu-rhel6hvm-amd queued
test-amd64-amd64-xl-qemuu-debianhvm-amd64 queued
test-amd64-i386-xl-qemuu-debianhvm-amd64 queued
test-amd64-amd64-xl-qemuu-ovmf-amd64 queued
test-amd64-i386-xl-qemuu-ovmf-amd64 queued
test-amd64-amd64-xl-qemuu-win7-amd64 queued
test-amd64-i386-xl-qemuu-win7-amd64 queued
test-amd64-amd64-qemuu-nested-intel queued
test-amd64-i386-qemuu-rhel6hvm-intel queued
test-amd64-i386-xl-qemuu-winxpsp3-vcpus1 queued
test-amd64-amd64-xl-qemuu-winxpsp3 queued
test-amd64-i386-xl-qemuu-winxpsp3 queued
------------------------------------------------------------
sg-report-flight on osstest.xs.citrite.net
logs: /home/osstest/logs
images: /home/osstest/images
Logs, config files, etc. are available at
http://osstest.xs.citrite.net/~osstest/testlogs/logs
Test harness code can be found at
http://xenbits.xensource.com/gitweb?p=osstest.git;a=summary
broken-job build-i386-libvirt queued
broken-job build-amd64-libvirt queued
broken-job test-amd64-i386-qemuu-rhel6hvm-amd queued
broken-job test-amd64-amd64-qemuu-nested-amd queued
broken-job test-amd64-amd64-xl-qemuu-debianhvm-amd64-xsm queued
broken-job test-amd64-i386-xl-qemuu-debianhvm-amd64 queued
broken-job test-amd64-i386-xl-qemuu-debianhvm-amd64-xsm queued
broken-job test-amd64-amd64-xl-qemuu-win7-amd64 queued
broken-job test-amd64-i386-libvirt-qemuu-debianhvm-amd64-xsm queued
broken-job test-amd64-i386-qemuu-rhel6hvm-intel queued
broken-job test-amd64-amd64-libvirt-qemuu-debianhvm-amd64-xsm queued
broken-job test-amd64-i386-xl-qemuu-win7-amd64 queued
broken-job test-amd64-amd64-xl-qemuu-debianhvm-amd64 queued
broken-job test-amd64-i386-xl-qemuu-ovmf-amd64 queued
broken-job test-amd64-amd64-qemuu-nested-intel queued
broken-job test-amd64-amd64-xl-qemuu-ovmf-amd64 queued
broken-job test-amd64-i386-xl-qemuu-winxpsp3-vcpus1 queued
broken-job test-amd64-i386-xl-qemuu-winxpsp3 queued
broken-job test-amd64-amd64-xl-qemuu-winxpsp3 queued
Push not applicable.
------------------------------------------------------------
commit 13213a252286372efa5f72b4119faafd5dff5db1
Author: Kevin O'Connor <kevin@koconnor.net>
Date: Mon Jul 4 12:31:50 2016 -0400
vgabios: Simplify set_cursor_pos()
Rework set_cursor_pos() to be slightly simpler.
Signed-off-by: Kevin O'Connor <kevin@koconnor.net>
commit b303687deb4b56a9c187d74ec1869326683da464
Author: Kevin O'Connor <kevin@koconnor.net>
Date: Mon Jul 4 12:27:38 2016 -0400
vgabios: Don't check for special case of page==0xff on external calls
The original "lgpl vgabios" internally used page=0xff as a mechanism
for specifying the current page. It also would allow int1013 calls to
externally specify bh==0xff for the current page. However, there is
no documentation supporting this as an externally available feature.
SeaVGABIOS does not need the internal shortcut; this patch removes the
code.
Signed-off-by: Kevin O'Connor <kevin@koconnor.net>
commit e5839eaffcf6ebba9d81f46a385280f7829f15d5
Author: Kevin O'Connor <kevin@koconnor.net>
Date: Mon Jul 4 12:20:48 2016 -0400
vgabios: Remove special case of dh==0xff in handle_1013()
The original "lgpl vgabios" had a special case for dh==0xff in its
int1013 (write string) code. There does not appear to be any VGABIOS
documentation supporting this as an externally available feature. It
appears this was for its own internal use when writing its strings to
the screen. SeaVGABIOS doesn't use this hack; this patch removes it
from the code.
Signed-off-by: Kevin O'Connor <kevin@koconnor.net>
_______________________________________________
Xen-devel mailing list
Xen-devel@lists.xen.org
https://lists.xen.org/xen-devel
^ permalink raw reply [flat|nested] only message in thread
only message in thread, other threads:[~2016-07-08 11:06 UTC | newest]
Thread overview: (only message) (download: mbox.gz follow: Atom feed
-- links below jump to the message on this page --
2016-07-08 11:06 [seabios baseline-only test] 66543: trouble: broken/preparing/queued Platform Team regression test user
This is a public inbox, see mirroring instructions
for how to clone and mirror all data and code used for this inbox;
as well as URLs for NNTP newsgroup(s).