From: Platform Team regression test user <citrix-osstest@xenproject.org>
To: xen-devel@lists.xensource.com, osstest-admin@xenproject.org
Subject: [ovmf baseline-only test] 66810: all pass
Date: Tue, 26 Jul 2016 09:37:55 +0100 [thread overview]
Message-ID: <osstest-66810-mainreport@xen.org> (raw)
This run is configured for baseline tests only.
flight 66810 ovmf real [real]
http://osstest.xs.citrite.net/~osstest/testlogs/logs/66810/
Perfect :-)
All tests in this flight passed as required
version targeted for testing:
ovmf daea123d247aebb01f6c54e10ed1e0b10dfae957
baseline version:
ovmf 227a1ac2d04504eee4c624f534ea3fcbb8140029
Last test of basis 66808 2016-07-25 20:50:37 Z 0 days
Testing same since 66810 2016-07-26 05:20:00 Z 0 days 1 attempts
------------------------------------------------------------
People who touched revisions under test:
Giri P Mudusuru <giri.p.mudusuru@intel.com>
jobs:
build-amd64-xsm pass
build-i386-xsm pass
build-amd64 pass
build-i386 pass
build-amd64-libvirt pass
build-i386-libvirt pass
build-amd64-pvops pass
build-i386-pvops pass
test-amd64-amd64-xl-qemuu-ovmf-amd64 pass
test-amd64-i386-xl-qemuu-ovmf-amd64 pass
------------------------------------------------------------
sg-report-flight on osstest.xs.citrite.net
logs: /home/osstest/logs
images: /home/osstest/images
Logs, config files, etc. are available at
http://osstest.xs.citrite.net/~osstest/testlogs/logs
Test harness code can be found at
http://xenbits.xensource.com/gitweb?p=osstest.git;a=summary
Push not applicable.
------------------------------------------------------------
commit daea123d247aebb01f6c54e10ed1e0b10dfae957
Author: Giri P Mudusuru <giri.p.mudusuru@intel.com>
Date: Thu Jul 7 23:20:57 2016 -0700
EmulatorPkg: Fix typos in comments
EFI_UNSUPPORTEDT to EFI_UNSUPPORTED
Cc: Andrew Fish <afish@apple.com>
Cc: Jordan Justen <jordan.l.justen@intel.com>
Contributed-under: TianoCore Contribution Agreement 1.0
Signed-off-by: Giri P Mudusuru <giri.p.mudusuru@intel.com>
Reviewed-by: Andrew Fish <afish@apple.com>
Reviewed-by: Michael Kinney <michael.d.kinney@intel.com>
_______________________________________________
Xen-devel mailing list
Xen-devel@lists.xen.org
https://lists.xen.org/xen-devel
reply other threads:[~2016-07-26 8:37 UTC|newest]
Thread overview: [no followups] expand[flat|nested] mbox.gz Atom feed
Reply instructions:
You may reply publicly to this message via plain-text email
using any one of the following methods:
* Save the following mbox file, import it into your mail client,
and reply-to-all from there: mbox
Avoid top-posting and favor interleaved quoting:
https://en.wikipedia.org/wiki/Posting_style#Interleaved_style
* Reply using the --to, --cc, and --in-reply-to
switches of git-send-email(1):
git send-email \
--in-reply-to=osstest-66810-mainreport@xen.org \
--to=citrix-osstest@xenproject.org \
--cc=osstest-admin@xenproject.org \
--cc=xen-devel@lists.xensource.com \
/path/to/YOUR_REPLY
https://kernel.org/pub/software/scm/git/docs/git-send-email.html
* If your mail client supports setting the In-Reply-To header
via mailto: links, try the mailto: link
Be sure your reply has a Subject: header at the top and a blank line
before the message body.
This is a public inbox, see mirroring instructions
for how to clone and mirror all data and code used for this inbox;
as well as URLs for NNTP newsgroup(s).