xen-devel.lists.xenproject.org archive mirror
 help / color / mirror / Atom feed
* [ovmf baseline-only test] 66880: trouble: blocked/broken/pass
@ 2016-08-01 18:48 Platform Team regression test user
  0 siblings, 0 replies; only message in thread
From: Platform Team regression test user @ 2016-08-01 18:48 UTC (permalink / raw)
  To: xen-devel, osstest-admin

This run is configured for baseline tests only.

flight 66880 ovmf real [real]
http://osstest.xs.citrite.net/~osstest/testlogs/logs/66880/

Failures and problems with tests :-(

Tests which did not succeed and are blocking,
including tests which could not be run:
 build-i386-xsm                3 host-install(3)         broken REGR. vs. 66879
 build-i386-pvops              3 host-install(3)         broken REGR. vs. 66879
 build-i386                    3 host-install(3)         broken REGR. vs. 66879

Tests which did not succeed, but are not blocking:
 build-i386-libvirt            1 build-check(1)               blocked  n/a
 test-amd64-i386-xl-qemuu-ovmf-amd64  1 build-check(1)              blocked n/a

version targeted for testing:
 ovmf                 07783fdd67e40fa7cff3ebf34399c1ab65937802
baseline version:
 ovmf                 3d8fab5719a52d67cd4666bd08f63a21fe97c480

Last test of basis    66879  2016-08-01 11:47:49 Z    0 days
Testing same since    66880  2016-08-01 16:19:07 Z    0 days    1 attempts

------------------------------------------------------------
People who touched revisions under test:
  Ard Biesheuvel <ard.biesheuvel@linaro.org>
  John Powell <john.powell@arm.com>
  Supreeth Venkatesh <supreeth.venkatesh@arm.com>

jobs:
 build-amd64-xsm                                              pass    
 build-i386-xsm                                               broken  
 build-amd64                                                  pass    
 build-i386                                                   broken  
 build-amd64-libvirt                                          pass    
 build-i386-libvirt                                           blocked 
 build-amd64-pvops                                            pass    
 build-i386-pvops                                             broken  
 test-amd64-amd64-xl-qemuu-ovmf-amd64                         pass    
 test-amd64-i386-xl-qemuu-ovmf-amd64                          blocked 


------------------------------------------------------------
sg-report-flight on osstest.xs.citrite.net
logs: /home/osstest/logs
images: /home/osstest/images

Logs, config files, etc. are available at
    http://osstest.xs.citrite.net/~osstest/testlogs/logs

Test harness code can be found at
    http://xenbits.xensource.com/gitweb?p=osstest.git;a=summary

broken-step build-i386-xsm host-install(3)
broken-step build-i386-pvops host-install(3)
broken-step build-i386 host-install(3)

Push not applicable.

------------------------------------------------------------
commit 07783fdd67e40fa7cff3ebf34399c1ab65937802
Author: Supreeth Venkatesh <supreeth.venkatesh@arm.com>
Date:   Fri Jul 29 18:06:32 2016 -0500

    ArmPkg/Library: Add ArmReadSctlr for AArch64
    
    ArmLib defines a prototype for the ArmReadSctlr() function, but the
    AArch64 implementation is missing. So add it.
    
    Contributed-under: TianoCore Contribution Agreement 1.0
    Signed-off-by: John Powell <john.powell@arm.com>
    Signed-off-by: Supreeth Venkatesh <supreeth.venkatesh@arm.com>
    [ardb: update commit log]
    Signed-off-by: Ard Biesheuvel <ard.biesheuvel@linaro.org>

_______________________________________________
Xen-devel mailing list
Xen-devel@lists.xen.org
https://lists.xen.org/xen-devel

^ permalink raw reply	[flat|nested] only message in thread

only message in thread, other threads:[~2016-08-01 18:48 UTC | newest]

Thread overview: (only message) (download: mbox.gz follow: Atom feed
-- links below jump to the message on this page --
2016-08-01 18:48 [ovmf baseline-only test] 66880: trouble: blocked/broken/pass Platform Team regression test user

This is a public inbox, see mirroring instructions
for how to clone and mirror all data and code used for this inbox;
as well as URLs for NNTP newsgroup(s).