xen-devel.lists.xenproject.org archive mirror
 help / color / mirror / Atom feed
* [ovmf baseline-only test] 67561: all pass
@ 2016-08-19 18:47 Platform Team regression test user
  0 siblings, 0 replies; only message in thread
From: Platform Team regression test user @ 2016-08-19 18:47 UTC (permalink / raw)
  To: xen-devel, osstest-admin

This run is configured for baseline tests only.

flight 67561 ovmf real [real]
http://osstest.xs.citrite.net/~osstest/testlogs/logs/67561/

Perfect :-)
All tests in this flight passed as required
version targeted for testing:
 ovmf                 00bcb5c27a5bb781099482c5763937334be91e76
baseline version:
 ovmf                 7822a1d91d53e80525f571183a24d54488f5437f

Last test of basis    67557  2016-08-18 17:21:52 Z    1 days
Testing same since    67561  2016-08-19 05:19:21 Z    0 days    1 attempts

------------------------------------------------------------
People who touched revisions under test:
  Yonghong Zhu <yonghong.zhu@intel.com>

jobs:
 build-amd64-xsm                                              pass    
 build-i386-xsm                                               pass    
 build-amd64                                                  pass    
 build-i386                                                   pass    
 build-amd64-libvirt                                          pass    
 build-i386-libvirt                                           pass    
 build-amd64-pvops                                            pass    
 build-i386-pvops                                             pass    
 test-amd64-amd64-xl-qemuu-ovmf-amd64                         pass    
 test-amd64-i386-xl-qemuu-ovmf-amd64                          pass    


------------------------------------------------------------
sg-report-flight on osstest.xs.citrite.net
logs: /home/osstest/logs
images: /home/osstest/images

Logs, config files, etc. are available at
    http://osstest.xs.citrite.net/~osstest/testlogs/logs

Test harness code can be found at
    http://xenbits.xensource.com/gitweb?p=osstest.git;a=summary


Push not applicable.

------------------------------------------------------------
commit 00bcb5c27a5bb781099482c5763937334be91e76
Author: Yonghong Zhu <yonghong.zhu@intel.com>
Date:   Thu Aug 18 10:07:36 2016 +0800

    BaseTools: check CONF_PATH env to get the configure files
    
    Add CONF_PATH env check. First priority is user set the conf dir by
    --conf option, then the CONF_PATH env, the last one is the standard
    WORKSPACE(PACKAGE_PATH)/Conf.
    Also print the conf path directory in the build log.
    
    Cc: Liming Gao <liming.gao@intel.com>
    Contributed-under: TianoCore Contribution Agreement 1.0
    Signed-off-by: Yonghong Zhu <yonghong.zhu@intel.com>
    Reviewed-by: Liming Gao <liming.gao@intel.com>

_______________________________________________
Xen-devel mailing list
Xen-devel@lists.xen.org
https://lists.xen.org/xen-devel

^ permalink raw reply	[flat|nested] only message in thread

only message in thread, other threads:[~2016-08-19 18:47 UTC | newest]

Thread overview: (only message) (download: mbox.gz follow: Atom feed
-- links below jump to the message on this page --
2016-08-19 18:47 [ovmf baseline-only test] 67561: all pass Platform Team regression test user

This is a public inbox, see mirroring instructions
for how to clone and mirror all data and code used for this inbox;
as well as URLs for NNTP newsgroup(s).