xen-devel.lists.xenproject.org archive mirror
 help / color / mirror / Atom feed
From: Platform Team regression test user <citrix-osstest@xenproject.org>
To: xen-devel@lists.xensource.com, osstest-admin@xenproject.org
Subject: [ovmf baseline-only test] 67589: all pass
Date: Wed, 24 Aug 2016 12:25:27 +0100	[thread overview]
Message-ID: <osstest-67589-mainreport@xen.org> (raw)

This run is configured for baseline tests only.

flight 67589 ovmf real [real]
http://osstest.xs.citrite.net/~osstest/testlogs/logs/67589/

Perfect :-)
All tests in this flight passed as required
version targeted for testing:
 ovmf                 d82d59edb0ec23e6ef708e04a5553ac32f1eb12e
baseline version:
 ovmf                 4962fcfa7d265824f01f74d782d5ed841ec8a72f

Last test of basis    67587  2016-08-24 01:20:54 Z    0 days
Testing same since    67589  2016-08-24 08:48:36 Z    0 days    1 attempts

------------------------------------------------------------
People who touched revisions under test:
  Zhang Lubo <lubo.zhang@intel.com>

jobs:
 build-amd64-xsm                                              pass    
 build-i386-xsm                                               pass    
 build-amd64                                                  pass    
 build-i386                                                   pass    
 build-amd64-libvirt                                          pass    
 build-i386-libvirt                                           pass    
 build-amd64-pvops                                            pass    
 build-i386-pvops                                             pass    
 test-amd64-amd64-xl-qemuu-ovmf-amd64                         pass    
 test-amd64-i386-xl-qemuu-ovmf-amd64                          pass    


------------------------------------------------------------
sg-report-flight on osstest.xs.citrite.net
logs: /home/osstest/logs
images: /home/osstest/images

Logs, config files, etc. are available at
    http://osstest.xs.citrite.net/~osstest/testlogs/logs

Test harness code can be found at
    http://xenbits.xensource.com/gitweb?p=osstest.git;a=summary


Push not applicable.

------------------------------------------------------------
commit d82d59edb0ec23e6ef708e04a5553ac32f1eb12e
Author: Zhang Lubo <lubo.zhang@intel.com>
Date:   Fri Aug 19 15:38:20 2016 +0800

    MdeModulePkg:Fix bug in function AsciiStrToIp4.
    
    If a FQDN contains 3 dots '.' like "a.b.c.com", the AsciiStrToIp4
    will return success as the HostName has a valid IP address. So we
    need to check if it is a decimal character before using AsciiStrDecimalToUintn.
    
    Contributed-under: TianoCore Contribution Agreement 1.0
    Signed-off-by: Zhang Lubo <lubo.zhang@intel.com>
    Reviewed-by: Fu Siyuan <siyuan.fu@intel.com>
    Reviewed-by: Ye Ting <ting.ye@intel.com>
    Reviewed-by: Sriram Subramanian <sriram-s@hpe.com>

_______________________________________________
Xen-devel mailing list
Xen-devel@lists.xen.org
https://lists.xen.org/xen-devel

                 reply	other threads:[~2016-08-24 11:25 UTC|newest]

Thread overview: [no followups] expand[flat|nested]  mbox.gz  Atom feed

Reply instructions:

You may reply publicly to this message via plain-text email
using any one of the following methods:

* Save the following mbox file, import it into your mail client,
  and reply-to-all from there: mbox

  Avoid top-posting and favor interleaved quoting:
  https://en.wikipedia.org/wiki/Posting_style#Interleaved_style

* Reply using the --to, --cc, and --in-reply-to
  switches of git-send-email(1):

  git send-email \
    --in-reply-to=osstest-67589-mainreport@xen.org \
    --to=citrix-osstest@xenproject.org \
    --cc=osstest-admin@xenproject.org \
    --cc=xen-devel@lists.xensource.com \
    /path/to/YOUR_REPLY

  https://kernel.org/pub/software/scm/git/docs/git-send-email.html

* If your mail client supports setting the In-Reply-To header
  via mailto: links, try the mailto: link
Be sure your reply has a Subject: header at the top and a blank line before the message body.
This is a public inbox, see mirroring instructions
for how to clone and mirror all data and code used for this inbox;
as well as URLs for NNTP newsgroup(s).