* [ovmf baseline-only test] 67594: all pass
@ 2016-08-25 16:01 Platform Team regression test user
0 siblings, 0 replies; only message in thread
From: Platform Team regression test user @ 2016-08-25 16:01 UTC (permalink / raw)
To: xen-devel, osstest-admin
[-- Attachment #1: Type: text/plain, Size: 4952 bytes --]
This run is configured for baseline tests only.
flight 67594 ovmf real [real]
http://osstest.xs.citrite.net/~osstest/testlogs/logs/67594/
Perfect :-)
All tests in this flight passed as required
version targeted for testing:
ovmf 1219c85df42d5c9ed187565328e2f5cead5682ed
baseline version:
ovmf d82d59edb0ec23e6ef708e04a5553ac32f1eb12e
Last test of basis 67589 2016-08-24 08:48:36 Z 1 days
Testing same since 67594 2016-08-25 07:50:04 Z 0 days 1 attempts
------------------------------------------------------------
People who touched revisions under test:
Ruiyu Ni <ruiyu.ni@intel.com>
jobs:
build-amd64-xsm pass
build-i386-xsm pass
build-amd64 pass
build-i386 pass
build-amd64-libvirt pass
build-i386-libvirt pass
build-amd64-pvops pass
build-i386-pvops pass
test-amd64-amd64-xl-qemuu-ovmf-amd64 pass
test-amd64-i386-xl-qemuu-ovmf-amd64 pass
------------------------------------------------------------
sg-report-flight on osstest.xs.citrite.net
logs: /home/osstest/logs
images: /home/osstest/images
Logs, config files, etc. are available at
http://osstest.xs.citrite.net/~osstest/testlogs/logs
Test harness code can be found at
http://xenbits.xensource.com/gitweb?p=osstest.git;a=summary
Push not applicable.
------------------------------------------------------------
commit 1219c85df42d5c9ed187565328e2f5cead5682ed
Author: Ruiyu Ni <ruiyu.ni@intel.com>
Date: Tue Aug 23 10:40:55 2016 +0800
Revert "ShellPkg: Move FindFirstCharacter/GetNextParameter to ShellCommandLib"
This reverts commit c0bcd3433f33876c519bf5567e0ab69261b57fe9.
The above commit causes several regression of "echo" command:
1. Double quotes are not being stripped from the final text. UEFI Shell 2.2 section 3.4.5 chops out the quotes.
2. Output redirection is not working as expected. Text is being redirected, but the â> â¦â text should not be.
3. Inconsistent special character handling. For example, comments with # seem to be parsed out correctly, but handing of ^ is incorrect.
In summary, âecho âYou are ^#1â > t.txtâ results in the below content in t.txt:
âYou are ^#1â > t.txt
Contributed-under: TianoCore Contribution Agreement 1.0
Signed-off-by: Ruiyu Ni <ruiyu.ni@intel.com>
Cc: Jaben Carsey <jaben.carsey@intel.com>
Reviewed-by: Tapan Shah <tapandshah@hpe.com>
commit a747bc1eecaff7c34afbc7a4acd81a8330e42d0a
Author: Ruiyu Ni <ruiyu.ni@intel.com>
Date: Tue Aug 23 10:40:42 2016 +0800
Revert "ShellPkg: Add Shell[Get|Set]RawCmdLine to ShellCommandLib"
This reverts commit 0fcf8d4df85d861b6e721bd1d8abb449f05e15ed.
The above commit causes several regression of "echo" command:
1. Double quotes are not being stripped from the final text. UEFI Shell 2.2 section 3.4.5 chops out the quotes.
2. Output redirection is not working as expected. Text is being redirected, but the â> â¦â text should not be.
3. Inconsistent special character handling. For example, comments with # seem to be parsed out correctly, but handing of ^ is incorrect.
In summary, âecho âYou are ^#1â > t.txtâ results in the below content in t.txt:
âYou are ^#1â > t.txt
Contributed-under: TianoCore Contribution Agreement 1.0
Signed-off-by: Ruiyu Ni <ruiyu.ni@intel.com>
Cc: Jaben Carsey <jaben.carsey@intel.com>
Reviewed-by: Tapan Shah <tapandshah@hpe.com>
commit 8e16ac3d74b635c25ad4d6355947a743a11f9eed
Author: Ruiyu Ni <ruiyu.ni@intel.com>
Date: Tue Aug 23 10:40:02 2016 +0800
Revert "ShellPkg: Fix echo to support displaying special characters"
This reverts commit 95fc5a877502a6e6324300eed0136243d359fa96.
The above commit causes several regression of "echo" command:
1. Double quotes are not being stripped from the final text. UEFI Shell 2.2 section 3.4.5 chops out the quotes.
2. Output redirection is not working as expected. Text is being redirected, but the â> â¦â text should not be.
3. Inconsistent special character handling. For example, comments with # seem to be parsed out correctly, but handing of ^ is incorrect.
In summary, âecho âYou are ^#1â > t.txtâ results in the below content in t.txt:
âYou are ^#1â > t.txt
Contributed-under: TianoCore Contribution Agreement 1.0
Signed-off-by: Ruiyu Ni <ruiyu.ni@intel.com>
Cc: Jaben Carsey <jaben.carsey@intel.com>
Reviewed-by: Tapan Shah <tapandshah@hpe.com>
[-- Attachment #2: Type: text/plain, Size: 127 bytes --]
_______________________________________________
Xen-devel mailing list
Xen-devel@lists.xen.org
https://lists.xen.org/xen-devel
^ permalink raw reply [flat|nested] only message in thread
only message in thread, other threads:[~2016-08-25 16:01 UTC | newest]
Thread overview: (only message) (download: mbox.gz follow: Atom feed
-- links below jump to the message on this page --
2016-08-25 16:01 [ovmf baseline-only test] 67594: all pass Platform Team regression test user
This is a public inbox, see mirroring instructions
for how to clone and mirror all data and code used for this inbox;
as well as URLs for NNTP newsgroup(s).