* [ovmf baseline-only test] 67598: all pass
@ 2016-08-26 21:13 Platform Team regression test user
0 siblings, 0 replies; only message in thread
From: Platform Team regression test user @ 2016-08-26 21:13 UTC (permalink / raw)
To: xen-devel, osstest-admin
This run is configured for baseline tests only.
flight 67598 ovmf real [real]
http://osstest.xs.citrite.net/~osstest/testlogs/logs/67598/
Perfect :-)
All tests in this flight passed as required
version targeted for testing:
ovmf 81d9f86f8a7106b59057e5b29490eb04e38483bd
baseline version:
ovmf 3ed4e502b5f23fbcef235b3a9d025c60c217272b
Last test of basis 67595 2016-08-25 16:19:42 Z 1 days
Testing same since 67598 2016-08-26 19:19:33 Z 0 days 1 attempts
------------------------------------------------------------
People who touched revisions under test:
Jeff Brasen <jbrasen@codeaurora.org>
Leif Lindholm <leif.lindholm@linaro.org>
jobs:
build-amd64-xsm pass
build-i386-xsm pass
build-amd64 pass
build-i386 pass
build-amd64-libvirt pass
build-i386-libvirt pass
build-amd64-pvops pass
build-i386-pvops pass
test-amd64-amd64-xl-qemuu-ovmf-amd64 pass
test-amd64-i386-xl-qemuu-ovmf-amd64 pass
------------------------------------------------------------
sg-report-flight on osstest.xs.citrite.net
logs: /home/osstest/logs
images: /home/osstest/images
Logs, config files, etc. are available at
http://osstest.xs.citrite.net/~osstest/testlogs/logs
Test harness code can be found at
http://xenbits.xensource.com/gitweb?p=osstest.git;a=summary
Push not applicable.
------------------------------------------------------------
commit 81d9f86f8a7106b59057e5b29490eb04e38483bd
Author: Leif Lindholm <leif.lindholm@linaro.org>
Date: Fri Jul 29 16:06:52 2016 +0100
ArmVirtPkg: enable EBC interpreter for AArch64
Since we now have EBC support for AArch64, enable it by default
on both QEMU and Xen platforms.
Contributed-under: TianoCore Contribution Agreement 1.0
Signed-off-by: Leif Lindholm <leif.lindholm@linaro.org>
Reviewed-by: Ard Biesheuvel <ard.biesheuvel@linaro.org>
commit a15e5bc2865740825938a484029dd9f8a048f6f5
Author: Jeff Brasen <jbrasen@codeaurora.org>
Date: Wed Feb 17 12:13:48 2016 -0700
MdeModulePkg/EbcDxe: Add AARCH64 EBC VM support
Adds support for the EBC VM for AARCH64 platforms
Submitted on behalf of a third-party: The Linux Foundation
This contribution is licensed under the BSD license as found at
http://opensource.org/licenses/bsd-license.php
[Taken from https://source.codeaurora.org/external/server/edk2-blue/]
Signed-off-by: Leif Lindholm <leif.lindholm@linaro.org>
Reviewed-by: Feng Tian <feng.tian@Intel.com>
_______________________________________________
Xen-devel mailing list
Xen-devel@lists.xen.org
https://lists.xen.org/xen-devel
^ permalink raw reply [flat|nested] only message in thread
only message in thread, other threads:[~2016-08-26 21:13 UTC | newest]
Thread overview: (only message) (download: mbox.gz follow: Atom feed
-- links below jump to the message on this page --
2016-08-26 21:13 [ovmf baseline-only test] 67598: all pass Platform Team regression test user
This is a public inbox, see mirroring instructions
for how to clone and mirror all data and code used for this inbox;
as well as URLs for NNTP newsgroup(s).