xen-devel.lists.xenproject.org archive mirror
 help / color / mirror / Atom feed
* [ovmf baseline-only test] 67604: all pass
@ 2016-08-29 13:55 Platform Team regression test user
  0 siblings, 0 replies; only message in thread
From: Platform Team regression test user @ 2016-08-29 13:55 UTC (permalink / raw)
  To: xen-devel, osstest-admin

This run is configured for baseline tests only.

flight 67604 ovmf real [real]
http://osstest.xs.citrite.net/~osstest/testlogs/logs/67604/

Perfect :-)
All tests in this flight passed as required
version targeted for testing:
 ovmf                 37136e069dc0a0b8a47098d80d8f6f742db88c04
baseline version:
 ovmf                 81d9f86f8a7106b59057e5b29490eb04e38483bd

Last test of basis    67598  2016-08-26 19:19:33 Z    2 days
Testing same since    67604  2016-08-29 09:48:27 Z    0 days    1 attempts

------------------------------------------------------------
People who touched revisions under test:
  Star Zeng <star.zeng@intel.com>

jobs:
 build-amd64-xsm                                              pass    
 build-i386-xsm                                               pass    
 build-amd64                                                  pass    
 build-i386                                                   pass    
 build-amd64-libvirt                                          pass    
 build-i386-libvirt                                           pass    
 build-amd64-pvops                                            pass    
 build-i386-pvops                                             pass    
 test-amd64-amd64-xl-qemuu-ovmf-amd64                         pass    
 test-amd64-i386-xl-qemuu-ovmf-amd64                          pass    


------------------------------------------------------------
sg-report-flight on osstest.xs.citrite.net
logs: /home/osstest/logs
images: /home/osstest/images

Logs, config files, etc. are available at
    http://osstest.xs.citrite.net/~osstest/testlogs/logs

Test harness code can be found at
    http://xenbits.xensource.com/gitweb?p=osstest.git;a=summary


Push not applicable.

------------------------------------------------------------
commit 37136e069dc0a0b8a47098d80d8f6f742db88c04
Author: Star Zeng <star.zeng@intel.com>
Date:   Fri Aug 26 16:27:06 2016 +0800

    IntelFrameworkModulePkg FwVolDxe: Return correct AuthStatus for FvReadFile
    
    Inherit the authentication status from FV.
    
    Cc: Jiewen Yao <jiewen.yao@intel.com>
    Cc: Liming Gao <liming.gao@intel.com>
    Cc: Chao Zhang <chao.b.zhang@intel.com>
    Contributed-under: TianoCore Contribution Agreement 1.0
    Signed-off-by: Star Zeng <star.zeng@intel.com>
    Reviewed-by: Jiewen Yao <jiewen.yao@intel.com>
    Reviewed by: Chao Zhang <chao.b.zhang@intel.com>

commit 2bc08e8cd64d2f2ab80f11abc63fc8291126626e
Author: Star Zeng <star.zeng@intel.com>
Date:   Fri Aug 12 16:21:17 2016 +0800

    MdeModulePkg DxeCore: Return correct AuthStatus for FvReadFile
    
    Inherit the authentication status from FV.
    
    Cc: Jiewen Yao <jiewen.yao@intel.com>
    Cc: Liming Gao <liming.gao@intel.com>
    Cc: Chao Zhang <chao.b.zhang@intel.com>
    Contributed-under: TianoCore Contribution Agreement 1.0
    Signed-off-by: Star Zeng <star.zeng@intel.com>
    Reviewed-by: Jiewen Yao <jiewen.yao@intel.com>
    Reviewed by: Chao Zhang <chao.b.zhang@intel.com>

_______________________________________________
Xen-devel mailing list
Xen-devel@lists.xen.org
https://lists.xen.org/xen-devel

^ permalink raw reply	[flat|nested] only message in thread

only message in thread, other threads:[~2016-08-29 13:55 UTC | newest]

Thread overview: (only message) (download: mbox.gz follow: Atom feed
-- links below jump to the message on this page --
2016-08-29 13:55 [ovmf baseline-only test] 67604: all pass Platform Team regression test user

This is a public inbox, see mirroring instructions
for how to clone and mirror all data and code used for this inbox;
as well as URLs for NNTP newsgroup(s).