From: Platform Team regression test user <citrix-osstest@xenproject.org>
To: xen-devel@lists.xensource.com, osstest-admin@xenproject.org
Subject: [ovmf baseline-only test] 67608: all pass
Date: Tue, 30 Aug 2016 13:57:50 +0100 [thread overview]
Message-ID: <osstest-67608-mainreport@xen.org> (raw)
This run is configured for baseline tests only.
flight 67608 ovmf real [real]
http://osstest.xs.citrite.net/~osstest/testlogs/logs/67608/
Perfect :-)
All tests in this flight passed as required
version targeted for testing:
ovmf 5f53a7aa59d4df1fe4326af18a9240d4dfebc129
baseline version:
ovmf e53f1e253e01026029f5ce7474a9d8421c8a0fbb
Last test of basis 67606 2016-08-30 04:19:47 Z 0 days
Testing same since 67608 2016-08-30 10:48:34 Z 0 days 1 attempts
------------------------------------------------------------
People who touched revisions under test:
Yonghong Zhu <yonghong.zhu@intel.com>
jobs:
build-amd64-xsm pass
build-i386-xsm pass
build-amd64 pass
build-i386 pass
build-amd64-libvirt pass
build-i386-libvirt pass
build-amd64-pvops pass
build-i386-pvops pass
test-amd64-amd64-xl-qemuu-ovmf-amd64 pass
test-amd64-i386-xl-qemuu-ovmf-amd64 pass
------------------------------------------------------------
sg-report-flight on osstest.xs.citrite.net
logs: /home/osstest/logs
images: /home/osstest/images
Logs, config files, etc. are available at
http://osstest.xs.citrite.net/~osstest/testlogs/logs
Test harness code can be found at
http://xenbits.xensource.com/gitweb?p=osstest.git;a=summary
Push not applicable.
------------------------------------------------------------
commit 5f53a7aa59d4df1fe4326af18a9240d4dfebc129
Author: Yonghong Zhu <yonghong.zhu@intel.com>
Date: Mon Aug 29 15:44:59 2016 +0800
BaseTools: UpdateImageSize include Image auth info for FMP Auth capsule
Per UEFI spec UpdateImageSize may or may not include Firmware Image
Authentication information. so for FMP auth capsule, UpdateImageSize
should include the Image auth info.
Cc: Liming Gao <liming.gao@intel.com>
Contributed-under: TianoCore Contribution Agreement 1.0
Signed-off-by: Yonghong Zhu <yonghong.zhu@intel.com>
Reviewed-by: Liming Gao <liming.gao@intel.com>
_______________________________________________
Xen-devel mailing list
Xen-devel@lists.xen.org
https://lists.xen.org/xen-devel
reply other threads:[~2016-08-30 12:57 UTC|newest]
Thread overview: [no followups] expand[flat|nested] mbox.gz Atom feed
Reply instructions:
You may reply publicly to this message via plain-text email
using any one of the following methods:
* Save the following mbox file, import it into your mail client,
and reply-to-all from there: mbox
Avoid top-posting and favor interleaved quoting:
https://en.wikipedia.org/wiki/Posting_style#Interleaved_style
* Reply using the --to, --cc, and --in-reply-to
switches of git-send-email(1):
git send-email \
--in-reply-to=osstest-67608-mainreport@xen.org \
--to=citrix-osstest@xenproject.org \
--cc=osstest-admin@xenproject.org \
--cc=xen-devel@lists.xensource.com \
/path/to/YOUR_REPLY
https://kernel.org/pub/software/scm/git/docs/git-send-email.html
* If your mail client supports setting the In-Reply-To header
via mailto: links, try the mailto: link
Be sure your reply has a Subject: header at the top and a blank line
before the message body.
This is a public inbox, see mirroring instructions
for how to clone and mirror all data and code used for this inbox;
as well as URLs for NNTP newsgroup(s).