xen-devel.lists.xenproject.org archive mirror
 help / color / mirror / Atom feed
* [ovmf baseline-only test] 67612: all pass
@ 2016-08-31  8:19 Platform Team regression test user
  0 siblings, 0 replies; only message in thread
From: Platform Team regression test user @ 2016-08-31  8:19 UTC (permalink / raw)
  To: xen-devel, osstest-admin

This run is configured for baseline tests only.

flight 67612 ovmf real [real]
http://osstest.xs.citrite.net/~osstest/testlogs/logs/67612/

Perfect :-)
All tests in this flight passed as required
version targeted for testing:
 ovmf                 965268ea6df485d78b982d00270bd4ce7f673820
baseline version:
 ovmf                 5f53a7aa59d4df1fe4326af18a9240d4dfebc129

Last test of basis    67608  2016-08-30 10:48:34 Z    0 days
Testing same since    67612  2016-08-31 06:23:03 Z    0 days    1 attempts

------------------------------------------------------------
People who touched revisions under test:
  Hao Wu <hao.a.wu@intel.com>

jobs:
 build-amd64-xsm                                              pass    
 build-i386-xsm                                               pass    
 build-amd64                                                  pass    
 build-i386                                                   pass    
 build-amd64-libvirt                                          pass    
 build-i386-libvirt                                           pass    
 build-amd64-pvops                                            pass    
 build-i386-pvops                                             pass    
 test-amd64-amd64-xl-qemuu-ovmf-amd64                         pass    
 test-amd64-i386-xl-qemuu-ovmf-amd64                          pass    


------------------------------------------------------------
sg-report-flight on osstest.xs.citrite.net
logs: /home/osstest/logs
images: /home/osstest/images

Logs, config files, etc. are available at
    http://osstest.xs.citrite.net/~osstest/testlogs/logs

Test harness code can be found at
    http://xenbits.xensource.com/gitweb?p=osstest.git;a=summary


Push not applicable.

------------------------------------------------------------
commit 965268ea6df485d78b982d00270bd4ce7f673820
Author: Hao Wu <hao.a.wu@intel.com>
Date:   Tue Aug 30 09:59:02 2016 +0800

    SecurityPkg: Use IsZeroGuid API for zero GUID checking
    
    Instead of comparing a GUID with gZeroGuid via the CompareGuid API, the
    commit uses the IsZeroGuid API to check if the given GUID is a zero GUID.
    
    Cc: Chao Zhang <chao.b.zhang@intel.com>
    Contributed-under: TianoCore Contribution Agreement 1.0
    Signed-off-by: Hao Wu <hao.a.wu@intel.com>
    Reviewed-by: Chao Zhang <chao.b.zhang@intel.com>

commit 39cde03cc5efd67c11dc75cd5ba5e8ccf55c5594
Author: Hao Wu <hao.a.wu@intel.com>
Date:   Tue Aug 30 09:57:59 2016 +0800

    MdeModulePkg: Use IsZeroGuid API for zero GUID checking
    
    Instead of comparing a GUID with gZeroGuid via the CompareGuid API, the
    commit uses the IsZeroGuid API to check if the given GUID is a zero GUID.
    
    Cc: Feng Tian <feng.tian@intel.com>
    Cc: Star Zeng <star.zeng@intel.com>
    Contributed-under: TianoCore Contribution Agreement 1.0
    Signed-off-by: Hao Wu <hao.a.wu@intel.com>
    Reviewed-by: Feng Tian <feng.tian@Intel.com>

commit dc2109946df2522974a058b0bca5530befdea1cd
Author: Hao Wu <hao.a.wu@intel.com>
Date:   Tue Aug 30 09:51:40 2016 +0800

    IntelFrameworkModulePkg: Use IsZeroGuid API for zero GUID checking
    
    Instead of comparing a GUID with gZeroGuid via the CompareGuid API, the
    commit uses the IsZeroGuid API to check if the given GUID is a zero GUID.
    
    Cc: Jeff Fan <jeff.fan@intel.com>
    Contributed-under: TianoCore Contribution Agreement 1.0
    Signed-off-by: Hao Wu <hao.a.wu@intel.com>
    Reviewed-by: Jeff Fan <jeff.fan@intel.com>

_______________________________________________
Xen-devel mailing list
Xen-devel@lists.xen.org
https://lists.xen.org/xen-devel

^ permalink raw reply	[flat|nested] only message in thread

only message in thread, other threads:[~2016-08-31  8:19 UTC | newest]

Thread overview: (only message) (download: mbox.gz follow: Atom feed
-- links below jump to the message on this page --
2016-08-31  8:19 [ovmf baseline-only test] 67612: all pass Platform Team regression test user

This is a public inbox, see mirroring instructions
for how to clone and mirror all data and code used for this inbox;
as well as URLs for NNTP newsgroup(s).