* [ovmf baseline-only test] 67616: all pass
@ 2016-08-31 14:23 Platform Team regression test user
0 siblings, 0 replies; only message in thread
From: Platform Team regression test user @ 2016-08-31 14:23 UTC (permalink / raw)
To: xen-devel, osstest-admin
This run is configured for baseline tests only.
flight 67616 ovmf real [real]
http://osstest.xs.citrite.net/~osstest/testlogs/logs/67616/
Perfect :-)
All tests in this flight passed as required
version targeted for testing:
ovmf 6c59c7c2f488d7c9b951b5ead780f6102dafae8a
baseline version:
ovmf 86079a4d2198b62b88140b9decb92ca73d443f94
Last test of basis 67614 2016-08-31 08:46:27 Z 0 days
Testing same since 67616 2016-08-31 11:19:42 Z 0 days 1 attempts
------------------------------------------------------------
People who touched revisions under test:
Star Zeng <star.zeng@intel.com>
jobs:
build-amd64-xsm pass
build-i386-xsm pass
build-amd64 pass
build-i386 pass
build-amd64-libvirt pass
build-i386-libvirt pass
build-amd64-pvops pass
build-i386-pvops pass
test-amd64-amd64-xl-qemuu-ovmf-amd64 pass
test-amd64-i386-xl-qemuu-ovmf-amd64 pass
------------------------------------------------------------
sg-report-flight on osstest.xs.citrite.net
logs: /home/osstest/logs
images: /home/osstest/images
Logs, config files, etc. are available at
http://osstest.xs.citrite.net/~osstest/testlogs/logs
Test harness code can be found at
http://xenbits.xensource.com/gitweb?p=osstest.git;a=summary
Push not applicable.
------------------------------------------------------------
commit 6c59c7c2f488d7c9b951b5ead780f6102dafae8a
Author: Star Zeng <star.zeng@intel.com>
Date: Fri Aug 26 17:25:03 2016 +0800
MdeModulePkg VarCheck: #### in L"Boot####" are upper case hex
UEFI spec:
Each load option entry resides in a Boot####, Driver####, SysPrep####,
OsRecovery#### or PlatformRecovery#### variable where #### is replaced
by a unique option number in printable hexadecimal representation using
the digits 0-9, and the upper case versions of the characters A-F
(0000-FFFF).
The patch also makes L"HwErrRec####" follow this rule.
Cc: Ruiyu Ni <ruiyu.ni@intel.com>
Contributed-under: TianoCore Contribution Agreement 1.0
Signed-off-by: Star Zeng <star.zeng@intel.com>
Reviewed-by: Ruiyu Ni <ruiyu.ni@intel.com>
_______________________________________________
Xen-devel mailing list
Xen-devel@lists.xen.org
https://lists.xen.org/xen-devel
^ permalink raw reply [flat|nested] only message in thread
only message in thread, other threads:[~2016-08-31 14:23 UTC | newest]
Thread overview: (only message) (download: mbox.gz follow: Atom feed
-- links below jump to the message on this page --
2016-08-31 14:23 [ovmf baseline-only test] 67616: all pass Platform Team regression test user
This is a public inbox, see mirroring instructions
for how to clone and mirror all data and code used for this inbox;
as well as URLs for NNTP newsgroup(s).