xen-devel.lists.xenproject.org archive mirror
 help / color / mirror / Atom feed
* [ovmf baseline-only test] 67622: all pass
@ 2016-09-01 20:52 Platform Team regression test user
  0 siblings, 0 replies; only message in thread
From: Platform Team regression test user @ 2016-09-01 20:52 UTC (permalink / raw)
  To: xen-devel, osstest-admin

This run is configured for baseline tests only.

flight 67622 ovmf real [real]
http://osstest.xs.citrite.net/~osstest/testlogs/logs/67622/

Perfect :-)
All tests in this flight passed as required
version targeted for testing:
 ovmf                 b10d5ddc0385f39d2c2c62843710b7609a4ca169
baseline version:
 ovmf                 5322ee484b54bc78023383a546971b601dcc4ce1

Last test of basis    67621  2016-09-01 16:18:30 Z    0 days
Testing same since    67622  2016-09-01 18:16:25 Z    0 days    1 attempts

------------------------------------------------------------
People who touched revisions under test:
  Laszlo Ersek <lersek@redhat.com>
  Star Zeng <star.zeng@intel.com>

jobs:
 build-amd64-xsm                                              pass    
 build-i386-xsm                                               pass    
 build-amd64                                                  pass    
 build-i386                                                   pass    
 build-amd64-libvirt                                          pass    
 build-i386-libvirt                                           pass    
 build-amd64-pvops                                            pass    
 build-i386-pvops                                             pass    
 test-amd64-amd64-xl-qemuu-ovmf-amd64                         pass    
 test-amd64-i386-xl-qemuu-ovmf-amd64                          pass    


------------------------------------------------------------
sg-report-flight on osstest.xs.citrite.net
logs: /home/osstest/logs
images: /home/osstest/images

Logs, config files, etc. are available at
    http://osstest.xs.citrite.net/~osstest/testlogs/logs

Test harness code can be found at
    http://xenbits.xensource.com/gitweb?p=osstest.git;a=summary


Push not applicable.

------------------------------------------------------------
commit b10d5ddc0385f39d2c2c62843710b7609a4ca169
Author: Star Zeng <star.zeng@intel.com>
Date:   Wed Jul 20 10:24:58 2016 +0800

    UefiCpuPkg/PiSmmCpuDxeSmm: Consume PcdAcpiS3Enable to control the code
    
    if PcdAcpiS3Enable is disabled, then skip S3 related logic.
    
    Cc: Jeff Fan <jeff.fan@intel.com>
    Cc: Jiewen Yao <jiewen.yao@intel.com>
    Cc: Michael Kinney <michael.d.kinney@intel.com>
    Cc: Laszlo Ersek <lersek@redhat.com>
    Contributed-under: TianoCore Contribution Agreement 1.0
    Signed-off-by: Star Zeng <star.zeng@intel.com>
    Reviewed-by: Jeff Fan <jeff.fan@intel.com>
    Reviewed-by: Laszlo Ersek <lersek@redhat.com>
    Tested-by: Laszlo Ersek <lersek@redhat.com>

commit 0bdc9e75c0c31d5a508eac9353b2079f46b23f2f
Author: Star Zeng <star.zeng@intel.com>
Date:   Tue Jul 19 16:44:16 2016 +0800

    UefiCpuPkg/PiSmmCpuDxeSmm: Move S3 related code to CpuS3.c
    
    Cc: Jeff Fan <jeff.fan@intel.com>
    Cc: Jiewen Yao <jiewen.yao@intel.com>
    Cc: Michael Kinney <michael.d.kinney@intel.com>
    Cc: Laszlo Ersek <lersek@redhat.com>
    Contributed-under: TianoCore Contribution Agreement 1.0
    Signed-off-by: Star Zeng <star.zeng@intel.com>
    Reviewed-by: Jeff Fan <jeff.fan@intel.com>
    Tested-by: Laszlo Ersek <lersek@redhat.com>
    Acked-by: Laszlo Ersek <lersek@redhat.com>

commit ca98f60382943d4b40a8e60125120edc4d69f212
Author: Star Zeng <star.zeng@intel.com>
Date:   Mon Jul 18 11:31:28 2016 +0800

    UefiCpuPkg/CpuS3DataDxe: Consume PcdAcpiS3Enable to control the code
    
    If PcdAcpiS3Enable is disabled, then return an EFI_UNSUPPORTED
    error which forces the module to be unloaded.
    
    Cc: Jeff Fan <jeff.fan@intel.com>
    Cc: Jiewen Yao <jiewen.yao@intel.com>
    Cc: Michael Kinney <michael.d.kinney@intel.com>
    Cc: Laszlo Ersek <lersek@redhat.com>
    Contributed-under: TianoCore Contribution Agreement 1.0
    Signed-off-by: Star Zeng <star.zeng@intel.com>
    Reviewed-by: Jeff Fan <jeff.fan@intel.com>
    Reviewed-by: Laszlo Ersek <lersek@redhat.com>
    Tested-by: Laszlo Ersek <lersek@redhat.com>

_______________________________________________
Xen-devel mailing list
Xen-devel@lists.xen.org
https://lists.xen.org/xen-devel

^ permalink raw reply	[flat|nested] only message in thread

only message in thread, other threads:[~2016-09-01 20:52 UTC | newest]

Thread overview: (only message) (download: mbox.gz follow: Atom feed
-- links below jump to the message on this page --
2016-09-01 20:52 [ovmf baseline-only test] 67622: all pass Platform Team regression test user

This is a public inbox, see mirroring instructions
for how to clone and mirror all data and code used for this inbox;
as well as URLs for NNTP newsgroup(s).