xen-devel.lists.xenproject.org archive mirror
 help / color / mirror / Atom feed
From: Platform Team regression test user <citrix-osstest@xenproject.org>
To: xen-devel@lists.xensource.com, osstest-admin@xenproject.org
Subject: [ovmf baseline-only test] 67624: all pass
Date: Fri, 2 Sep 2016 08:31:00 +0100	[thread overview]
Message-ID: <osstest-67624-mainreport@xen.org> (raw)

This run is configured for baseline tests only.

flight 67624 ovmf real [real]
http://osstest.xs.citrite.net/~osstest/testlogs/logs/67624/

Perfect :-)
All tests in this flight passed as required
version targeted for testing:
 ovmf                 b8922094f6f8b5293f01a09035b74463fff12320
baseline version:
 ovmf                 3ef3209d3028b77af9f56f183370e7b67cd7c849

Last test of basis    67623  2016-09-02 02:46:24 Z    0 days
Testing same since    67624  2016-09-02 05:18:08 Z    0 days    1 attempts

------------------------------------------------------------
People who touched revisions under test:
  Dong, Eric <eric.dong@intel.com>
  Eric Dong <eric.dong@intel.com>
  Ruiyu Ni <ruiyu.ni@intel.com>
  Star Zeng <star.zeng@intel.com>

jobs:
 build-amd64-xsm                                              pass    
 build-i386-xsm                                               pass    
 build-amd64                                                  pass    
 build-i386                                                   pass    
 build-amd64-libvirt                                          pass    
 build-i386-libvirt                                           pass    
 build-amd64-pvops                                            pass    
 build-i386-pvops                                             pass    
 test-amd64-amd64-xl-qemuu-ovmf-amd64                         pass    
 test-amd64-i386-xl-qemuu-ovmf-amd64                          pass    


------------------------------------------------------------
sg-report-flight on osstest.xs.citrite.net
logs: /home/osstest/logs
images: /home/osstest/images

Logs, config files, etc. are available at
    http://osstest.xs.citrite.net/~osstest/testlogs/logs

Test harness code can be found at
    http://xenbits.xensource.com/gitweb?p=osstest.git;a=summary


Push not applicable.

------------------------------------------------------------
commit b8922094f6f8b5293f01a09035b74463fff12320
Author: Star Zeng <star.zeng@intel.com>
Date:   Wed Aug 31 16:28:49 2016 +0800

    MdeModulePkg SmbiosMeasurementDxe: Add NominalSpeed in Type 27 to black list
    
    Cc: Jiewen Yao <jiewen.yao@intel.com>
    Contributed-under: TianoCore Contribution Agreement 1.0
    Signed-off-by: Star Zeng <star.zeng@intel.com>
    Reviewed-by: Jiewen Yao <jiewen.yao@intel.com>

commit 0b6dc68dc347f3afe5d99925de629b8095b6eb5b
Author: Dong, Eric <eric.dong@intel.com>
Date:   Wed Aug 24 16:21:50 2016 +0800

    Nt32Pkg PlatformBootManagerLib: Enable BootManagerMenuApp.
    
    Enable BootManagerMenuApp application for Nt32 platform.
    Also enable F7 hotkey to select this boot option.
    
    Contributed-under: TianoCore Contribution Agreement 1.0
    Signed-off-by: Eric Dong <eric.dong@intel.com>
    Reviewed-by: Ruiyu Ni <ruiyu.ni@intel.com>

commit 37078045d717ea6c17eea33f05392a2f8979ebfa
Author: Ruiyu Ni <ruiyu.ni@intel.com>
Date:   Wed Aug 10 13:32:58 2016 +0800

    MdeModulePkg/ResetSystemRuntimeDxe: Support EfiResetPlatformSpecific
    
    Contributed-under: TianoCore Contribution Agreement 1.0
    Signed-off-by: Ruiyu Ni <ruiyu.ni@intel.com>
    Reviewed-by: Feng Tian <feng.tian@intel.com>
    Cc: Amy Chan <amy.chan@intel.com>

commit e4d9e730c64d0862a3083f1d7021e6f50006710b
Author: Ruiyu Ni <ruiyu.ni@intel.com>
Date:   Wed Aug 10 13:32:05 2016 +0800

    PcAtChipsetPkg: Remove KbcResetDxe
    
    Contributed-under: TianoCore Contribution Agreement 1.0
    Signed-off-by: Ruiyu Ni <ruiyu.ni@intel.com>
    Reviewed-by: Feng Tian <feng.tian@intel.com>
    Cc: Amy Chan <amy.chan@intel.com>

commit f90472e17bd6647551786a19bf04d4d9c21e7703
Author: Ruiyu Ni <ruiyu.ni@intel.com>
Date:   Wed Aug 10 13:31:02 2016 +0800

    OvmfPkg: Use MdeModulePkg/ResetSystemRuntimeDxe
    
    Contributed-under: TianoCore Contribution Agreement 1.0
    Signed-off-by: Ruiyu Ni <ruiyu.ni@intel.com>
    Reviewed-by: Jordan Justen <jordan.l.justen@intel.com>
    Cc: Laszlo Ersek <lersek@redhat.com>

commit cdd1ae1fef27c44773479a618ecdc4606a7b876e
Author: Ruiyu Ni <ruiyu.ni@intel.com>
Date:   Wed Aug 10 13:29:28 2016 +0800

    Vlv2TbltDevicePkg/ResetSystemLib: Implement ResetPlatformSpecific
    
    Contributed-under: TianoCore Contribution Agreement 1.0
    Signed-off-by: Ruiyu Ni <ruiyu.ni@intel.com>
    Reviewed-by: David Wei <david.wei@intel.com>

commit 964f2d7410efdd901c9c7f43df75d8d5a8e1087d
Author: Ruiyu Ni <ruiyu.ni@intel.com>
Date:   Wed Aug 10 13:28:04 2016 +0800

    QuarkSocPkg/ResetSystemLib: Implement ResetPlatformSpecific
    
    Contributed-under: TianoCore Contribution Agreement 1.0
    Signed-off-by: Ruiyu Ni <ruiyu.ni@intel.com>
    Reviewed-by: Michael D Kinney <michael.d.kinney@intel.com>
    Cc: Kelly Steele <kelly.steele@intel.com>

commit 1b22c63a9e40d11f03596d8fcce351847b2beecf
Author: Ruiyu Ni <ruiyu.ni@intel.com>
Date:   Wed Aug 10 13:27:19 2016 +0800

    PcAtChipsetPkg/ResetSystemLib: Implement ResetPlatformSpecific
    
    Contributed-under: TianoCore Contribution Agreement 1.0
    Signed-off-by: Ruiyu Ni <ruiyu.ni@intel.com>
    Reviewed-by: Feng Tian <feng.tian@intel.com>
    Cc: Amy Chan <amy.chan@intel.com>

commit 2b9020f086869e14e5b111ed80844c01a5b0a404
Author: Ruiyu Ni <ruiyu.ni@intel.com>
Date:   Wed Aug 10 13:25:51 2016 +0800

    OvmfPkg/ResetSystemLib: Implement ResetPlatformSpecific
    
    Contributed-under: TianoCore Contribution Agreement 1.0
    Signed-off-by: Ruiyu Ni <ruiyu.ni@intel.com>
    Reviewed-by: Jordan Justen <jordan.l.justen@intel.com>
    Cc: Laszlo Ersek <lersek@redhat.com>

commit adb6c39a5f2eb3d1504240bf05fe526e367cbdc4
Author: Ruiyu Ni <ruiyu.ni@intel.com>
Date:   Wed Aug 10 13:25:08 2016 +0800

    CorebootPayloadPkg/ResetSystemLib: Implement ResetPlatformSpecific
    
    Contributed-under: TianoCore Contribution Agreement 1.0
    Signed-off-by: Ruiyu Ni <ruiyu.ni@intel.com>
    Reviewed-by: Maurice Ma <maurice.ma@intel.com>
    Cc: Prince Agyeman <prince.agyeman@intel.com>

commit eeef069d6cd233d043f92fe9d4027c758edf8798
Author: Ruiyu Ni <ruiyu.ni@intel.com>
Date:   Wed Aug 10 13:23:31 2016 +0800

    MdeModulePkg/BaseResetSystemLibNull: Implement ResetPlatformSpecific
    
    Contributed-under: TianoCore Contribution Agreement 1.0
    Signed-off-by: Ruiyu Ni <ruiyu.ni@intel.com>
    Reviewed-by: Feng Tian <feng.tian@intel.com>
    Cc: Amy Chan <amy.chan@intel.com>

commit d4283a78154395612af7db4500015f38716dc04d
Author: Ruiyu Ni <ruiyu.ni@intel.com>
Date:   Wed Aug 10 13:21:47 2016 +0800

    MdeModulePkg: Add API ResetPlatformSpecific() to ResetSystemLib.h
    
    Contributed-under: TianoCore Contribution Agreement 1.0
    Signed-off-by: Ruiyu Ni <ruiyu.ni@intel.com>
    Reviewed-by: Feng Tian <feng.tian@intel.com>
    Cc: Amy Chan <amy.chan@intel.com>

commit e963b7468f8e739fda38ec9ed8c66ac5e5ad46bf
Author: Ruiyu Ni <ruiyu.ni@intel.com>
Date:   Wed Jul 27 10:22:37 2016 +0800

    MdePkg/UefiSpec.h: Align function header of ResetSystem to UEFI Spec
    
    Contributed-under: TianoCore Contribution Agreement 1.0
    Signed-off-by: Ruiyu Ni <ruiyu.ni@intel.com>
    Reviewed-by: Liming Gao <liming.gao@intel.com>

_______________________________________________
Xen-devel mailing list
Xen-devel@lists.xen.org
https://lists.xen.org/xen-devel

                 reply	other threads:[~2016-09-02  7:31 UTC|newest]

Thread overview: [no followups] expand[flat|nested]  mbox.gz  Atom feed

Reply instructions:

You may reply publicly to this message via plain-text email
using any one of the following methods:

* Save the following mbox file, import it into your mail client,
  and reply-to-all from there: mbox

  Avoid top-posting and favor interleaved quoting:
  https://en.wikipedia.org/wiki/Posting_style#Interleaved_style

* Reply using the --to, --cc, and --in-reply-to
  switches of git-send-email(1):

  git send-email \
    --in-reply-to=osstest-67624-mainreport@xen.org \
    --to=citrix-osstest@xenproject.org \
    --cc=osstest-admin@xenproject.org \
    --cc=xen-devel@lists.xensource.com \
    /path/to/YOUR_REPLY

  https://kernel.org/pub/software/scm/git/docs/git-send-email.html

* If your mail client supports setting the In-Reply-To header
  via mailto: links, try the mailto: link
Be sure your reply has a Subject: header at the top and a blank line before the message body.
This is a public inbox, see mirroring instructions
for how to clone and mirror all data and code used for this inbox;
as well as URLs for NNTP newsgroup(s).