xen-devel.lists.xenproject.org archive mirror
 help / color / mirror / Atom feed
* [ovmf baseline-only test] 67700: all pass
@ 2016-09-12 21:52 Platform Team regression test user
  0 siblings, 0 replies; only message in thread
From: Platform Team regression test user @ 2016-09-12 21:52 UTC (permalink / raw)
  To: xen-devel, osstest-admin

This run is configured for baseline tests only.

flight 67700 ovmf real [real]
http://osstest.xs.citrite.net/~osstest/testlogs/logs/67700/

Perfect :-)
All tests in this flight passed as required
version targeted for testing:
 ovmf                 8c0b0b34f7875571ee9d3a2a1a28484cef36d969
baseline version:
 ovmf                 5654835bd1381dfad9483b767e55db7caaeec907

Last test of basis    67699  2016-09-12 12:47:30 Z    0 days
Testing same since    67700  2016-09-12 19:48:41 Z    0 days    1 attempts

------------------------------------------------------------
People who touched revisions under test:
  Laszlo Ersek <lersek@redhat.com>
  Thomas Huth <thuth@redhat.com>

jobs:
 build-amd64-xsm                                              pass    
 build-i386-xsm                                               pass    
 build-amd64                                                  pass    
 build-i386                                                   pass    
 build-amd64-libvirt                                          pass    
 build-i386-libvirt                                           pass    
 build-amd64-pvops                                            pass    
 build-i386-pvops                                             pass    
 test-amd64-amd64-xl-qemuu-ovmf-amd64                         pass    
 test-amd64-i386-xl-qemuu-ovmf-amd64                          pass    


------------------------------------------------------------
sg-report-flight on osstest.xs.citrite.net
logs: /home/osstest/logs
images: /home/osstest/images

Logs, config files, etc. are available at
    http://osstest.xs.citrite.net/~osstest/testlogs/logs

Test harness code can be found at
    http://xenbits.xensource.com/gitweb?p=osstest.git;a=summary


Push not applicable.

------------------------------------------------------------
commit 8c0b0b34f7875571ee9d3a2a1a28484cef36d969
Author: Thomas Huth <thuth@redhat.com>
Date:   Fri Sep 9 22:32:15 2016 +0200

    OvmfPkg: Fix typing errors
    
    Correct some typos (discovered with the codespell utility)
    
    Contributed-under: TianoCore Contribution Agreement 1.0
    Signed-off-by: Thomas Huth <thuth@redhat.com>
    Reviewed-by: Laszlo Ersek <lersek@redhat.com>
    Cc: Jordan Justen <jordan.l.justen@intel.com>
    Cc: Thomas Huth <thuth@redhat.com>
    Reviewed-by: Jordan Justen <jordan.l.justen@intel.com>

commit 3e92a99747aa7027c4b375a75e23e9f2dcc5293b
Author: Laszlo Ersek <lersek@redhat.com>
Date:   Fri Sep 9 23:32:05 2016 +0200

    OvmfPkg: convert C files with LF line terminators to CRLF
    
    Run "unix2dos" on the affected files. "git show -b" produces no diff for
    this patch.
    
    Contributed-under: TianoCore Contribution Agreement 1.0
    Signed-off-by: Laszlo Ersek <lersek@redhat.com>
    Cc: Jordan Justen <jordan.l.justen@intel.com>
    Cc: Thomas Huth <thuth@redhat.com>
    Reviewed-by: Jordan Justen <jordan.l.justen@intel.com>
    Reviewed-by: Thomas Huth <thuth@redhat.com>

commit 3e079d0198b1462d3af3a7883ac20c87d0a25bb6
Author: Laszlo Ersek <lersek@redhat.com>
Date:   Fri Sep 9 23:24:54 2016 +0200

    OvmfPkg/IndustryStandard: make "Xen/grant_table.h" pure ASCII
    
    The header file includes the UTF-8 encoding (0xE2 0x80 0x99) of the U+2019
    (RIGHT SINGLE QUOTATION MARK) code point. Replace it with a simple
    apostrophe (U+0027, ASCII 0x27).
    
    Contributed-under: TianoCore Contribution Agreement 1.0
    Signed-off-by: Laszlo Ersek <lersek@redhat.com>
    Cc: Jordan Justen <jordan.l.justen@intel.com>
    Cc: Thomas Huth <thuth@redhat.com>
    Reviewed-by: Jordan Justen <jordan.l.justen@intel.com>
    Reviewed-by: Thomas Huth <thuth@redhat.com>

_______________________________________________
Xen-devel mailing list
Xen-devel@lists.xen.org
https://lists.xen.org/xen-devel

^ permalink raw reply	[flat|nested] only message in thread

only message in thread, other threads:[~2016-09-12 21:52 UTC | newest]

Thread overview: (only message) (download: mbox.gz follow: Atom feed
-- links below jump to the message on this page --
2016-09-12 21:52 [ovmf baseline-only test] 67700: all pass Platform Team regression test user

This is a public inbox, see mirroring instructions
for how to clone and mirror all data and code used for this inbox;
as well as URLs for NNTP newsgroup(s).