From: Platform Team regression test user <citrix-osstest@xenproject.org>
To: xen-devel@lists.xensource.com, osstest-admin@xenproject.org
Subject: [qemu-mainline baseline-only test] 67730: trouble: blocked/broken
Date: Mon, 19 Sep 2016 22:28:56 +0100 [thread overview]
Message-ID: <osstest-67730-mainreport@xen.org> (raw)
This run is configured for baseline tests only.
flight 67730 qemu-mainline real [real]
http://osstest.xs.citrite.net/~osstest/testlogs/logs/67730/
Failures and problems with tests :-(
Tests which did not succeed and are blocking,
including tests which could not be run:
build-armhf 3 host-install(3) broken REGR. vs. 67725
build-amd64-xsm 3 host-install(3) broken REGR. vs. 67725
build-amd64 3 host-install(3) broken REGR. vs. 67725
build-armhf-pvops 3 host-install(3) broken REGR. vs. 67725
build-i386 3 host-install(3) broken REGR. vs. 67725
build-i386-pvops 3 host-install(3) broken REGR. vs. 67725
build-i386-xsm 3 host-install(3) broken REGR. vs. 67725
build-amd64-pvops 3 host-install(3) broken REGR. vs. 67725
build-armhf-xsm 3 host-install(3) broken REGR. vs. 67725
Tests which did not succeed, but are not blocking:
build-armhf-libvirt 1 build-check(1) blocked n/a
test-armhf-armhf-xl-vhd 1 build-check(1) blocked n/a
test-armhf-armhf-xl-xsm 1 build-check(1) blocked n/a
test-amd64-i386-libvirt-qemuu-debianhvm-amd64-xsm 1 build-check(1) blocked n/a
test-amd64-amd64-libvirt 1 build-check(1) blocked n/a
test-armhf-armhf-xl-credit2 1 build-check(1) blocked n/a
build-i386-libvirt 1 build-check(1) blocked n/a
test-armhf-armhf-xl-multivcpu 1 build-check(1) blocked n/a
test-armhf-armhf-xl 1 build-check(1) blocked n/a
test-armhf-armhf-xl-rtds 1 build-check(1) blocked n/a
test-armhf-armhf-xl-midway 1 build-check(1) blocked n/a
test-armhf-armhf-libvirt 1 build-check(1) blocked n/a
test-amd64-i386-xl-qemuu-debianhvm-amd64-xsm 1 build-check(1) blocked n/a
test-armhf-armhf-libvirt-raw 1 build-check(1) blocked n/a
test-amd64-i386-libvirt-xsm 1 build-check(1) blocked n/a
test-amd64-i386-xl-qemuu-debianhvm-amd64 1 build-check(1) blocked n/a
test-armhf-armhf-libvirt-xsm 1 build-check(1) blocked n/a
test-amd64-i386-xl 1 build-check(1) blocked n/a
test-amd64-i386-libvirt-pair 1 build-check(1) blocked n/a
test-amd64-i386-xl-xsm 1 build-check(1) blocked n/a
test-amd64-i386-xl-qemuu-ovmf-amd64 1 build-check(1) blocked n/a
test-amd64-i386-xl-raw 1 build-check(1) blocked n/a
test-amd64-i386-libvirt 1 build-check(1) blocked n/a
test-armhf-armhf-libvirt-qcow2 1 build-check(1) blocked n/a
test-amd64-i386-qemuu-rhel6hvm-intel 1 build-check(1) blocked n/a
test-amd64-i386-xl-qemuu-win7-amd64 1 build-check(1) blocked n/a
test-amd64-i386-xl-qemuu-winxpsp3-vcpus1 1 build-check(1) blocked n/a
test-amd64-i386-xl-qemuu-winxpsp3 1 build-check(1) blocked n/a
test-amd64-i386-freebsd10-amd64 1 build-check(1) blocked n/a
test-amd64-amd64-libvirt-vhd 1 build-check(1) blocked n/a
build-amd64-libvirt 1 build-check(1) blocked n/a
test-amd64-i386-qemuu-rhel6hvm-amd 1 build-check(1) blocked n/a
test-amd64-amd64-libvirt-pair 1 build-check(1) blocked n/a
test-amd64-i386-pair 1 build-check(1) blocked n/a
test-amd64-amd64-xl-qemuu-debianhvm-amd64 1 build-check(1) blocked n/a
test-amd64-i386-freebsd10-i386 1 build-check(1) blocked n/a
test-amd64-amd64-xl-qemuu-win7-amd64 1 build-check(1) blocked n/a
test-amd64-amd64-libvirt-qemuu-debianhvm-amd64-xsm 1 build-check(1) blocked n/a
test-amd64-amd64-xl-qemuu-winxpsp3 1 build-check(1) blocked n/a
test-amd64-amd64-xl-qcow2 1 build-check(1) blocked n/a
test-amd64-amd64-xl-qemuu-ovmf-amd64 1 build-check(1) blocked n/a
test-amd64-amd64-xl-qemuu-debianhvm-amd64-xsm 1 build-check(1) blocked n/a
test-amd64-amd64-libvirt-xsm 1 build-check(1) blocked n/a
test-amd64-amd64-xl-xsm 1 build-check(1) blocked n/a
test-amd64-amd64-xl-rtds 1 build-check(1) blocked n/a
test-amd64-amd64-xl-multivcpu 1 build-check(1) blocked n/a
test-amd64-amd64-xl-pvh-amd 1 build-check(1) blocked n/a
test-amd64-amd64-pair 1 build-check(1) blocked n/a
test-amd64-amd64-pygrub 1 build-check(1) blocked n/a
test-amd64-amd64-amd64-pvgrub 1 build-check(1) blocked n/a
test-amd64-amd64-xl-credit2 1 build-check(1) blocked n/a
test-amd64-amd64-xl-pvh-intel 1 build-check(1) blocked n/a
test-amd64-amd64-i386-pvgrub 1 build-check(1) blocked n/a
test-amd64-amd64-xl 1 build-check(1) blocked n/a
test-amd64-amd64-qemuu-nested-amd 1 build-check(1) blocked n/a
test-amd64-amd64-qemuu-nested-intel 1 build-check(1) blocked n/a
version targeted for testing:
qemuu 0f2fa73ba0ca19ebdaccf0d1785583d6601411b6
baseline version:
qemuu e3571ae30cd26d19efd4554c25e32ef64d6a36b3
Last test of basis 67725 2016-09-17 02:14:14 Z 2 days
Testing same since 67730 2016-09-19 16:44:11 Z 0 days 1 attempts
------------------------------------------------------------
People who touched revisions under test:
Cornelia Huck <cornelia.huck@de.ibm.com> [ccw]
Greg Kurz <groug@kaod.org>
Maxime Coquelin <maxime.coquelin@redhat.com>
Michael S. Tsirkin <mst@redhat.com>
Peter Maydell <peter.maydell@linaro.org>
jobs:
build-amd64-xsm broken
build-armhf-xsm broken
build-i386-xsm broken
build-amd64 broken
build-armhf broken
build-i386 broken
build-amd64-libvirt blocked
build-armhf-libvirt blocked
build-i386-libvirt blocked
build-amd64-pvops broken
build-armhf-pvops broken
build-i386-pvops broken
test-amd64-amd64-xl blocked
test-armhf-armhf-xl blocked
test-amd64-i386-xl blocked
test-amd64-amd64-libvirt-qemuu-debianhvm-amd64-xsm blocked
test-amd64-i386-libvirt-qemuu-debianhvm-amd64-xsm blocked
test-amd64-amd64-xl-qemuu-debianhvm-amd64-xsm blocked
test-amd64-i386-xl-qemuu-debianhvm-amd64-xsm blocked
test-amd64-amd64-libvirt-xsm blocked
test-armhf-armhf-libvirt-xsm blocked
test-amd64-i386-libvirt-xsm blocked
test-amd64-amd64-xl-xsm blocked
test-armhf-armhf-xl-xsm blocked
test-amd64-i386-xl-xsm blocked
test-amd64-amd64-qemuu-nested-amd blocked
test-amd64-amd64-xl-pvh-amd blocked
test-amd64-i386-qemuu-rhel6hvm-amd blocked
test-amd64-amd64-xl-qemuu-debianhvm-amd64 blocked
test-amd64-i386-xl-qemuu-debianhvm-amd64 blocked
test-amd64-i386-freebsd10-amd64 blocked
test-amd64-amd64-xl-qemuu-ovmf-amd64 blocked
test-amd64-i386-xl-qemuu-ovmf-amd64 blocked
test-amd64-amd64-xl-qemuu-win7-amd64 blocked
test-amd64-i386-xl-qemuu-win7-amd64 blocked
test-amd64-amd64-xl-credit2 blocked
test-armhf-armhf-xl-credit2 blocked
test-amd64-i386-freebsd10-i386 blocked
test-amd64-amd64-qemuu-nested-intel blocked
test-amd64-amd64-xl-pvh-intel blocked
test-amd64-i386-qemuu-rhel6hvm-intel blocked
test-amd64-amd64-libvirt blocked
test-armhf-armhf-libvirt blocked
test-amd64-i386-libvirt blocked
test-armhf-armhf-xl-midway blocked
test-amd64-amd64-xl-multivcpu blocked
test-armhf-armhf-xl-multivcpu blocked
test-amd64-amd64-pair blocked
test-amd64-i386-pair blocked
test-amd64-amd64-libvirt-pair blocked
test-amd64-i386-libvirt-pair blocked
test-amd64-amd64-amd64-pvgrub blocked
test-amd64-amd64-i386-pvgrub blocked
test-amd64-amd64-pygrub blocked
test-armhf-armhf-libvirt-qcow2 blocked
test-amd64-amd64-xl-qcow2 blocked
test-armhf-armhf-libvirt-raw blocked
test-amd64-i386-xl-raw blocked
test-amd64-amd64-xl-rtds blocked
test-armhf-armhf-xl-rtds blocked
test-amd64-i386-xl-qemuu-winxpsp3-vcpus1 blocked
test-amd64-amd64-libvirt-vhd blocked
test-armhf-armhf-xl-vhd blocked
test-amd64-amd64-xl-qemuu-winxpsp3 blocked
test-amd64-i386-xl-qemuu-winxpsp3 blocked
------------------------------------------------------------
sg-report-flight on osstest.xs.citrite.net
logs: /home/osstest/logs
images: /home/osstest/images
Logs, config files, etc. are available at
http://osstest.xs.citrite.net/~osstest/testlogs/logs
Test harness code can be found at
http://xenbits.xensource.com/gitweb?p=osstest.git;a=summary
broken-step build-armhf host-install(3)
broken-step build-amd64-xsm host-install(3)
broken-step build-amd64 host-install(3)
broken-step build-armhf-pvops host-install(3)
broken-step build-i386 host-install(3)
broken-step build-i386-pvops host-install(3)
broken-step build-i386-xsm host-install(3)
broken-step build-amd64-pvops host-install(3)
broken-step build-armhf-xsm host-install(3)
Push not applicable.
------------------------------------------------------------
commit 0f2fa73ba0ca19ebdaccf0d1785583d6601411b6
Merge: e3571ae 6bd7776
Author: Peter Maydell <peter.maydell@linaro.org>
Date: Mon Sep 19 11:23:20 2016 +0100
Merge remote-tracking branch 'remotes/mst/tags/for_upstream' into staging
virtio: fixes
virtio feature negotiation rework
Signed-off-by: Michael S. Tsirkin <mst@redhat.com>
# gpg: Signature made Fri 16 Sep 2016 19:54:54 BST
# gpg: using RSA key 0x281F0DB8D28D5469
# gpg: Good signature from "Michael S. Tsirkin <mst@kernel.org>"
# gpg: aka "Michael S. Tsirkin <mst@redhat.com>"
# Primary key fingerprint: 0270 606B 6F3C DF3D 0B17 0970 C350 3912 AFBE 8E67
# Subkey fingerprint: 5D09 FD08 71C8 F85B 94CA 8A0D 281F 0DB8 D28D 5469
* remotes/mst/tags/for_upstream:
MAINTAINERS: add virtio-* tests
virtio-bus: Plug devices after features are negotiated
Signed-off-by: Peter Maydell <peter.maydell@linaro.org>
# Conflicts:
# MAINTAINERS
commit 6bd7776cd0a9581cdb5e9dd40df8821a96e355d6
Author: Greg Kurz <groug@kaod.org>
Date: Fri Sep 9 10:31:20 2016 +0200
MAINTAINERS: add virtio-* tests
Except virtio-9p, all virtio-* tests are orphan. This patch tries to fix
it, according to the following logic:
- when the related subsystem has its own section in MAINTAINERS, the test
is added there
- otherwise it is added to the "parent" section (aka. SCSI, Network devices,
virtio)
Signed-off-by: Greg Kurz <groug@kaod.org>
Reviewed-by: Amit Shah <amit.shah@redhat.com>
Reviewed-by: Stefan Hajnoczi <stefanha@redhat.com>
Reviewed-by: Michael S. Tsirkin <mst@redhat.com>
Signed-off-by: Michael S. Tsirkin <mst@redhat.com>
commit d1b4259f1ab18af24e6a297edb6a8f71691f3256
Author: Maxime Coquelin <maxime.coquelin@redhat.com>
Date: Tue Sep 13 15:30:30 2016 +0200
virtio-bus: Plug devices after features are negotiated
Currently, devices are plugged before features are negotiated.
If the backend doesn't support VIRTIO_F_VERSION_1, the transport
needs to rewind some settings.
This is the case for CCW, for which a post_plugged callback had
been introduced, where max_rev field is just updated if
VIRTIO_F_VERSION_1 is not supported by the backend.
For PCI, implementing post_plugged would be much more
complicated, so it needs to know whether the backend supports
VIRTIO_F_VERSION_1 at plug time.
Currently, nothing is done for PCI. Modern capabilities get
exposed to the guest even if VIRTIO_F_VERSION_1 is not supported
by the backend, which confuses the guest.
This patch replaces existing post_plugged solution with an
approach that fits with both transports.
Features negotiation is performed before ->device_plugged() call.
A pre_plugged callback is introduced so that the transports can
set their supported features.
Cc: Michael S. Tsirkin <mst@redhat.com>
Cc: qemu-stable@nongnu.org
Tested-by: Cornelia Huck <cornelia.huck@de.ibm.com> [ccw]
Reviewed-by: Cornelia Huck <cornelia.huck@de.ibm.com>
Reviewed-by: Marcel Apfelbaum <marcel@redhat.com>
Signed-off-by: Maxime Coquelin <maxime.coquelin@redhat.com>
_______________________________________________
Xen-devel mailing list
Xen-devel@lists.xen.org
https://lists.xen.org/xen-devel
reply other threads:[~2016-09-19 21:28 UTC|newest]
Thread overview: [no followups] expand[flat|nested] mbox.gz Atom feed
Reply instructions:
You may reply publicly to this message via plain-text email
using any one of the following methods:
* Save the following mbox file, import it into your mail client,
and reply-to-all from there: mbox
Avoid top-posting and favor interleaved quoting:
https://en.wikipedia.org/wiki/Posting_style#Interleaved_style
* Reply using the --to, --cc, and --in-reply-to
switches of git-send-email(1):
git send-email \
--in-reply-to=osstest-67730-mainreport@xen.org \
--to=citrix-osstest@xenproject.org \
--cc=osstest-admin@xenproject.org \
--cc=xen-devel@lists.xensource.com \
/path/to/YOUR_REPLY
https://kernel.org/pub/software/scm/git/docs/git-send-email.html
* If your mail client supports setting the In-Reply-To header
via mailto: links, try the mailto: link
Be sure your reply has a Subject: header at the top and a blank line
before the message body.
This is a public inbox, see mirroring instructions
for how to clone and mirror all data and code used for this inbox;
as well as URLs for NNTP newsgroup(s).