xen-devel.lists.xenproject.org archive mirror
 help / color / mirror / Atom feed
From: Platform Team regression test user <citrix-osstest@xenproject.org>
To: xen-devel@lists.xensource.com, osstest-admin@xenproject.org
Subject: [ovmf baseline-only test] 67733: all pass
Date: Tue, 20 Sep 2016 16:00:03 +0100	[thread overview]
Message-ID: <osstest-67733-mainreport@xen.org> (raw)

This run is configured for baseline tests only.

flight 67733 ovmf real [real]
http://osstest.xs.citrite.net/~osstest/testlogs/logs/67733/

Perfect :-)
All tests in this flight passed as required
version targeted for testing:
 ovmf                 0a92ac8802704d7281ff7b9bc00ec4f893c3ece2
baseline version:
 ovmf                 490acf8908f797982f367bfeb4bdf3ebe0764e42

Last test of basis    67720  2016-09-15 17:19:47 Z    4 days
Testing same since    67733  2016-09-20 11:46:17 Z    0 days    1 attempts

------------------------------------------------------------
People who touched revisions under test:
  Hegde Nagaraj P <nagaraj-p.hegde@hpe.com>
  Jiaxin Wu <jiaxin.wu@intel.com>

jobs:
 build-amd64-xsm                                              pass    
 build-i386-xsm                                               pass    
 build-amd64                                                  pass    
 build-i386                                                   pass    
 build-amd64-libvirt                                          pass    
 build-i386-libvirt                                           pass    
 build-amd64-pvops                                            pass    
 build-i386-pvops                                             pass    
 test-amd64-amd64-xl-qemuu-ovmf-amd64                         pass    
 test-amd64-i386-xl-qemuu-ovmf-amd64                          pass    


------------------------------------------------------------
sg-report-flight on osstest.xs.citrite.net
logs: /home/osstest/logs
images: /home/osstest/images

Logs, config files, etc. are available at
    http://osstest.xs.citrite.net/~osstest/testlogs/logs

Test harness code can be found at
    http://xenbits.xensource.com/gitweb?p=osstest.git;a=summary


Push not applicable.

------------------------------------------------------------
commit 0a92ac8802704d7281ff7b9bc00ec4f893c3ece2
Author: Jiaxin Wu <jiaxin.wu@intel.com>
Date:   Wed Sep 14 14:43:45 2016 +0800

    NetworkPkg: Correct the DNS token return status by RCODE
    
    When HostNameToIp() and GeneralLookUp() are called with a invalid
    host name, RCODE (4 bit field is set as part of responses) error
    will returned in packet to identify the domain name referenced in
    the query does not exist. So, EFI_NOT_FOUND should be returned
    directly.
    
    Current implementation only check the RCODE in successful condition.
    Need update the code for more error check according to RFC 1035 4.1.1
    section.
    
    Cc: Hegde Nagaraj P <nagaraj-p.hegde@hpe.com>
    Cc: Fu Siyuan <siyuan.fu@intel.com>
    Cc: Ye Ting <ting.ye@intel.com>
    Contributed-under: TianoCore Contribution Agreement 1.0
    Signed-off-by: Jiaxin Wu <jiaxin.wu@intel.com>
    Tested-by: Hegde Nagaraj P <nagaraj-p.hegde@hpe.com>
    Reviewed-by: Sriram Subramanian <sriram-s@hpe.com>

_______________________________________________
Xen-devel mailing list
Xen-devel@lists.xen.org
https://lists.xen.org/xen-devel

                 reply	other threads:[~2016-09-20 15:00 UTC|newest]

Thread overview: [no followups] expand[flat|nested]  mbox.gz  Atom feed

Reply instructions:

You may reply publicly to this message via plain-text email
using any one of the following methods:

* Save the following mbox file, import it into your mail client,
  and reply-to-all from there: mbox

  Avoid top-posting and favor interleaved quoting:
  https://en.wikipedia.org/wiki/Posting_style#Interleaved_style

* Reply using the --to, --cc, and --in-reply-to
  switches of git-send-email(1):

  git send-email \
    --in-reply-to=osstest-67733-mainreport@xen.org \
    --to=citrix-osstest@xenproject.org \
    --cc=osstest-admin@xenproject.org \
    --cc=xen-devel@lists.xensource.com \
    /path/to/YOUR_REPLY

  https://kernel.org/pub/software/scm/git/docs/git-send-email.html

* If your mail client supports setting the In-Reply-To header
  via mailto: links, try the mailto: link
Be sure your reply has a Subject: header at the top and a blank line before the message body.
This is a public inbox, see mirroring instructions
for how to clone and mirror all data and code used for this inbox;
as well as URLs for NNTP newsgroup(s).