* [ovmf baseline-only test] 67741: all pass
@ 2016-09-22 0:23 Platform Team regression test user
0 siblings, 0 replies; only message in thread
From: Platform Team regression test user @ 2016-09-22 0:23 UTC (permalink / raw)
To: xen-devel, osstest-admin
This run is configured for baseline tests only.
flight 67741 ovmf real [real]
http://osstest.xs.citrite.net/~osstest/testlogs/logs/67741/
Perfect :-)
All tests in this flight passed as required
version targeted for testing:
ovmf 7419aedd93132f2dfc91e7bf3634fba7e0842c7b
baseline version:
ovmf b6e89910dd31e38944900ddc5cb4b86cf25241b4
Last test of basis 67735 2016-09-20 22:21:05 Z 1 days
Testing same since 67741 2016-09-21 20:18:01 Z 0 days 1 attempts
------------------------------------------------------------
People who touched revisions under test:
Liming Gao <liming.gao@intel.com>
jobs:
build-amd64-xsm pass
build-i386-xsm pass
build-amd64 pass
build-i386 pass
build-amd64-libvirt pass
build-i386-libvirt pass
build-amd64-pvops pass
build-i386-pvops pass
test-amd64-amd64-xl-qemuu-ovmf-amd64 pass
test-amd64-i386-xl-qemuu-ovmf-amd64 pass
------------------------------------------------------------
sg-report-flight on osstest.xs.citrite.net
logs: /home/osstest/logs
images: /home/osstest/images
Logs, config files, etc. are available at
http://osstest.xs.citrite.net/~osstest/testlogs/logs
Test harness code can be found at
http://xenbits.xensource.com/gitweb?p=osstest.git;a=summary
Push not applicable.
------------------------------------------------------------
commit 7419aedd93132f2dfc91e7bf3634fba7e0842c7b
Author: Liming Gao <liming.gao@intel.com>
Date: Mon Sep 12 15:28:47 2016 +0800
BaseTools: Update toolsetup.bat to set PYTHONPATH env to run python source
When python tool exe doesn't exist, toolsetup.bat will set up PYTHONPATH,
and set python tool dos script directory into system PATH.
Cc: Yonghong Zhu <yonghong.zhu@intel.com>
Cc: Michael Kinney <michael.d.kinney@intel.com>
Cc: Erik Bjorge <erik.c.bjorge@intel.com>
Contributed-under: TianoCore Contribution Agreement 1.0
Signed-off-by: Liming Gao <liming.gao@intel.com>
Reviewed-by: Yonghong Zhu <yonghong.zhu@intel.com>
Reviewed-by: Erik Bjorge <erik.c.bjorge@intel.com>
commit efb1e40f91353d763b02a40c41ad7a38f3d8ff90
Author: Liming Gao <liming.gao@intel.com>
Date: Mon Sep 12 15:25:07 2016 +0800
BaseTools: Update Python Makefile not to depend on PYTHON_FREEZER_PATH
If PYTHON_FREEZER_PATH is not set, Python tools will not be freeze.
Cc: Yonghong Zhu <yonghong.zhu@intel.com>
Cc: Michael Kinney <michael.d.kinney@intel.com>
Cc: Erik Bjorge <erik.c.bjorge@intel.com>
Contributed-under: TianoCore Contribution Agreement 1.0
Signed-off-by: Liming Gao <liming.gao@intel.com>
Reviewed-by: Yonghong Zhu <yonghong.zhu@intel.com>
Reviewed-by: Erik Bjorge <erik.c.bjorge@intel.com>
commit 71f5913eb9127305dc6ec63936c3c283975d86c0
Author: Liming Gao <liming.gao@intel.com>
Date: Mon Sep 12 15:22:49 2016 +0800
BaseTools: Update python tool to call external tools with shell true mode
Python tool may run from source as the dos batch files. So, update python
code to call external tools with shell true mode.
Cc: Yonghong Zhu <yonghong.zhu@intel.com>
Cc: Michael Kinney <michael.d.kinney@intel.com>
Cc: Erik Bjorge <erik.c.bjorge@intel.com>
Contributed-under: TianoCore Contribution Agreement 1.0
Signed-off-by: Liming Gao <liming.gao@intel.com>
Reviewed-by: Yonghong Zhu <yonghong.zhu@intel.com>
Reviewed-by: Erik Bjorge <erik.c.bjorge@intel.com>
commit bf069759efc4d3b76c66bf992c49d673bb292410
Author: Liming Gao <liming.gao@intel.com>
Date: Mon Sep 12 15:19:37 2016 +0800
BaseTools: Add Windows batch files to run python tool from Source
Add 13 windows batch files for every python tool.
Cc: Yonghong Zhu <yonghong.zhu@intel.com>
Cc: Michael Kinney <michael.d.kinney@intel.com>
Cc: Erik Bjorge <erik.c.bjorge@intel.com>
Contributed-under: TianoCore Contribution Agreement 1.0
Signed-off-by: Liming Gao <liming.gao@intel.com>
Reviewed-by: Yonghong Zhu <yonghong.zhu@intel.com>
Reviewed-by: Erik Bjorge <erik.c.bjorge@intel.com>
_______________________________________________
Xen-devel mailing list
Xen-devel@lists.xen.org
https://lists.xen.org/xen-devel
^ permalink raw reply [flat|nested] only message in thread
only message in thread, other threads:[~2016-09-22 0:23 UTC | newest]
Thread overview: (only message) (download: mbox.gz follow: Atom feed
-- links below jump to the message on this page --
2016-09-22 0:23 [ovmf baseline-only test] 67741: all pass Platform Team regression test user
This is a public inbox, see mirroring instructions
for how to clone and mirror all data and code used for this inbox;
as well as URLs for NNTP newsgroup(s).