* [ovmf baseline-only test] 67750: all pass
@ 2016-09-23 6:25 Platform Team regression test user
0 siblings, 0 replies; only message in thread
From: Platform Team regression test user @ 2016-09-23 6:25 UTC (permalink / raw)
To: xen-devel, osstest-admin
This run is configured for baseline tests only.
flight 67750 ovmf real [real]
http://osstest.xs.citrite.net/~osstest/testlogs/logs/67750/
Perfect :-)
All tests in this flight passed as required
version targeted for testing:
ovmf 85b88deb18857af261c655dfa833de17b19d7163
baseline version:
ovmf 7f1bf51bdbcaf9dd46f77cf4bd5e69a294dd995e
Last test of basis 67747 2016-09-22 16:49:38 Z 0 days
Testing same since 67750 2016-09-23 02:47:15 Z 0 days 1 attempts
------------------------------------------------------------
People who touched revisions under test:
Tapan Shah <tapandshah@hpe.com>
jobs:
build-amd64-xsm pass
build-i386-xsm pass
build-amd64 pass
build-i386 pass
build-amd64-libvirt pass
build-i386-libvirt pass
build-amd64-pvops pass
build-i386-pvops pass
test-amd64-amd64-xl-qemuu-ovmf-amd64 pass
test-amd64-i386-xl-qemuu-ovmf-amd64 pass
------------------------------------------------------------
sg-report-flight on osstest.xs.citrite.net
logs: /home/osstest/logs
images: /home/osstest/images
Logs, config files, etc. are available at
http://osstest.xs.citrite.net/~osstest/testlogs/logs
Test harness code can be found at
http://xenbits.xensource.com/gitweb?p=osstest.git;a=summary
Push not applicable.
------------------------------------------------------------
commit 85b88deb18857af261c655dfa833de17b19d7163
Author: Tapan Shah <tapandshah@hpe.com>
Date: Wed Sep 21 14:30:15 2016 -0700
ShellPkg: Remove current working dir path ".;" from 'path' variable
As per ECR 1349, latest UEFI Shell 2.2 specification has removed current working directory
path ".;" from a default 'path' environment variable as current working directory always
search first in system.
Contributed-under: TianoCore Contribution Agreement 1.0
Signed-off-by: Tapan Shah <tapandshah@hpe.com>
Reviewed-by: Jaben Carsey <jaben.carsey@intel.com>
commit 583448b441650f9a7cb29a320d52db96df81e043
Author: Tapan Shah <tapandshah@hpe.com>
Date: Thu Sep 22 12:12:47 2016 -0700
ShellPkg: Expand special output file to include "NULL" and case insensitive
As per ECR 1349 change in UEFI Shell Specification 2.2, expanding
a special output file name to include "NULL". Previously it only
supported "NUL" as a special output file and it was case sensitive.
With this change both "NUL" and "NULL" are special output file and
checked as case insensitive.
Contributed-under: TianoCore Contribution Agreement 1.0
Signed-off-by: Tapan Shah <tapandshah@hpe.com>
Reviewed-by: Jaben Carsey <jaben.carsey@intel.com>
commit 38707d76fc8fd07071b1c47c49d116c9445aa619
Author: Tapan Shah <tapandshah@hpe.com>
Date: Thu Sep 22 13:16:18 2016 -0700
ShellPkg: Add Persistent Memory support in 'memmap' command
As per ECR 1416, latest UEFI Shell 2.2 Specification has added Persistent
Memory support in 'memmap' command.
Contributed-under: TianoCore Contribution Agreement 1.0
Signed-off-by: Tapan Shah <tapandshah@hpe.com>
Reviewed-by: Jaben Carsey <jaben.carsey@intel.com>
commit 339a2b935e7dd40525e8d71f1b80b8ba1be83215
Author: Tapan Shah <tapandshah@hpe.com>
Date: Thu Sep 22 12:49:12 2016 -0700
ShellPkg: Add '-nc' flag support in 'disconnect' command
As per ECR 1416, latest UEFI Shell 2.2 specification:
Define a behavior where 'disconnect -r' will disconnect drivers
from all devices but it will reconnect all consoles.
If -nc flag is used (e.g. 'disconnect -r -nc') then disconnect drivers
from all devices and don't reconnect consoles.
Contributed-under: TianoCore Contribution Agreement 1.0
Signed-off-by: Tapan Shah <tapandshah@hpe.com>
Reviewed-by: Jaben Carsey <jaben.carsey@intel.com>
_______________________________________________
Xen-devel mailing list
Xen-devel@lists.xen.org
https://lists.xen.org/xen-devel
^ permalink raw reply [flat|nested] only message in thread
only message in thread, other threads:[~2016-09-23 6:25 UTC | newest]
Thread overview: (only message) (download: mbox.gz follow: Atom feed
-- links below jump to the message on this page --
2016-09-23 6:25 [ovmf baseline-only test] 67750: all pass Platform Team regression test user
This is a public inbox, see mirroring instructions
for how to clone and mirror all data and code used for this inbox;
as well as URLs for NNTP newsgroup(s).